Workbook

Sheet Penilaian
A1: PENILAIAN TINGKAT PENCAPAIAN KINERJA KESELAMATAN PERTAMBANGAN (KP)
A2: Nama Perusahaan / Divisi | D2: Tanggal Penilaian
A3: Periode Penilaian | D3: Tim Penilai
A5: Indikator | C5: Parameter | D5: Nilai Item | E5: Nilai Maksimum | F5: Nilai Capaian Parameter | G5: Nilai Capaian Indikator | H5: Tingkat Pencapaian
A6: Partisipasi Pekerja Tambang | B6: A. Kepedulian dan Perilaku Individu terhadap Risiko KP | E6: 0.05 | F6: =(SUM(D7:D11)/(5*COUNTIF(D7:D11,"<>NA"))*E6) -> 0.05
C7: 1.1.1 Kesadaran Pekerja terhadap Risiko KP | D7: =Rubrik!J4 -> 5
C8: 1.1.2 Komitmen dan Inisiatif Pekerja dalam Pengelolaan KP | D8: =Rubrik!J5 -> 5
C9: 1.1.3 Kedisiplinan Pekerja di Dalam Pekerjaan dan di Luar Pekerjaan | D9: =Rubrik!J6 -> 5
C10: 1.1.4 Aktualisasi Nilai-Nilai inti Perusahaan (Core Values) oleh Pekerja | D10: =Rubrik!J7 -> 5
C11: 1.1.5 Aktualisasi Aturan Emas KP (Golden Rules) Perusahaan oleh Pekerja | D11: =Rubrik!J8 -> 5
B12: B. Keterlibatan Pekerja dalam Pengelolaan KP | E12: 0.1 | F12: =(SUM(D13:D36)/(5*COUNTIF(D13:D36,"<>NA"))*E12) -> 0.1
C13: 1.2.1 Kehadiran Pekerja dalam Pekerjaan di Hari Kerja | D13: =Rubrik!J10 -> 5
C14: 1.2.2 Kehadiran Pekerja dalam Kegiatan KP | D14: =Rubrik!J11 -> 5
C15: 1.2.3 Peran Pekerja dalam Kegiatan KP | D15: =Rubrik!J12 -> 5
C16: 1.2.4 Keterlibatan Perwakilan Departemen/Bagian/Seksi dalam Tim Manajemen Risiko KP | D16: =Rubrik!J13 -> 5
C17: 1.2.5 Peran Perwakilan Departemen/Bagian/Seksi dalam Tim Manajemen Risiko KP | D17: =Rubrik!J14 -> 5
C18: 1.2.6 Keterlibatan Pekerja Non Pengawas dalam Manajemen Risiko KP | D18: =Rubrik!J15 -> 5
C19: 1.2.7 Peran Pekerja Non Pengawas dalam Manajemen Risiko KP | D19: =Rubrik!J16 -> 5
C20: 1.2.8 Keterlibatan Komite KP dalam Penyusunan TSP KP | D20: =Rubrik!J17 -> 5
C21: 1.2.9 Peran Anggota Komite KP dalam Penyusunan TSP KP | D21: =Rubrik!J18 -> 5
C22: 1.2.10 Peran Komite KP dalam Pemantauan Pelaksanaan dan Perkembangan TSP KP | D22: =Rubrik!J19 -> 5
C23: 1.2.11 Kehadiran dan Keterlibatan Ketua Komite KP dalam Rapat Komite KP | D23: =Rubrik!J20 -> 5
C24: 1.2.12 Peran Ketua Komite KP dalam Rapat Komite KP | D24: =Rubrik!J21 -> 5
... C36: 1.2.24 Efektivitas Partisipasi Pekerja | D36: =Rubrik!J33 -> 5
A37: Total Nilai Indikator Partisipasi Pekerja Tambang | E37: =SUM(E6,E12) -> 0.15 | G37: =SUM(F6,F12) -> 0.15 | H37: =IF(G37<0.07,"Tingkat Dasar",IF(G37<0.1,"Tingkat Reaktif",IF(G37<0.12,"Tingkat Terencana",IF(G37<0.14,"Tingkat Proaktif","Tingkat Resilient")))) -> Tingkat Resilient
A38: Tanggung Jawab Pimpinan Unit Kerja | B38: A. Implementasi Kebijakan KP | E38: 0.05 | F38: =(SUM(D39:D42)/(5*COUNTIF(D39:D42,"<>NA"))*E38) -> 0.05
C39: 2.1.1 Upaya Internalisasi Nilai-Nilai Inti (Core Values) Perusahaan oleh Manajemen | D39: =Rubrik!J35 -> 5
C40: 2.1.2 Upaya Internalisasi Aturan Emas KP (Golden Rules) Perusahaan oleh Manajemen | D40: =Rubrik!J36 -> 5
C41: 2.1.3 Efektivitas Kebijakan KP | D41: =Rubrik!J37 -> 5
C42: 2.1.4 Persepsi Pekerja terhadap Komitmen Manajemen dalam Penerapan Kebijakan KP | D42: =Rubrik!J38 -> 5
B43: B. Kepemimpinan dan Komitmen KP | E43: 0.05 | F43: =(SUM(D44:D74)/(5*COUNTIF(D44:D74,"<>NA"))*E43) -> 0.05
C44: 2.2.1 Persepsi Manajemen Puncak terhadap Peran KP | D44: =Rubrik!J40 -> 5
C45: 2.2.2 Persepsi Pekerja terhadap Kepemimpinan dan Komitmen Manajemen | D45: =Rubrik!J41 -> 5
C46: 2.2.3 Ketersediaan Angggaran KP dalam RKAB | D46: =Rubrik!J42 -> 5
C47: 2.2.4 Realisasi Anggaran KP dalam RKAB | D47: =Rubrik!J43 -> 5
C48: 2.2.5 Kecepatan Manajemen Puncak dalam Merespon Isu KP | D48: =Rubrik!J44 -> 5
C49: 2.2.6 Jumlah Kehadiran Manajemen Puncak pada Site | D49: =Rubrik!J45 -> 5
C50: 2.2.7 Peran Manajemen Puncak dalam kunjungan Site | D50: =Rubrik!J46 -> 5
C51: 2.2.8 Efektivitas Rapat Tinjauan Manajemen | D51: =Rubrik!J47 -> 5
C52: 2.2.9 Peran Pimpinan Tertinggi pada Rapat Tinjauan Manajemen | D52: =Rubrik!J48 -> 5
C53: 2.2.10 Dukungan Manajemen untuk Inovasi dan Peningkatan Kinerja KP | D53: =Rubrik!J49 -> 5
C54: 2.2.11 Pemberian Penghargaan atas Kinerja KP dari Pekerja | D54: =Rubrik!J50 -> 5
C55: 2.2.12 Pemberian Sanksi atas Pelanggaran KP dari Pekerja | D55: =Rubrik!J51 -> 5
... C74: 2.2.31 Peran Pengawas Operasional/Teknis dalam Manajemen Risiko KP | D74: =Rubrik!J70 -> 5
B75: C. Kepatuhan dan Penegakan Peraturan KP | E75: 0.05 | F75: =(SUM(D76:D83)/(5*COUNTIF(D76:D83,"<>NA"))*E75) -> 0.05
C76: 2.3.1 Inisiatif dan Kesadaran untu Pemenuhan Persyaratan Perundangan dan Persyaratan Lainnya yang Terkait Aspek KP | D76: =Rubrik!J72 -> 5
C77: 2.3.2 Efektivitas Pemenuhan Ketentuan Peraturan Perundang-undangan dan Persyaratan Lainnya yang Terkait | D77: =Rubrik!J73 -> 5
C78: 2.3.3 Respon Manajemen Perusahaan terhadap undangan dari Instansi Pembina Sektor | D78: =Rubrik!J74 -> 5
C79: 2.3.4 Kepatuhan Perusahaan dalam Menindaklanjuti Arahan Tertulis dari Instansi Pembina Sektor melalu Surat Edaran KaIT | D79: =Rubrik!J75 -> 5
C80: 2.3.5 Kepatuhan Perusahaan dalam Menindaklanjuti Hasil Pembinaan dan Pengawasan oleh Inspektur Tambang | D80: =Rubrik!J76 -> 5
C81: 2.3.6 Kepatuhan KTT dalam Pengelolaan Administrasi KP | D81: =Rubrik!J77 -> 5
C82: 2.3.7 Kepatuhan KTT Pelaporan Khusus atas Kasus KP kepada KaIT | D82: =Rubrik!J78 -> 5
C83: 2.3.8 Kepatuhan Pimpinan Departemen/Bagian dalam menindaklanjuti Arahan/Instruksi KTT terkait pemenuhan Peraturan KP | D83: =Rubrik!J79 -> 5
B84: D. Penetapan Peran, Tanggung Jawab dan Kewenangan dalam KP | E84: 0.04 | F84: =(SUM(D85:D96)/(5*COUNTIF(D85:D96,"<>NA"))*E84) -> 0.04
C85: 2.4.1 Kemandirian Pengelolaan KP | D85: =Rubrik!J81 -> 5
C86: 2.4.2 Ketersediaan KTT | D86: =Rubrik!J82 -> 5
C87: 2.4.3 Ketersediaan PJO | D87: =Rubrik!J83 -> 5
C88: 2.4.4 Pelaksanaan Tugas dan Tanggung Jawab KTT | D88: =Rubrik!J84 -> 5
C89: 2.4.5 Ketersediaan TTPYB | D89: =Rubrik!J85 -> 5
C90: 2.4.6 Ketersediaan Pengawas Operasional dan Pengawas Teknis | D90: =Rubrik!J86 -> 5
C91: 2.4.7 Pelaksanaan Jumlah Tugas dan Tanggung Jawab Pengawas Operasional dan Pengawas Teknis | D91: =Rubrik!J87 -> 5
C92: 2.4.8 Ketersediaan dan Kewenangan Bagian K3 dan Bagian KO Pertambangan | D92: =Rubrik!J88 -> 5
C93: 2.4.9 Penetapan Tanggung Jawab terkait KP untuk Pekerja | D93: =Rubrik!J89 -> 5
C94: 2.4.10 Pemberian Dukungan dan Kewenangan kepada Pekerja untuk Menyatakan Keberatan Bekerja jika Syarat KP Diragukan | D94: =Rubrik!J90 -> 5
C95: 2.4.11 Penerapan Mekanisme Pemilihan Perwakilan Pekerja pada Komite KP | D95: =Rubrik!J91 -> 5
C96: 2.4.12 Persepsi Manajemen terhadap Pengelolaan Pekerja | D96: =Rubrik!J92 -> 5
B97: E. Manajemen Strategi dan Operasi KP | E97: 0.04 | F97: =(SUM(D98:D101)/(5*COUNTIF(D98:D101,"<>NA"))*E97) -> 0.04
C98: 2.5.1 Formulasi Strategi KP | D98: =Rubrik!J94 -> 5
C99: 2.5.2 Penjabaran dan Penyelarasan Strategi Pengelolaan KP | D99: =Rubrik!J95 -> 5
C100: 2.5.3 Ruang Lingkup Pemantauan dan Pengukuran Kinerja Pengelolaan KP | D100: =Rubrik!J96 -> 5
C101: 2.5.4 Efektivitas Pemantauan dan Pengukuran Kinerja Pengelolaan KP | D101: =Rubrik!J97 -> 5
B102: F. Informasi, Komunikasi, Pendampingan, Konsultasi KP | E102: 0.04 | F102: =(SUM(D103:D120)/(5*COUNTIF(D103:D120,"<>NA"))*E102) -> 0.04
C103: 2.6.1 Kesesuaian Induksi KP | D103: =Rubrik!J99 -> 5
C104: 2.6.2 Jumlah Pertemuan KP | D104: =Rubrik!J100 -> 5
C105: 2.6.3 Kualitas Pertemuan KP | D105: =Rubrik!J101 -> 5
C106: 2.6.4 Jumlah Kampanye KP | D106: =Rubrik!J102 -> 5
C107: 2.6.5 Efektivitas Kampanye KP | D107: =Rubrik!J103 -> 5
C108: 2.6.6 Efektivitas Komunikasi KP Eksternal dengan Mitra Kerja (Customer, Kontrator, Sub Kontraktor, dll) | D108: =Rubrik!J104 -> 5
C109: 2.6.7 Efektivitas Komunikasi Vertikal antara Pimpinan Unit Kerja dengan Anggota | D109: =Rubrik!J105 -> 5
C110: 2.6.8 Efektivitas Komunikasi Horisontal antar Rekan Kerja | D110: =Rubrik!J106 -> 5
C111: 2.6.9 Efektivitas Komunikasi antar Ketua Kelompok Kerja | D111: =Rubrik!J107 -> 5
C112: 2.6.10 Efektivitas Komunikasi antar Penanggung Jawab Gilir Kerja/Shift | D112: =Rubrik!J108 -> 5
C113: 2.6.11 Kehandalan Fasilitas dan Media Penunjang Komunikasi KP | D113: =Rubrik!J109 -> 5
C114: 2.6.12 Jumlah Mentoring, Coaching, dan Councelling untuk Pekerja dari Pimpinan Tim Kerja | D114: =Rubrik!J110 -> 5
... C120: 2.6.18 Efektivitas Komunikasi KP | D120: =Rubrik!J116 -> 5
B121: G. Pengendalian Mutu KP dalam Kegiatan Operasional | E121: 0.04 | F121: =(SUM(D122:D137)/(5*COUNTIF(D122:D137,"<>NA"))*E121) -> 0.04
C122: 2.7.1 Jumlah Penetapan Tata Cara Kerja Baku untuk Operasi Kerja | D122: =Rubrik!J118 -> 5
C123: 2.7.2 Efektivitas Tata Cara Kerja Baku untuk Operasi Kerja | D123: =Rubrik!J119 -> 5
C124: 2.7.3 Kesesuaian Penerapan Pemeriksaan Kesiapan Operasional Harian | D124: =Rubrik!J120 -> 5
C125: 2.7.4 Kesesuaian Penetapan Rencana Kerja Operasional Harian | D125: =Rubrik!J121 -> 5
C126: 2.7.5 Kesesuaian Pemberian izin Masuk Lokasi Pertambangan | D126: =Rubrik!J122 -> 5
C127: 2.7.6 Kesesuaian Pemberian Lisensi dan Surat Izin Pengoperasian Peralatan | D127: =Rubrik!J123 -> 5
C128: 2.7.7 Kesesuaian Pemberian Izin Kerja Khusus | D128: =Rubrik!J124 -> 5
C129: 2.7.8 Kesesuaian Penetapan Area, Aktivitas, dan Kontrol Kritis dalam aspek KP | D129: =Rubrik!J125 -> 5
C130: 2.7.9 Kesuaian Penetapan Distribusi dan Komposisi Area Pengawasan | D130: =Rubrik!J126 -> 5
C131: 2.7.10 Jumlah Inspeksi, Pemeriksaan, Pengujian oleh Pengawas Operasional Langsung | D131: =Rubrik!J127 -> 5
C132: 2.7.11 Kesuaian dan Kehandalan Hasil Inspeksi, Pemeriksaan, Pengujian oleh Pengawas Operasional Langsung | D132: =Rubrik!J128 -> 5
C133: 2.7.12 Jumlah Inspeksi, Pemeriksaan, Pengujian oleh Pengawas Operasional Jenjang Menengah | D133: =Rubrik!J129 -> 5
... C137: 2.7.16 Efektivitas Inspeksi KP | D137: =Rubrik!J133 -> 5
B138: H. Penjaminan Mutu KP melalui Audit internal SMKP | E138: 0.04 | F138: =(SUM(D139:D143)/(5*COUNTIF(D139:D143,"<>NA"))*E138) -> 0.04
...

Sheet Rubrik
A2: Indikator | C2: Parameter | D2: 1 | E2: 2 | F2: 3 | G2: 4 | H2: 5 | I2: Metode Pengukuran | J2: Nilai Item | K2: Keterangan | L2: Dokumen Bukti
A3: =Penilaian!A6 -> Partisipasi Pekerja Tambang | B3: =Penilaian!B6 -> A. Kepedulian dan Perilaku Individu terhadap Risiko KP
C4: =Penilaian!C7 -> 1.1.1 Kesadaran Pekerja terhadap Risiko KP | D4: Pekerja tidak memahami bahaya dan risiko KP serta pengendaliannya di wilayah kerjanya | E4: pekerja memahami sebagian bahaya dan risiko KP serta pengendaliannya di wilayah kerjanya | F4: pekerja memahami seluruh bahaya dan risiko KP serta pengendaliannya di wilayah kerjanya | G4: pekerja memahami seluruh bahaya dan risiko KP serta pengendaliannya di wilayah kerjanya dan konsisten dalam bekerja secara aman | H4: pekerja memahami seluruh bahaya dan risiko KP serta pengendaliannya di wilayah kerjanya dan telah memiliki kemampuan kewaspadaan situasi kerja, serta konsisten dalam bekerja secara aman dan beperan aktif dalam perbaikan dan peningkatan upaya pengendalian bahaya dan risiko | I4: tinjauan dokumen pengujian observasi | J4: 5
C5: =Penilaian!C8 -> 1.1.2 Komitmen dan Inisiatif Pekerja dalam Pengelolaan KP | D5: pekerja bersikap apatis dalam pengelolaan KP dan mengupayakan keselamatan individu dengan naluri, melaksanakan KP karena terpaksa namun tidak mengetahui manfaatnya | E5: pekerja melaksanakan KP sudah mengetahui manfaat pengelolaan KP, namun sepenuhnya bergantung pada perusahaan tempat mereka bekerja untuk menjaga mereka tetap selamat | F5: pekerja menjaga kesealamatan dan kesehatan diri mereka secara mandiri untuk komitmen kepatuhan terhadap norma | G5: pekerja berkontribusi pada keselamatan dan kesehatan orang lain (interdependent) dalam tim kerja dengan komitmen berkelanjutan | H5: pekerja berkontribusi pada keselamatan dan kesehatan orang lain dalam skala organisasi, menjalankannya bagian dari gaya hidup, memiliki ikatan emosional yang melekat untuk melibatkan diri untuk peningkatan pengelolaan KP organisasi (komitmen afektif) | I5: tinjauan dokumen kuesioner observasi | J5: 5
C6: =Penilaian!C9 -> 1.1.3 Kedisiplinan Pekerja di Dalam Pekerjaan dan di Luar Pekerjaan | D6: pekerja menjadi disiplin hanya pada saat ada pengawasan bergantung pada perintah | E6: pekerja menjadi disiplin dalam penerapan KP jika sudah terjadi kasus KP, tidak konsisten | F6: pekerja disiplin mengikuti peraturan perusahaaan ketika bekerja di dalam tim kerja, di area kerja dan/atau proyek, dan di jam kerja. Tidak konsisten disiplin ketika bekerja secara individu | G6: pekerja disiplin mengikuti peraturan perusahaan termasuk ketika memasuki area kerja di area kerjanya. Kedisiplinan telah dilakukan secara individu, komunal, maupun kolektif, namun masih ditemukan pelanggaran minor | H6: tidak ditemukan pelangggaran atas norma / prosedur / standar / peraturan perusahaan. Pekerja juga disiplin menjaga keselamatan dan kesehatan kerja di luar jam kerja dan wilayah kerja | I6: tinjauan dokumen observasi FGD | J6: 5
C7: =Penilaian!C10 -> 1.1.4 Aktualisasi Nilai-Nilai inti Perusahaan (Core Values) oleh Pekerja | D7: pekerja tidak memahami nilai-nilai inti perusahaan | E7: belum seluruh pekerja memahami nilai-nilai inti perusahaan | F7: seluruh pekerja memahami nilai-nilai inti perusahaan | G7: seluruh pekerja memahami nilai-nilai inti perusahaan namun belum seluruh pekerja mampu mengaktualisasikannya dalam pekerjaannya | H7: seluruh pekerja memahami nilai-nilai inti perusahaan dan mampu mengakutalisasikannya dalam pekerjaannya | I7: tinjauan dokumen wawancara/FGD | J7: 5
C8: =Penilaian!C11 -> 1.1.5 Aktualisasi Aturan Emas KP (Golden Rules) Perusahaan oleh Pekerja | D8: pekerja tidak memahami aturan emas KP Perusahaan | E8: belum seluruh pekerja memahami aturanemas KP perusahaan | F8: seluruh pekerja memahami aturan emas KP Perusahaan | G8: seluruh pekerja memahami aturan emas KP namun belum seluruh pekerja mampu mengaktualisasikannya dalam pekerjaannya | H8: seluruh pekerja memahami aturan emas KP dan mampu mengakutalisasikannya dalam pekerjaannya | I8: tinjauan dokumen wawancara/FGD | J8: 5
B9: =Penilaian!B12 -> B. Keterlibatan Pekerja dalam Pengelolaan KP
C10: =Penilaian!C13 -> 1.2.1 Kehadiran Pekerja dalam Pekerjaan di Hari Kerja | D10: kehadiran pekerja dalam pekerjaan di hari kerja (masuk kerja) 2 tahun terakhir rata-rata < 50% dari jumlah pekerja yang seharusnya masuk | E10: kehadiran pekerja dalam pekerjaan di hari kerja (masuk kerja) 2 tahun terakhir rata-rata 50-69% dari jumlah pekerja yang seharusnya masuk | F10: kehadiran pekerja dalam pekerjaan di hari kerja (masuk kerja) 2 tahun terakhir rata-rata 70-79% dari jumlah pekerja yang seharusnya masuk | G10: kehadiran pekerja dalam pekerjaan di hari kerja (masuk kerja) 2 tahun terakhir rata-rata <80-94% dari jumlah pekerja yang seharusnya masuk | H10: kehadiran pekerja dalam pekerjaan di hari kerja (masuk kerja) 2 tahun terakhir rata-rata 95-100% dari jumlah pekerja yang seharusnya masuk | I10: tinjauan dokumen | J10: 5
C11: =Penilaian!C14 -> 1.2.2 Kehadiran Pekerja dalam Kegiatan KP | D11: tingkat kehadiran pekerja rata-rata < 50% dari target/jumlah yang seharusnya hadir | E11: tingkat kehadiran pekerja rata-rata 50-69% dari target/jumlah yang seharusnya hadir | F11: tingkat kehadiran pekerja rata-rata 70-79% dari target/jumlah yang seharusnya hadir | G11: tingkat kehadiran pekerja rata-rata 80-99% dari target/jumlah yang seharusnya hadir | H11: tingkat kehadiran pekerja rata-rata 100% dari target/jumlah yang seharusnya hadir | I11: tinjauan dokumen | J11: 5
C12: =Penilaian!C15 -> 1.2.3 Peran Pekerja dalam Kegiatan KP | D12: sebagian besar pekerja hanya menghadiri kegiatan KP yang menjadi kewajibannya | E12: sebagian besar pekerja terlibat dan hanya berkontribusi dalam kegiatan KP apabila ada isue dengan pekerjaannya atau ketika diminta oleh pimpinan unit kerja | F12: sebagian besar pekerja berpartisipasi dalam kegiatan KP lingkup unit kerjanya sesuai dengan tanggung jawab yang ditetapkan | G12: sebagian besar pekerja berperan aktif memberikan input konstruktif, umpan balik, informasi dan/atau dukungan dalam kegiatan KP untuk lingkup unit kerjanya dan unit lain yang terkait dalam departemen | H12: sebagian besar pekerja berpartisipasi secara aktif dalam kegiatan KP lingkup organisasi, dan mampu berkolaborasi untuk mencapai tujuan KP | I12: kuesioner wawancara/FGD | J12: 5
C13: =Penilaian!C16 -> 1.2.4 Keterlibatan Perwakilan Departemen/Bagian/Seksi dalam Tim Manajemen Risiko KP | D13: tidak terdapat tim manajemen risiko KP yang ditunjuk secara formal oleh perusahaan | E13: tim manajemen risiko KP beranggotakan bagian K3 dan bagian KO | F13: tim manajemen risiko KP beranggotakan bagian K3 dan bagian KO serta perwakilan bagian operasional sebesar <80% dari total jumlah bagian operasional | G13: tim manajemen risiko KP beranggotakan bagian K3 dan bagian KO serta perwakilan bagian operasional sebesar 80-99% dari total jumlah bagian operasional | H13: tim manajemen risiko KP beranggotakan bagian K3 dan bagian KO serta perwakilan seluruh bagian operasional | I13: tinjauan dokumen | J13: 5
C14: =Penilaian!C17 -> 1.2.5 Peran Perwakilan Departemen/Bagian/Seksi dalam Tim Manajemen Risiko KP | D14: sebagian besar perwakilan departemen/bagian/seksi tidak berperan dalam tim manajemen risiko KP | E14: sebagian besar perwakilan departemen/bagian/seksi yang dipilih melaksanakan tanggung jawabnya dalam tim manajemen risiko KP hanya apabila ada isue dengan pekerjaannya atau ketika diminta oleh KTT/PJO | F14: sebagian besar perwakilan departemen/bagian/seksi yang dipilih melaksanakan tanggung jawabnya dalam tim manajemen risiko KP sesuai dengan tanggung jawab yang ditetapkan | G14: sebagian besar perwakilan departemen/bagian/seksi yang dipilih berperan aktif memberikan input konsruktif, umpan balik, informasi dan/atau dikungan yang dibutuhan dalam kegiatan tim manajemen risiko KP | H14: seluruh perwakilan departemen/bagian/seksi yang dipilih mampu untuk saling menyelaraskan pemahaman, melakukan pertukaran informasi yang tepat, dan mampu berkolaborasi dalam tim untuk mencapai tujuan manajemen risiko KP lingkup organisasi | I14: kuesioner wawancara/FGD | J14: 5
C15: =Penilaian!C18 -> 1.2.6 Keterlibatan Pekerja Non Pengawas dalam Manajemen Risiko KP | D15: pekerja non pengawas tidak terlibat dalam manajemen risiko. Seluruhnya dilakukan oleh Pengawas Operasional | E15: pengawas hanya melibatkan <70% dari total anggotanya dalam proses manajemen risiko aktivitas yang menjadi tanggung jawabnya | F15: pengawas melibatkan 70-79% dari total anggotanya dalam proses manajemen risiko aktivitas yang menjadi tanggung jawabnya | G15: pengawas melibatkan 80-99% dari total anggotanya dalam proses manajemen risiko aktivitas yang menjadi tanggung jawabnya | H15: pengawas melibatkan seluruh anggota dalam proses manajemen risiko aktivitas yang menjadi tanggung jawabnya | I15: wawancara FGD | J15: 5
C16: =Penilaian!C19 -> 1.2.7 Peran Pekerja Non Pengawas dalam Manajemen Risiko KP | D16: pekerja non pengawas tidak berperan/berkontribusi dalam manajemen risiko KP | E16: sebagian besar pekerja non pengawas melaksanakan tanggung jawabnya dalam manajemen risiko KP apabila ada isu dengan pekerjaannya atau ketika diminta oleh pimpinan unit/tim kerjanya | F16: sebagian besar pekerja non pengawas berpartisipasi dalam manajemen risiko KP sesuai dengan tanggung jawabnya | G16: sebagian besar pekerja non pengawas berperan aktif memberikan input konstruktif, umpan balik, informasi dan/atau dukungan yang dibutuhkan dalam peningkatan kinerja manajemen risiko KP | H16: seluruh pekerja non pengawas mampu memberikan informasi dan dukungan yang tepat, berkolaborasi dalam tim untuk mencapai tujuan manajemen risiko KP lingkup organisasi | I16: wawancara FGD | J16: 5
C17: =Penilaian!C20 -> 1.2.8 Keterlibatan Komite KP dalam Penyusunan TSP KP | D17: komite KP tidak terlibat dalam penyusunan TSP KP | E17: hanya ketua komite KP yang terlibat dalam penyusunan TSP KP | F17: ketua dan sekretaris komite KP terlibat dalam penyusunan TSP KP | G17: ketua, sekretaris, dan beberapa perwakilan departemen/bagian dalam komite KP terlibat dalam penyusunan TSP KP | H17: ketua, sekretaris, dan seluruh perwakilan departemen/bagian dalam komite KP terlibat dalam penyusunan TSP KP | I17: tinjauan dokumen | J17: 5
C18: =Penilaian!C21 -> 1.2.9 Peran Anggota Komite KP dalam Penyusunan TSP KP | D18: sebagian besar anggota komite KP tidak berperan/berkontribusi dalam penyusunan TSP KP | E18: sebagian besar anggota komite KP hanay sekedar hadir dalam rapat/diskusi penyusunan TSP KP namaun tidak berkontribusi / berpartisipasi aktif | F18: sebagian besar anggota komite KP berpartisipasi dalam rapat/diskusi penyusunan TSP KP sesuai dengan tanggung jawab yang ditetapkan | G18: sebagian besar anggota komite KP berperan aktif memberikan input konstruktif dalam rapat/diskusi penyusunan TSP KP | H18: seluruh anggota komite KP saling menyelaraskan pemahaman, menyepakati trade-off, dan mampu berkolaborasi dalam rapat/diskusi penyusunan TSP KP untuk mencapai tujuan yang diharapkan | I18: wawancara FGD | J18: 5
C19: =Penilaian!C22 -> 1.2.10 Peran Komite KP dalam Pemantauan Pelaksanaan dan Perkembangan TSP KP | D19: komite KP tidak berperan/berkontribusi dalam pemantauan dan evaluasi pelaksanaan dan perkembangan TSP KP | E19: komite KP ikut terlibat dalam pemantauan dan evaluasi pelaksanaan dan perkembangan TSP KP hanya ketiak terjadi permasalahan atau kasus KP | F19: komite KP terlibat dalam pemantauan dan evaluasi pelaksanaan dan perkembangan TSP KP secara kontinu dan terencana | G19: komite KP mampu menindaklanjuti pelaksanaan dan perkembangan TSP KP yang belum sesuai berdasarkan hsail pemantauan dan evaluasi | H19: komite KP mampu menindaklanjuti pelaksanaan dan perkembangan TSP KP yang belum sesuai dan yang telah sesuai berdasarkan hasil pemantauan dan evaluasi , secara tepat dan pada waktu yang tepat | I19: wawancara FGD | J19: 5
C20: =Penilaian!C23 -> 1.2.11 Kehadiran dan Keterlibatan Ketua Komite KP dalam Rapat Komite KP | D20: ketua komite KP tidak pernah hadir dalam rapat komite KP selama periode satu tahun | E20: ketua komite KP hadir <70% dari total rapat komite KP selama periode satu tahun | F20: ketua komite KP hadir 70-79% dari total rapat komite KP selama periode satu tahun | G20: ketua komite KP hadir 80-99% dari total rapat komite KP selama periode satu tahun | H20: ketua komite KP hadir 100% dalam rapat komite KP selama periode satu tahun | I20: tinjauan dokumen | J20: 5
C21: =Penilaian!C24 -> 1.2.12 Peran Ketua Komite KP dalam Rapat Komite KP | D21: ketua komite KP tidak mengambil peran dalam rapat komite KP | E21: ketua komite KP menghadiri rapat komite KP namun tidak berperan signifikan, mendelegasikan kepada wakil atau sekretaris komite KP untuk memimpin diskusi dan membuat keputusan | F21: ketua komite KP memimpin langsung pelaksanaan rapat komite KP dan terlibat dalam pembahasan seluruh substansi namun menetapkan sebagian besar keputusan secara terpimpin | G21: ketua komite KP memimpin langsung pelaksanaan rapat komite KP dan terlibat dalam pembahasan seluruh substansi dan memberikan masukan konstruktif dan valid, umpan balik, informasi dan/atau dukungan yang dibutuhkan untuk setiap substansi pembahasan | H21: ketua komite KP memimpin langsung pelaksanaan rapat komite KP, mampu memberdayakan seluruh peserta untuk berkolaborasi dalam memberikan masukan seluruh substandi pembahasan, dan mampu memimpin pengambilan keputusan dan penetapan kesimpulan melalu prsoes yang inklusif dan tepat, didasarkan hasil konsensus bersama | I21: wawancara FGD | J21: 5
... C33: =Penilaian!C36 -> 1.2.24 Efektivitas Partisipasi Pekerja | D33: nilai rata-rata hasil audit sub elemen III.13 dalam 2 tahun terakhir sebesar 0/3 | E33: nilai rata-rata hasil audit sub elemen III.13 dalam 2 tahun terakhir sebesar 0.1/3 s.d. 2/3 | F33: nilai rata-rata hasil audit sub elemen III.13 dalam 2 tahun terakhir sebesar 2.1/3 s.d. 2.4/3 | G33: nilai rata-rata hasil audit sub elemen III.13 dalam 2 tahun terakhir sebesar 2.5/3 s.d. 2.9/3 | H33: nilai rata-rata hasil audit sub elemen III.13 dalam 2 tahun terakhir sebesar 3/3 | I33: tinjauan dokumen wawancara | J33: 5
A34: =Penilaian!A38 -> Tanggung Jawab Pimpinan Unit Kerja | B34: =Penilaian!B38 -> A. Implementasi Kebijakan KP
C35: =Penilaian!C39 -> 2.1.1 Upaya Internalisasi Nilai-Nilai Inti (Core Values) Perusahaan oleh Manajemen | D35: manajemen tidak melakukan upaya untuk internalisasi nilai-nilai inti perusahaan kepada pekerja | E35: manajemen melakukan upaya untuk internalisasi nilai-nilai inti perusahaan hanya kepada sebagian kelompok pekerja | F35: manajemen telah melakukan upaya untuk internalisasi nilai-nilai inti perusahaan kepada seluruh pekerja | G35: manajemen telah melakukan upaya untuk internalisasi nilai-nilai inti perusahaan dan memasukkan kepada target kinerja pekerja | H35: manajemen telah memberikan contoh nyata aktualisasi nilai-nilai inti perusahaan kepada pekerja | I35: tinjauan dokumen FGD | J35: 5
C36: =Penilaian!C40 -> 2.1.2 Upaya Internalisasi Aturan Emas KP (Golden Rules) Perusahaan oleh Manajemen | D36: manajemen tidak melakukan upaya untuk internalisasi aturan emas KP (Golden Rules) perusahaan kepada pekerja | E36: manajemen melakukan upaya untuk internalisasi aturan emas KP (Golden rules) perusahaan hanya kepada sebagian kelompok pekerja | F36: manajemen telah melakukan upaya untuk internalisasi aturan emas KP (Golden Rules) perusahaan kepada seluruh pekerja | G36: manajemen telah melakukan upaya untuk internalisasi aturan emas KP (Golden Rules) perusahaan dan memasukkan kepada target kinerja pekerja | H36: manajemen telah memberikan contoh nyata aktualisasi aturan emas KP (Golden Rules) perusahaan kepada pekerja | I36: tinjauan dokumen FGD | J36: 5
C37: =Penilaian!C41 -> 2.1.3 Efektivitas Kebijakan KP | D37: nilai rata-rata hasil audit sub elemen I dalam 2 tahun terakhir sebesar 0% | E37: nilai rata-rata hasil audit sub elemen I dalam 2 tahun terakhir sebesar 0.1 - 5.0% | F37: nilai rata-rata hasil audit sub elemen I dalam 2 tahun terakhir sebesar 5.1-8% | G37: nilai rata-rata hasil audit sub elemen I dalam 2 tahun terakhir sebesar 8.1-9.9% | H37: nilai rata-rata hasil audit sub elemen I dalam 2 tahun terakhir sebesar 10% | I37: tinjauan dokumen | J37: 5
C38: =Penilaian!C42 -> 2.1.4 Persepsi Pekerja terhadap Komitmen Manajemen dalam Penerapan Kebijakan KP | D38: sebagian besar pekerja memiliki persepsi bahwa manajemen tidak mendukung penerapan kebijakan KP. Kebijakan KP sering dikompromikan untuk kepentingan lainnya dalam kondisi tertentu | E38: sebagian besar pekera memiliki persepsi bahwa manajemen berkomitmen untuk menerapkan kebijakan KP ketika sudah terjadi kecelakaan dan kerugian | F38: sebagian besar pekerja memiliki persepsi bahwa manajemen telah berkomitmen untuk menerapkan kebijakan dan tanpa harus terjadi kecelakaan dan kerugian terlebih dahulu, melalui program KP terencana | G38: sebagian besar pekerja memiliki persepsi bahwa manajemen telah berkomitmen untuk menerapkan kebijakan dan uapay-upaya KP dan apabila terjadi konflik kepentingan, maajemen memiliki inisiatif untuk mengevaluasi analisis risiko dan mengutamakan aspek KP tetap terpenuhi | H38: sebagian besar pekerja memiliki persepsi bahwa manajemen telah menerapkan kebijakan dan upaya-upaya KP, mengutamakan aspek KP saat terjadi konflik kepentingan, dan telah menjadi panutan/teladan yang baik bagi pekerja dalam penerapan KP | I38: kuesioner wawancara | J38: 5
B39: =Penilaian!B43 -> B. Kepemimpinan dan Komitmen KP
C40: =Penilaian!C44 -> 2.2.1 Persepsi Manajemen Puncak terhadap Peran KP | D40: manajemen puncak memiliki persepsi bahwa pengelolaan KP harus dilakukan agar tidak terkena sanksi dari pemerintah dan/atau klien serta untuk kepentingan sertifikasi/pengakuan dari eksternal | E40: manajemen punck memiliki persepsi bahwa pengelolaan KP harus dilakukan untuk mencegah kerugian berulang, dengan fokus kepada penyelesaian masalah/kejadian/kasus KP | F40: manajemen puncak memiliki persepsi bahwa pengelolaan KP harus dilakukan sebagai upaya kepatuhan administratif yang bertujuan fokus untuk mencegah dan menurunkan kecelakaan, kejadian berbahaya, kejadian akibat penyakit tenaga kerja, dan PAK sesuai terget kinerja | G40: manajemen puncak memiliki persepsi bahwa pengelolaan KP adalah pendukung kelancaran operasional pertambangan dan harus dikelola dengan sistem manajemen yang terintegrasi dengan seluruh fungsi di dalam perusahaan | H40: manajemen puncak memiliki persepsi bahwa pengeloalan KP merupakan pendukung kelancaran operasional pertambangan dan investasi yang baik bagi perusahaan serta bagian dari budaya perusahaan yang harus terus diimplementasikan dan ditingkatkan secara berkelanjutan | I40: wawancara | J40: 5
C41: =Penilaian!C45 -> 2.2.2 Persepsi Pekerja terhadap Kepemimpinan dan Komitmen Manajemen | D41: sebagian besar pekerja memiliki persepsi bahwa komitmen manajemen puncak dalam KP sangat kurang | E41: sebagian besar pekerja memiliki persepsi bahwa komitmen manajemen puncak dalam KP terbatas untuk sekedar penyelesaian permasalahan kasus KP yang telah terjadi | F41: sebagian besar pekerja memiliki persepsi bahwa komitmen manajemen puncak dalam KP untuk pemenuhan minimum kewajiban hukum dan pencapaian target kinerja lagging indicator | G41: sebagian besar pekerja memiliki persepsi bahwa manajemen puncak memiiki komitmen pengelolaan KP untuk menunjang sistem produsi dan mencapai target leading dan lagging indicator | H41: sebagaian besar pekerja memiliki persepsi bahwa manajemen puncak memiliki komitmen tinggi dalam KP agar dapat menunjang kinerja operasional yang konsisten handal di berbagai kondisi. Manajemen telah menjadi role model bagi pekerja, telah memberikan dukungan yang memadai dan dorongan untuk inovasi dan perbaikan berkelanjutan | I41: kuesioner wawancara | J41: 5
C42: =Penilaian!C46 -> 2.2.3 Ketersediaan Angggaran KP dalam RKAB | D42: tidak ada alokasi anggaran KP yang disediakan oleh manajemen puncak | E42: anggaran KP yang disediakan oleh manajemen puncak tidak cukup memadai untuk mendukung keberhasilan rencana kerja tahunan | F42: anggaran KP yang disediakan oleh manajemen puncak cukup memadai untuk mendukung keberhasilan rencana kerja tahunan | G42: anggaran KP yang disediakan oleh manajemen puncak telah memadai untuk mendukung keberhasilan rencana kerja tahunan dan rencana contigency | H42: anggaran KP yang disediakan oleh manajemen puncak telah ditetapkan secara cost-efficient untuk mendukung keberhasilan rencana kerja tahunan, rencana cadangan/alternatif/darurat (contigency), dan pencapaian visi misi tujuan dan komitmen KP yang tertuang dalam kebijakan, serta untuk peningkatan berkelanjutan | I42: tinjauan dokumen wawancara | J42: 5
C43: =Penilaian!C47 -> 2.2.4 Realisasi Anggaran KP dalam RKAB | D43: anggaran KP pada RKAB tidak terealisasi | E43: realisasi anggaran KP pada RKAB dalam 2 tahun terakhir sebesar < 70% dari target | F43: realisasi anggaran KP pada RKAB dalam 2 tahun terakhir sebesar 70-79% dari target | G43: realisasi anggaran KP pada RKAB dalam 2 tahun terakhir sebesar 80-99% dari target | H43: realisasi anggaran KP pada RKAB dalam 2 tahun terakhir sebesar 1000% dari target | I43: tinjauan dokumen | J43: 5
C44: =Penilaian!C48 -> 2.2.5 Kecepatan Manajemen Puncak dalam Merespon Isu KP | D44: manajemen puncak apatis dan tidak memiliki atensi dalam merespon isu KP | E44: manajemen puncak menunda melakukan perbaikan isu KP dan baru mulai menindaklanjuit ketika telah terjadi kerugian | F44: manajemen pncak melakukan perbaikan atas isu KP sesuai dengan birokrasi yang ditetapkan, dengan fokus kepada isu KP yang mempengaruhi keberlanjutan operasional | G44: manajemen puncak mampu mengambil keputusan dan melakukan perbaikan atas isu KP dengan cepat terhadap isu KP yang telah terjadi, baik isu KP yang bersifat minor, mayor, maupun yang signifikan mempengaruhi keberlanjutan operasional | H44: manajemen puncak mampu mengambil keputusan dan melakukan perbaikan atas seluruh isu KP dengan cepat, baik kepada isu KP yang telah terjadi, maupun melaukan antisipasi yang tepat untuk isu KP yang berpotensi akan terjadi di masa mendatang | I44: kuesioner FGD | J44: 5
C45: =Penilaian!C49 -> 2.2.6 Jumlah Kehadiran Manajemen Puncak pada Site | D45: tidak ada kegiatan kunjungan lapangan pimpinan perusahaan (safety management walk trhough) baik secara terencana maupun insidentil | E45: kegiatan kunjungan lapangan pimpinan perusahaan dilakukan secara insidentil | F45: kegiatan kunjungan lapangan pimpinan perushaan dilakukan secara formal dan terencana, 1 kali dalam 1 tahun | G45: kegiatan kunjungan lapangan pimpinan perusahaan dilakukan secara formal dan terencana dan insidentil, > 1 kali dalam 1 tahun | H45: kegiatan kunjungan lapangan pimpinan perushaan dilakukan secara formal dan terencana, > 2 kali dalam 1 tahun dan dilakukan secara insidentil sesuai analisis kondisi perkembangan kegiatan operasional | I45: tinjauan dokumen | J45: 5
C46: =Penilaian!C50 -> 2.2.7 Peran Manajemen Puncak dalam kunjungan Site | D46: manajemen puncak tidak meninjau implementasi pengelolaan KP secara langsung pada kegiatan operasional pertambangan | E46: manajemen puncak hanya fokus meninjau pengelolaan KP pada kegiatan/area yang secara historis telah terjadi kasus KP | F46: manajemen puncak meninjau pengelolaan KP pada seluruh kegiatan oeprasional pertambangan dan memberi perhatian secara detail, melakukan interaksi langsung dengan perwakilan pekerja | G46: manajemen puncak memberikan masukan masukan konstruktif, umpan balik, informasi dan/atau dukungan yang dibutuhkan, serta solusi untuk perbaikan dan pengelolaan KP untuk seluruh kegiatan operasional pertambangan | H46: manajemen puncak hadir memerikan contoh dan keteladanan secara konkrit dalam hal pengelolaan KP | I46: wawancara FGD | J46: 5
C47: =Penilaian!C51 -> 2.2.8 Efektivitas Rapat Tinjauan Manajemen | D47: nilai rata-rata hasil audit SMKP elemen VII dalam 2 tahun terakhir 0% | E47: nilai rata-rata hasil audit SMKP elemen VII dalam 2 tahun terakhir 0.1 - 2.0 % | F47: nilai rata-rata hasil audit SMKP elemen VII dalam 2 tahun terakhir 2.1 - 4.0% | G47: nilai rata-rata hasil audit SMKP elemen VII dalam 2 tahun terakhir 4.1-4.9% | H47: nilai rata-rata hasil audit SMKP elemen VII dalam 2 tahun terakhir 5% | I47: tinjauan dokumen | J47: 5
C48: =Penilaian!C52 -> 2.2.9 Peran Pimpinan Tertinggi pada Rapat Tinjauan Manajemen | D48: manajemen puncak tidak berperan dalam rapat tinjauan manajemen | E48: manajemen puncak menghadiri rapat tinjauan manajemen namun tidak berperan signifikan, mendelegasikan kepada managemen representative untuk memimpin diskusi dan membuat keputusan | F48: manajemen puncak memimpin langsung pelaksanaan rapat tinjauan manajemen dan terlibat dalam pembahasan seluruh substansi namun menetapkan keputusan secara terpimpin | G48: manajemen puncak memimpin langsung pelaksanaan rapat tinjauan manajemen dan terlibat dalam pembahasan seluruh substansi dan memberikan msaukan konstruktif dan valid, umpan balik, informasi dan/atau dukngan yang dibutuhan, untuk setiap substansi pembahasan | H48: manajemen puncak memimpin rapat tinjauan manajemen, mampu memberdayakan seluruh peserta untuk berkolaborasi dalam memberikan masukan seluruh substansi pembahasan, dan mampu memimpin pengambilan keputusan dan penetapan kesimpulan melalui proses yang inklusif dan teap, didasarkan hasil konsensus bersama | I48: wawancara FGD | J48: 5
C49: =Penilaian!C53 -> 2.2.10 Dukungan Manajemen untuk Inovasi dan Peningkatan Kinerja KP | D49: manajemen puncak tidak menyediakan sumberdaya yang memadai untuk pelaksanaan inovasi penerapan KP | E49: manajemen puncak menyediakan sumberdaya terbatas untuk pelaksanaan invoasi penerapan KP, dengan focus hanya kepada perbaikan atas isu KP yang telah terjadi melalui tim kerja sementara yang dibentuk secara ad-hoc | F49: manajemen puncak menyediakan sumberdaya untuk pelaksanaan inovasi penerapan KP untuk dilakukan secara terencana dan sistematis oleh bagian K3 dan KO atau departemen/bagian lainnya yang ditunjuk , dengan fokus untuk peningkatan kinerja aspek penerapan KP yang kurang baik | G49: manajemen pncak menyediakan sumberdaya untuk pelaksanaan inovasi penerapan KP untuk dilakukan secara terencana dan sistmatis oleh bagian K3 dan KO atau departemen/bagian lainnya yang ditunjuk, dengan fokus untuk peningktana kinerja yang kurang baik maupun untuk mempertahnakan kinerja ang sudah baik | H49: manajemen puncak menyediakan sumberdaya yang emmadai dan telah berhasil mencipatkan iklim inovasi di seluruh departemen/bagian dari pekerja, dengan fokus untuk peningkatan kinerja yang kurang baik maupun untuk mempertahankan kinerja yang sudah baik | I49: wawancara FGD | J49: 5
C50: =Penilaian!C54 -> 2.2.11 Pemberian Penghargaan atas Kinerja KP dari Pekerja | D50: manajemen tidak memberikan penghargaan/apresiasi kepada pekerja / unit kerja yang memiliki prestasi dalam pengelolaan KP | E50: pengahargaan/apreasiasi kepada pekerja / unit kerja yang memiliki prestasi baik dalam pengelolaan KP dilakukan secara informal dan insidentil, tanpa mekanisme yang berdasarkan prinsip keadilan, transparansi, dan akuntabilitas | F50: penghargaan/apresiasi kepada pekerja/unti kerja yang memiliki prestasi baik dalam pengelolaan KP dilakukan melalui mekanisme formal berdasarkan hasil penilaian kinerja | G50: manajemen telah memberikan kesempatan kepada pekerja / unit kerja yang memiliki prestasi baik dalam pengelolaan KP untuk membagikan pembelajaran kepada pekerja / unit kerja lainnya | H50: manajemen memberikan dukungan lanjut kepada pekerja / unit kerja yang memiliki prestasi baik dalam pengelolaan KP untuk mempertahankan dan meningkatkan kinerja | I50: tinjauan dokumen wawancara | J50: 5
C51: =Penilaian!C55 -> 2.2.12 Pemberian Sanksi atas Pelanggaran KP dari Pekerja | D51: manajemen tidak memerikan sanksi/penegakan disiplin kepada pekerja/unti kerja yang melanggar peraturan KP | E51: manajemen mulai memberikan sanksi/penegakan disiplin keapda pekerja/unit kerja yang melanggara peraturan KP secara informal dan insidentil, tanpa meanisme yang berdasaran prinsip keadilan, transparansi, dan akuntabilitas | F51: manajemen memberikan sanksi secara proporsional jika ada kinerja yang tidak dapat diterima, kelalalian, perilaku berisiko, dan kesalahan yang tidak disengaja, berdasarkan analisis manajemen | G51: manajemen melibatkan semua pihak yang terlibat untuk menjelaskan jenis pelanggaran, mendiskusikan bagaiaman situasi yang memicu pelanggarana, menjelaskan akbiat, menyimpulkan pembelajaran, dan memutuskan apa yang harus meereka lakukan untuk memperbaiki kerusakan yang telah terjadi | H51: manajemen memberikan dukungan lanjut kepada pekerja / unit kerja yang telah diberikan sanksi untuk memperbaiki dan meingkatkan kinerja | I51: tinjauan dokumen wawancara | J51: 5
... C70: =Penilaian!C74 -> 2.2.31 Peran Pengawas Operasional/Teknis dalam Manajemen Risiko KP | D70: pengawas operasional tidak berperan/berkontribusi dalam manajemen risiko KP | E70: sebagian besar pengawas operasional melaksanakan tanggung jawabanya dalam tim manajemen risiko KP, apabila ada isu dengan pekerjaannya atau ketika diminta oleh pimpinan unit kerjanya | F70: sebagian besar pengawas operasional berpartisipasi dalam tim manajemen risiko KP sesuai dengan tanggung jawab yang ditetapkan | G70: sebagian besar pengawas operasional dipilih berperan aktif memberikan input konstruktif, umpan balik, informasi dan/atau dukungan yang dibutuhkan dalam kegiatan tim manajemen risiko KP | H70: seluruh pengawas operasonal mampu memberikan informasi dan duungan yang tepat, saling mentrasfer dan menyelaraskan pemahaman dan mampu berkolaborasi dalam tim untuk mencapai tujuan manajemen risiko KP lingkup organisasi | I70: kuesioner FGD | J70: 5
B71: =Penilaian!B75 -> C. Kepatuhan dan Penegakan Peraturan KP
C72: =Penilaian!C76 -> 2.3.1 Inisiatif dan Kesadaran untu Pemenuhan Persyaratan Perundangan dan Persyaratan Lainnya yang Terkait Aspek KP | D72: perusahaan tidak mengidentifikasi ketentuan peraturan perundang-undangan (nasional, provinsi, dan lokal), dan persyaratan lainnya yang terkait | E72: perusahaan mengidentifikasi ketentuan peraturan perundang-undangan dan persyaratan lainnya yang terkait dan melakukan pemenuhan/penyesuaian setelah terjadi permasalah atau kasus KP | F72: perusahaan berhasil mengidentifikasi seluruh ketentuan peratuan perundangan dan persyaratan lainnya yang terkait secara kontinu dan terencana | G72: perusahaan secara proaktif melakuakan penilaian kepatuhan (compliance asessment) berkala dalam rangka upaya pemenuhna seluruh persyaratan peraturan perundangan dan persyaratan aspek KP lainnya | H72: perusahaan berhasil membangun sistem untuk mendapatkan notifikasi secara epat perihal informasi persyaratan peraturan perundangan dan persyaratan lainnya yang terbaru, dan mampu melakukan dan konsultasi dengan instansi pembina sektor usaha untuk menyelaraskan pemahaman dalam pemenuhan peraturan KP | I72: tinjauan dokumen wawancara | J72: 5
C73: =Penilaian!C77 -> 2.3.2 Efektivitas Pemenuhan Ketentuan Peraturan Perundang-undangan dan Persyaratan Lainnya yang Terkait | D73: nilai rata-rata hasil audit SMKP sub elemen II.3 dalam 2 tahun terakhir 0/3 | E73: nilai rata-rata hasil audit SMKP sub elemen II.3 dalam 2 tahun terakhir 0.1/3 s.d. 2/3 | F73: nilai rata-rata hasil audit SMKP sub elemen II.3 dalam 2 tahun terakhir 02.1/3 s.d. 2.4/3 | G73: nilai rata-rata hasil audit SMKP sub elemen II.3 dalam 2 tahun terakhir 2.5/3 s.d. 2.9/3 | H73: nilai rata-rata hasil audit SMKP sub elemen II.3 dalam 2 tahun terakhir 3/3 | I73: tinjauan dokumen | J73: 5
C74: =Penilaian!C78 -> 2.3.3 Respon Manajemen Perusahaan terhadap undangan dari Instansi Pembina Sektor | D74: manajemen perusahaan apatis dan menghindari undangan kegiatan dari instansi pembina sektor | E74: manajemen perusahaan menghadiri undangan kegiatan dari instansi pembina sektor hanya jika terdapat kebutuhan dan/atau kepentingan tertentu, cenderung mendelegasikan kepada perwakilan unit kerja terkait | F74: manajemen perusahaan menghadiri seluruh undangan kegiatan dari instansi pembina sektor | G74: manajemen perusahaan menghadiri seluruh undangan kegiatan dari insntansi pembina sekor dan mampu berpartisipasi aktif dan memberikan informasi dna/atau dukungan yang dibutuhkan | H74: manajemen perusahaan mampu berpartisipasi aktif dna menindaklanjuti hasil kegiatan dengan instansi pembina sektor untuk peningkatan kepatuhan dan pemenuhan persyartan perundangan | I74: tinjauan dokumen wawancara | J74: 5
C75: =Penilaian!C79 -> 2.3.4 Kepatuhan Perusahaan dalam Menindaklanjuti Arahan Tertulis dari Instansi Pembina Sektor melalu Surat Edaran KaIT | D75: perusahaan tidak menindaklanjuti arahan tertulis aspek KP dari instansi pembina sektor melalui surat edaran KaIT | E75: perusahaan hanya menindaklanjuti sebagian arahan tertulis aspek KP dari instansi pembina sektor melalui surat edaran KaIT | F75: perusahaan menindaklanjuti arahan tertulis aspek KP dari instansi pembina sektor melalui surat edaran KaIT, dengan waktu tidak seluruhnya sesuai dengan batas akhir yang ditetapkan | G75: perusahaan menindaklanjuti seluruh arahan tertulis aspek KP dari instansi pembina sektor melalui surat edaran KaIT, sesuai batas waktu yang ditetapkan | H75: perusahaan menindaklanjuti seluruh arahan tertulis aspek KP dari instansi pembina sektor melaui surat edaran KaIT sesuai batas waktu yang ditetapkan, dilaksanakan dengan tepat dan mencapai tujuan yang diharapkan | I75: tinjauan dokumen wawancara | J75: 5
C76: =Penilaian!C80 -> 2.3.5 Kepatuhan Perusahaan dalam Menindaklanjuti Hasil Pembinaan dan Pengawasan oleh Inspektur Tambang | D76: perusahaan tidak menindaklanjuti rekomendasi, larangan, perintah, dan petunjuk hasil pembinaan dan pengawasan dari inspektur tambang | E76: perusahaan hanya menindaklanjuti sebagian larangan, perintah, dan petunjuk yang tertulis pada buku tambang hasil pembinaan dan pengawasan dari inspektur tambang | F76: perusahaan menindaklanjuti rekomendasi, larangan, perintah, dan petunjuk yang tertulis pada buku tambang hasil pembinaan dan pengawasan dari inspektur tambang, dengan waktu tidak seluruhnya sesuai dengan batas akhir yang ditetapkan | G76: perusahaan menindaklanjuti seluruh larangan, perintah, dan petunjuk yang tertulis pada buku tambang hasil pembinaan dan pengawasan dari inspektur tambang, sesuai batas waktu yang ditetapkan | H76: perusahaan menindaklanjuti seluruh rekomendasi yang tertulis pada berita acara, dan seluruh larangan, peritnah , dan petunjuk yang tertulis pada buku tambang hasil pembinaan dan pengawasan dari inspektur tambang sesuai batas waktu yang ditetapkan | I76: tinjauan dokumen | J76: 5
C77: =Penilaian!C81 -> 2.3.6 Kepatuhan KTT dalam Pengelolaan Administrasi KP | D77: nilai rata-rata audit elemen SMKP sub elemen III.12 dalam 2 tahun terakhir 0/16 | E77: nilai rata-rata audit elemen SMKP sub elemen III.12 dalam 2 tahun terakhir 0.1/16 s.d. 8.0/16 | F77: nilai rata-rata audit elemen SMKP sub elemen III.12 dalam 2 tahun terakhir 8.1/16 s.d. 12.0/16 | G77: nilai rata-rata audit elemen SMKP sub elemen III.12 dalam 2 tahun terakhir 12.1/16 s.d. 15.9/16 | H77: nilai rata-rata audit elemen SMKP sub elemen III.12 dalam 2 tahun terakhir 16/16 | I77: tinjauan dokumen | J77: 5
C78: =Penilaian!C82 -> 2.3.7 Kepatuhan KTT Pelaporan Khusus atas Kasus KP kepada KaIT | D78: KTT belum patuh untuk menyampaikan pelaporan khusus kepada KaIT jika terjadi kasus KP | E78: KTT menyampaikan pelaporan khusus kepada KaIT hanya jika terjadi kecelakaan tambang berakibat mati atau KAPTK | F78: KTT menyampaikan pelaporan khusus kepada KaIT jika terjadi kecelakaan tambang berakibat mati, cidera berat, KAPTK dan PAK | G78: KTT menyampaikan pelaporan khusus kepada KaIT jika terjadi kejadian berbahaya, kecelakana tambang berakibat mati, cidera berat, cidera ringan, dan KAPTK | H78: KTT menyampaikan pelaporan khusus kepada KaIT jika terjadi kejadian berbahaya, kecelakaan tambang berakibat mati, cidera berat, cidera ringan, dan KAPTK sesaat setelah terjadinya kejadian | I78: tinjauan dokumen | J78: 5
C79: =Penilaian!C83 -> 2.3.8 Kepatuhan Pimpinan Departemen/Bagian dalam menindaklanjuti Arahan/Instruksi KTT terkait pemenuhan Peraturan KP | D79: pimpinan departemen / bagian tidak menindaklanjuti arahan / instruksi KTT yang terkait pemenuhan peraturan KP | E79: pimpinan departemen/bagian hanya menindaklanjuti sebagian arahan/instruksi KTT yang terkait pemenuhan peraturan KP | F79: pimpinan departemen/bagian menindaklanjuti seluruh arahan / instruksi KTT yang terkait pemenuhna peraturan KP dengan waktu belum seluruhnya sesuai dengan batas akhir yang ditetapkan | G79: pimpinan departemen/bagian menindaklanjuti seluruh arahan/instrukti KTT yang terkait pemenuhan peraturan KP , sesuai batas waktu yang ditetapkan | H79: pimpinan departemen/bagian menindaklanjuti seluruah arahan/instruksi KTT yang terkait pemenuhan peraturan KP, sesuai batas waktu yang ditetapkan, dan mampu memberikan masukan konstruktif kepada KTT untuk peningkatan kepatuhan pemenuhan peraturan KP di kemudian hari | I79: tinjauan dokumen wawancara | J79: 5
B80: =Penilaian!B84 -> D. Penetapan Peran, Tanggung Jawab dan Kewenangan dalam KP
C81: =Penilaian!C85 -> 2.4.1 Kemandirian Pengelolaan KP | D81: perusahaan bergantung sepenuhnya kepada jasa pihak ketiga dalam pengelolaan KP | E81: perusahaan menyiapakan kapasitas organisasi dan personel kompeten dalam pengelolaan KP secara minimalis, sehingga sebagian besar pengelolaan KP bergantung kepada jasa pihak ketiga | F81: perusahaan menyiapkan personel kompeten dalam pengelolaan KP sesuai persyaratan perundangan, namun masih tersentral pada bagian K3 KO saja, dan belum memberikan sumberdaya organisasi yang dibutuhkan untuk mengelolaan KP secara mandiri, sehingga dalam beberapa hal dalam pengelolaan KP masih harus bergantung kepada jasa pihak ketiga | G81: manajemen mampu menciptakan kapasitas organisasi dan personel perusahaan pertambangan untuk secara mandiri mengelola KP, namun belum memberikan kepercayaan, peran, tanggung jawab dan otoritas kepada pekerja yang memiliki kemampuan spesalis untuk berperan | H81: manajemen mampu menciptakan kapasitas organisasi dan personel perusahaan pertambangan untuk secara mandiri mengelola KP, dan memberikan kepercayaan, peran, tanggung jawab dan otoritas lebih kepada pekerja yang memilki kemampuan spesialis untuk berkontribusi maupun memberikan pertimbangan dalam pengambilan keputusan dalam bidang keahliannya | I81: tinjauan dokumen FGD | J81: 5
C82: =Penilaian!C86 -> 2.4.2 Ketersediaan KTT | D82: perusahaan memiliki KTT yang disahkan oleh KaIT, namun pasca pengesahan KTT tidak lagi menjadi pimpinan tertinggi di site dan kondisi tersebut tidak dilaporkan | E82: perusahaan memiliki KTT yang disahkan oleh KaIT, merupakan pimpinan tertinggi di site, namun KTT tidak memiliki kewenangan dalam hal pengambilan keputusan terkait alokasi, penyediaan, dan penggunaan sumberdaya anggaran aspek KP untuk menunjang kondisi operasional, seluruh pengambilan keputusan hal-hal tersebut dilakukan oleh manajemen puncak | F82: perusahaan memiliki KTT yang disahkan oleh KaIT, merupakan pimpinan tertinggi di site, namun KTT hanya diberikan kewenangan terbatas oleh manajemen puncak. KTT hanya memiliki kewenangan dalam hal pengambilan keputusan secara langsung terkait penggunaan sumberdaya anggaran aspek KP sesuai yang rencana yang ditetapkan | G82: perusahaan memiliki KTT yang disahkan oleh KaIT, merupakan pimpinan tertinggi di ste dan diberikan kewenangan yang cukup oleh manjemen puncak. KTT memiliki kewenangan dalam hal pengambilan keputusan secara langsung terkait alokasi, pneyediaan dan penggunaan sumberdaya anggaran KP sampai batasan tertentu di atas rencana yang ditetapkan. KTT berkonsultasi dan memohonn persetujuan kepada manajemen puncak yang memiliki otoritas untuk pengambilan keputusan terkait alokasi, penyediaan, dan penggunaan sumberdaya anggaran KP yang melebihi batasan terentu tersebut | H82: perusahaan memiliki KTT yang disahkan oleh KaIT, merupakan pimpinan tertinggi di ste dan diberikan kewenangan penuh oleh manajemen puncak dalam hal pengambilan keputusan secara langsung terkait alokasi, penyediaan, dan penggunaan sumberdaya anggaran KP maupun untuk menunjang kondisi operasional | I82: tinjauan dokumen wawancara | J82: 5
C83: =Penilaian!C87 -> 2.4.3 Ketersediaan PJO | D83: perusahaan memiliki PJO yang disahkan oleh KTT, namun pasca pengesahan PJO tidak lagi menjadi pimpinan tertinggi di site dan kondisi tersebut tidak dilaporkan | E83: perusahaan memiliki PJO yang disahkan oleh KTT, merupakan pimpinan tertinggi di site, namun PJO tidak memiliki kewenangan dalam hal pengambilan keputusan terkait alokasi, penyediaan, dan penggunaan sumberdaya anggaran aspek KP untuk menunjang kondisi operasional, seluruh pengambilan keputusan hal-hal tersebut dilakukan oleh manajemen puncak | F83: perusahaan memiliki PJO yang disahkan oleh KTT, merupakan pimpinan tertinggi di site, namun PJO hanya diberikan kewenangan terbatas oleh manajemen puncak. PJO hanya memiliki kewenangan dalam hal pengambilan keputusan secara langsung terkait penggunaan sumberdaya anggaran aspek KP sesuai yang rencana yang ditetapkan | G83: perusahaan memiliki PJO yang disahkan oleh KTT, merupakan pimpinan tertinggi di ste dan diberikan kewenangan yang cukup oleh manjemen puncak. PJO memiliki kewenangan dalam hal pengambilan keputusan secara langsung terkait alokasi, pneyediaan dan penggunaan sumberdaya anggaran KP sampai batasan tertentu di atas rencana yang ditetapkan. PJO berkonsultasi dan memohonn persetujuan kepada manajemen puncak yang memiliki otoritas untuk pengambilan keputusan terKTT alokasi, penyediaan, dan penggunaan sumberdaya anggaran KP yang melebihi batasan terentu tersebut | H83: perusahaan memiliki PJO yang disahkan oleh KTT, merupakan pimpinan tertinggi di ste dan diberikan kewenangan penuh oleh manajemen puncak dalam hal pengambilan keputusan secara langsung terkait alokasi, penyediaan, dan penggunaan sumberdaya anggaran KP maupun untuk menunjang kondisi operasional | I83: tinjauan dokumen wawancara | J83: 5
C84: =Penilaian!C88 -> 2.4.4 Pelaksanaan Tugas dan Tanggung Jawab KTT | D84: KTT/PJO tidak melaksanakan tugas dan tanggung jawabnya sesuai peraturan perundangan | E84: KTT/PJO melaksanakan <70% dari total tugas KTT sesuai peraturan peundangan | F84: KTT/PJO melaksanakan 70-79% dari total tugas KTT sesuai peraturan peundangan | G84: KTT/PJO melaksanakan 80-99% dari total tugas KTT sesuai peraturan peundangan | H84: KTT/PJO melaksanakan 100% tugasnya sesuai peraturan peundangan | I84: tinjauan dokumen | J84: 5
C85: =Penilaian!C89 -> 2.4.5 Ketersediaan TTPYB | D85: perusahaan tidak memiliki TTPYB. Perusahana memiliki manpower planning yang mempertimbangkan kajian risiko dan persyaratan perundangan dan persyaratan lainnya yang terkait | E85: perusahaan memiliki TTPYB sejumlah < 70% dari total kebutuhan pada manpower planning berdasarkan proses bisinis dan profil risiko | F85: perusahaan memiliki TTPYB sejumlah 70-79% dari total analisis kebutuhan berdasarkan proses bisnis dan profil risiko | G85: perusahaan memiliki TTPYB sejumlah 80-99% dari total analisis kebutuhan berdasarkan proses bisnis dan profil risiko | H85: perusahaan memiliki TTPYB sejumlah 100% dari total analisis kebutuhan berdasarkan proses bisnis dan profil risiko | I85: tinjauan dokumen | J85: 5
C86: =Penilaian!C90 -> 2.4.6 Ketersediaan Pengawas Operasional dan Pengawas Teknis | D86: perusahaan tidak memiliki pengawas operasional dan pengawas teknis | E86: perusahaan memililki pengawas operasional dan pengawas teknis sejumlah < 70% dari total analisis kebutuhan berdasarkan proses bisnis dan profil risiko | F86: perusahaan memililki pengawas operasional dan pengawas teknis sejumlah 70-79% dari total analisis kebutuhan berdasarkan proses bisnis dan profil risiko | G86: perusahaan memililki pengawas operasional dan pengawas teknis sejumlah 80-99% dari total analisis kebutuhan berdasarkan proses bisnis dan profil risiko | H86: perusahaan memililki pengawas operasional dan pengawas teknis sejumlah 1000% dari total analisis kebutuhan berdasarkan proses bisnis dan profil risiko | I86: tinjauan dokumen | J86: 5
C87: =Penilaian!C91 -> 2.4.7 Pelaksanaan Jumlah Tugas dan Tanggung Jawab Pengawas Operasional dan Pengawas Teknis | D87: nilai rata-rata hasil audit sub elemen III.5 dalam 2 tahun terakhir sebesar 9/4 | E87: nilai rata-rata hasil audit sub elemen III.5 dalam 2 tahun terakhir sebesar 0.1/4 s.d. 2/4 | F87: nilai rata-rata hasil audit sub elemen III.5 dalam 2 tahun terakhir sebesar 2.1/4 s.d. 3/4 | G87: nilai rata-rata hasil audit sub elemen III.5 dalam 2 tahun terakhir sebesar 3.1/4 s.d. 3.9/4 | H87: nilai rata-rata hasil audit sub elemen III.5 dalam 2 tahun terakhir sebesar 4/4 | I87: tinjauan dokumen | J87: 5
C88: =Penilaian!C92 -> 2.4.8 Ketersediaan dan Kewenangan Bagian K3 dan Bagian KO Pertambangan | D88: perusahaan tidak memiliki bagian K3 dan KO | E88: bagian K3 dan KO tidak berada langsung di bawah KTT dalam struktur organisasi | F88: bagian K3 dan KO berada langsung di bawah KTT dalam struktur organisasi namun belum dibentuk berdasarkan pertimbangan jumlah pekerja serta sifat atau luasnya pekerjaan | G88: bagian K3 dan KO berada langsung di bawah KTT dalam struktur organisasi dan telah dibentuk berdasarkan pertimbangan jumlah pekerja serta sifat atau luasnya pekerjaan | H88: bagian K3 dan KO memiliki kewenangan dan jumlah yang sesuai, dan diberikan tanggung jawab lebih untuk memimpin penelitian dan pengembangan (research & Development) terkait KP | I88: tinjauan dokumen FGD | J88: 5
C89: =Penilaian!C93 -> 2.4.9 Penetapan Tanggung Jawab terkait KP untuk Pekerja | D89: tidak ada penetapan tugas dan tanggung jawab aspek KP untuk pekerja | E89: hanya bagian K3 dan KO yang memiliki tugas dan tanggung jawab aspek KP | F89: hanya bagian K3 dan KO serta pimpinan departemen yang memiliki tugas dan tanggung jawab aspek KP | G89: hanya bagian K3 dan KO, pimpinan departemen, pengawas operasonal dan pengawas teknis yang memiliki tugas dan tanggung jawab aspek KP | H89: seluruh pekerja memiliki tugas dan tanggung jawab aspek KP yang menjadi bagian dari indikator kinerja karyawan | I89: tinjauan dokumen | J89: 5
C90: =Penilaian!C94 -> 2.4.10 Pemberian Dukungan dan Kewenangan kepada Pekerja untuk Menyatakan Keberatan Bekerja jika Syarat KP Diragukan | D90: tidak ada mekanisme untuk menyatakan keberatan bekerja jika persyaratan KP diragukan. Pekerja wajib melaksanakan work order dalam setiap kondisi | E90: hanya pimpinan departemen/bagian/seksi yang diberikan kewenangan untuk mewakili pekerja yang menyatakan keberatan bekerja jika persyaratan KP diragukan | F90: hanya pimpinan departemen/bagian/seksi dan pengawas operasional dari tiap pekerjaan diberikan keweangan untuk mewakili pekerja yang menyatakan keberatan bekerja jika persyaratan KP diragukan | G90: seluruh pekerja telah diberikan kesempatan untuk menyatakan keberatan bekerja jika persyaratan KP diragukan, namun pada prakteknya masih terdapat permasalahan ketidakadilan sosial di tempat kreja akibat ketidaksejajaran kekuasanaan/otoritas, sehingga pekerja tidak berani untuk menyatakan keberatan bekerja | H90: setiap pekerja dari setiap jenang pekerja diberikan dukungan secara adil untuk menyatakan keberatan bekerja jika persyaratan KP diragukan, dan telah terdapat mekanisme verifikasi yang adil dan trasnsparan | I90: kuesioner FGD | J90: 5
C91: =Penilaian!C95 -> 2.4.11 Penerapan Mekanisme Pemilihan Perwakilan Pekerja pada Komite KP | D91: pemilihan perwakilan pekerja pada komite KP tanpa ada pertimbangan apapun oleh manajemen puncak, sercara otoriter | E91: pemilihan perwakilan pekerja pada komite KP dilakukan melalui proses diskusi sepihak antara manajemen dan KTT/PJO | F91: pemilihan perwakilan pekerja pada komite KP sesuai dengan tingkat jabatan | G91: pemilihan perwakilan pekerja pada komite KP dilakukan dengan melibatkan pemangku kepentingan internal, namun belum ada pertimbangan komptensi dan komposisi | H91: pemilihan perwakilan pekerja pada komite KP dilakukan melalui mekanisme yang aspiratif dan demokratis, dengan mempertimbangkan kompetensi dan komposisi | I91: kuesioner FGD | J91: 5
C92: =Penilaian!C96 -> 2.4.12 Persepsi Manajemen terhadap Pengelolaan Pekerja | D92: manajemen memandang pekerja sebagai bagian sementara dari perusahaan yang harus diambil manfaat sebesar-besarnya dan akan mudah digantikan | E92: manajemen memandang pekerja sebagai lilabilitas, menjadi beban yang harus dikendalikan agar tidak menimbulkan kerugian bagi perusahaan | F92: manajemen memandang pekerja sebagai sumberdaya positif yang harus dimaksimalkan dalam perannya unuk mengendalikan risiko | G92: manajemen memandang pekerja sebagai aset perushaan yang harus dikembangkan valuenya sehingga dapat berkontribusi secara progresif untuk peningkatan kinerja KP | H92: manajemen memandang pekerja sebagai mitra strategis yang diberikan sumberdaya penunjang yang memadai untuk mencapai tujuan bersama dalam pengelolaan KP | I92: kuesioner/wawancara | J92: 5
B93: =Penilaian!B97 -> E. Manajemen Strategi dan Operasi KP
C94: =Penilaian!C98 -> 2.5.1 Formulasi Strategi KP | D94: tidak ada target, sasaran, dan strategi pengelolaan KP | E94: target dan sasaran tahunan pengelolaan KP belum spesifik, terukur, dapat dicapai, relevan, dan terdapat tenggat waktu (SMART). Belum dilakukan pengembangan analisis kondisi dan isu strategis maupun penilaian konteks dalam perencanaan strategis untuk pengelolaan KP | F94: sebagian besar target dan sasaran tahunan pengelolaan KP telah SMART. Sebagian besar target untkuk pemenuhan jumlah minimum persyaratan perundangan | G94: seluruh target sasaran dan telah memenuhi SMART, serta telah dikembangkan dengan mepertimbangkan analisis kondisi dan isu strategis pengelolaan KP. Telah ditetapkan faktor kunci keberhasilan | H94: seluruh target sasaran dan telah memenuhi SMART dan telah terdapat target untuk mencapai target penilaian yang lebih dari yang dipersyaratkan dalam peraturan (beyond compliance) dan telah dikembangkan alternatif strategis berdasarkan perencanaan skenario yang dikembangkan dengan memperhatikan faktor ketidakpastian | I94: tinjauan dokumen FGD | J94: 5
C95: =Penilaian!C99 -> 2.5.2 Penjabaran dan Penyelarasan Strategi Pengelolaan KP | D95: tidak ada upaya penjabaran (cascading) dan penyelarasan (alignment) strategi KP di setiap jenjang organisasi | E95: target dan sasaran tahunan pengelolaan KP hanya pada bagian K3 dan KO, sehingga masih terdapat konflik antara sasaran (objectives) KP dan sasaran aspek lainnya | F95: target dan sasaran tahunan pengelolaan KP hanya pada bagian K3 dan Ko, dan beberapa bagian operasional saja, sehingga proses bisnis belum berelasi sepenuhnya dengan stratei dan target Key Performance Indicator (KPI) pekerja belum berelasi dengan target kinerja perusahaan | G95: target dan sasaran KP telah ada di masing-masin departemen/bagian dan menjadi poin utama dalam penyusunan rencana kegiatan. Proses bisnis telah berelasi sepenuhnya dengan perencanaan strategis KP. Telah dilakukan penyelarasan secara vertikal dan horizontal | H95: target dan saaran KP telah diturunkan di seluruh departemen/bagian hingga indikator Kinerja Utama (Key Performance Indicator) pekerja | I95: tinjauan dokumen FGD | J95: 5
C96: =Penilaian!C100 -> 2.5.3 Ruang Lingkup Pemantauan dan Pengukuran Kinerja Pengelolaan KP | D96: monitoring pengelolaan KP dilakukan secara tidak terencana dan sistematis | E96: monitoring pengelolaan KP terfokus pada penyebab kegagalan dalam pelaksanaan KP yang telah terjadi | F96: monitoring pengelolaan KP terfokus pada pencapaian lagging indicator, dan ruang lingkup terbatas pada faktor-faktor kondisi di dalam sistem | G96: monitoring pengelolaan KP terhadap proses pencapaian target leading dan lagging indicator, serta memantau kondisi apa yang terjadi di dalam batas sistem dan di lingkungan luar batas sistem untuk jangka pendek, untuk membantu perbaikan terus menerus serta mengantisipasi potensi tujuan yang tidak tercapai | H96: monitoring pengelolaan KP merupakan proses berkelanjutan, yang dapat mendeteksi kondisi kritikal yang secara serius dapat mempengaruhi kinerja sistem, tantangan dan peluang, dalam jangka pendek & jangka panjang - secara postif atau negatif, dan mampu menindaklanjuti mengetahui apa yang harus dicarai untuk mempertahankan kinerja | I96: tinjauan dokumen FGD | J96: 5
C97: =Penilaian!C101 -> 2.5.4 Efektivitas Pemantauan dan Pengukuran Kinerja Pengelolaan KP | D97: nilai rata-rata hasil audit sub elemen V.1 dalam 2 tahun terakhir sebesar 0/20 | E97: nilai rata-rata hasil audit sub elemen V.1 dalam 2 tahun terakhir sebesar 0.1/20 s.d. 10/20 | F97: nilai rata-rata hasil audit sub elemen V.1 dalam 2 tahun terakhir sebesar 10.1/20 s.d. 15/20 | G97: nilai rata-rata hasil audit sub elemen V.1 dalam 2 tahun terakhir sebesar 15.1/20 s.d. 19.9/20 | H97: nilai rata-rata hasil audit sub elemen V.1 dalam 2 tahun terakhir sebesar 20/20 | I97: tinjauan dokumen | J97: 5
B98: =Penilaian!B102 -> F. Informasi, Komunikasi, Pendampingan, Konsultasi KP
C99: =Penilaian!C103 -> 2.6.1 Kesesuaian Induksi KP | D99: induksi KP tidak dilakukan kepada pekerja dan setiap orang yang memasuki wilayah IUP dan wilayah proyek | E99: induksi KP dilakukan kepada pekerja dan setiap orang yang memasuki wilayah IUP dan wilayah proyek, namun tidak konsisten | F99: induksi KP dilakukan kepada pekerja dan setiap orang yang memasuki wilayah IUP dan wilayah proyek secara konsisten, namun materi masih bersifat umum, belum terdapat materi induksi yang bersifat khusus untuk melakukan pekerjaan/memasuki area tertentu | G99: induksi KP dilakukan kepada pekerja dan setiap orang yang memasuki wilayah IUP dan wilayah proyek secara konsisten, baik informasi yang bersifat umum maupun khusus, telah melakukan verifikai terhadap pemahaman, namun materi belum adaptif dengan perkembangan risiko operasional perusahaan | H99: induksi KP dilakukan kepada pekerja dan setiap orang yang memasuki wilayah IUP dan wilayah proyek secara konsisten, baik informasi yang bersifat umum maupun khusus, dan telah adaptif serta disesuaikan dengan perkembangan risiko operasional perusahaan, serta disesuaikan dengan sasaran yang akan diberikan informasi | I99: tinjauan dokumen | J99: 5
C100: =Penilaian!C104 -> 2.6.2 Jumlah Pertemuan KP | D100: pertemuan KP secara terencana tidak dilakkan, hanya bersifat insidentil sehingga tidak terdokumentasi | E100: realisasi pertemuan KP sebesar < 70% dari target | F100: realisasi pertemuan KP sebesar 70-79% dari target | G100: realisasi pertemuan KP sebesar 80-99% dari target | H100: realisasi pertemuan KP sebesar 100% dari target | I100: tinjauan dokumen | J100: 5
C101: =Penilaian!C105 -> 2.6.3 Kualitas Pertemuan KP | D101: pertemuan KP dilakukan tanpa rencana dan tujuan spesifik | E101: pertemuan KP dilakukan hanya jika ada kasus /permasalahan KP dan tidak terstruktur | F101: pertemuan KP dilakukan secara terencana (sudah memiliki jadwal rutin), dengan agenda terstruktur, namun pemilihan topik belum mempertimbangkan prioritas | G101: pertemuan KP dilakukan secara terencana, dengan agenda terstruktur dan adaptif sesuai skala prioritas | H101: pertemuan KP dilakukan secara terencana dengan agenda yang terstruktur dan adaptif sesuai skala prioritas, serta dilaksanakan secara efektif dan efisien | I101: tinjauan dokumen wawancara | J101: 5
C102: =Penilaian!C106 -> 2.6.4 Jumlah Kampanye KP | D102: kampanye KP tidak dilakukan | E102: realisasi kampanye KP sebesar < 70% dari target | F102: realisasi kampanye KP sebesar 70-79% dari target | G102: realisasi kampanye KP sebesar 80-99% dari target | H102: realisasi kampanye KP sebesar 100% dari target | I102: tinjauan dokumen | J102: 5
C103: =Penilaian!C107 -> 2.6.5 Efektivitas Kampanye KP | D103: kampanye KP sudah berjalan, namun tidak menarik dan tidak menggugah kesadaran pekerja terhadap KP | E103: kampanye KP menarik perhatian dari pekerja dan telah berhasil membangun kesadaran pekerja terhadap KP | F103: kampanye KP telah berhasil membangun kesadaran pekerja terhadap KP dan menumbuhkan ketertarikan pekerja untuk berpatisipasi dalam pengelolaan KP | G103: kampanye KP telah berhasil menumbuhkan keinginan dan kemauan pekerja untuk berpartisipasi dalam pengelolaan KP secara konkrit | H103: kampanye KP telah berhasil menggerakkan pekerja untuk bekerja secara aman dan berpartisipasi secara konktrit dalam pengelolaan KP | I103: kuesioner FGD | J103: 5
C104: =Penilaian!C108 -> 2.6.6 Efektivitas Komunikasi KP Eksternal dengan Mitra Kerja (Customer, Kontrator, Sub Kontraktor, dll) | D104: dalama pelaksanaan pekerjaan, tidak dilakukan koordinasi dan komunikasi KP dengan mitra kerja | E104: dalam pelaksanaan pekerjaan, dilakukan koordinasi dan komunikasi KP dengan mitra kerja secara insidenti (tidak terencana) | F104: dalam pelaksanaan pekerjaan, dilakukan koordinasi dan komunikasi KP dengan mitra kerja secara terencana dan sistematis | G104: koordinasi dan komunikasi KP dengan mitra kerja dilaukan secara kontinu (tidak dibatasi oleh proses formal) dan telah terdapat keterbukaan infomasi KP yang penting | H104: koordinasi dan komunikasi KP dengan mitra kerja dilakukan dengan efketif pesan tersampaikan dengan benar dan tepat, hal-hal yang memiliki dampak terhadap KP seluruhnya terinformasikan dengan baik | I104: kuesioner wawancara | J104: 5
C105: =Penilaian!C109 -> 2.6.7 Efektivitas Komunikasi Vertikal antara Pimpinan Unit Kerja dengan Anggota | D105: pimpinan unit kerja tidak memberikan arahan kepada anggota terkait pelaksanaan pekerjaan yang aman dan selamat, anggota kerja diberikan kebebasan untuk menyelesaikan pekerjaan | E105: pimpinan unit kerja memberikan arahan kepada anggota kerja hanya terkait kejadian yang menjadi isu organisasi, tidak terencana | F105: pimpinan unit kerja memberikan arahan kepada anggota kerja sebelum pekerjaan dimulai, terkait pelaksanaan pekerjaan yang aman dan selamat | G105: pimpinan unit kerja dan anggota kerja berdiskusi sebelum pekerjaan dimulai, berkoordinasi selama pekerjaan dilaksanakan, secara verbal dan/atau nonverbal, terkait pelaksanaan pekerjaan yang aman dan selamat | H105: pimpinan unit kerja dan anggota kerja mampu melakukan komunikasi secara efektif (pesan tersampaikan dengan baik), sebelum pekerjaan dimulai, pada saat pekerjaan dilaksanakan, dan setelah pekerjaan, dan mampu bersinergi positif | I105: kuesioner wawancara | J105: 5
C106: =Penilaian!C110 -> 2.6.8 Efektivitas Komunikasi Horisontal antar Rekan Kerja | D106: sesama anggota tim kerja bekerja secara individualis tanpa berkoordinasi | E106: komunikasi horisontal antar rekan kerja dilakukan dengan buruk | F106: komunikasi horisontal antar rekan kerja dilakukan dengan secukupnya, tanpa inisiatif lebih dan keterbukaan terhadap informasi KP yang penting | G106: komunikasi horisontal antar rekan kerja dilakukan dengan baik, telah terdapat keterbukaan terhadap informasi KP yang penting | H106: sesama anggota tim kerja berkomunikasi dengan efektif; pesan tersampaiakn dengan benar dan tepat, hal-hal yang memiliki dampak terhadap KP seluruhnya terinformasikan dengan baik | I106: kuesioner wawancara | J106: 5
C107: =Penilaian!C111 -> 2.6.9 Efektivitas Komunikasi antar Ketua Kelompok Kerja | D107: antar ketua kelompok kerja (Group Leader) yang memiliki keterkaitan dalam pekerjaan bekerja secara independen tanpa berkoordinasi | E107: komunikasi horisontal antar ketua kelompok kerja dilakukan dengan buruk | F107: komunikasi horisontal antar ketua kelompok kerja dilakukan dengan secukupnya, tanpa inisiaitf lebih dan keterbukaan terhadap informasi KP yang penting | G107: komunikasi horisontal antar ketua kelompok kerja dilakukan dengan baik, telah terdapat keterbukaan terhadap informasi KP yang penting | H107: antar ketua kelompok kerja yang memiliki keterkaitan dalam pekerjaan berkomunikasi dengan efektif: pesan tersampaikan dengan benar dan tepat, hal-hal yang memiliki dampak terhadap KP seluruhnya terinformasikan dengan baik | I107: kuesioner wawancara | J107: 5
C108: =Penilaian!C112 -> 2.6.10 Efektivitas Komunikasi antar Penanggung Jawab Gilir Kerja/Shift | D108: penanggung jawab antar shift kerja bekerja secara independen tanpa berkoordinasi | E108: komunikasi horisontal antar penanggung jawab gilir kerja/shift dilakukan dengan buruk | F108: komunikasi horisontal antar penanggung jawab gilir kerja/shift dilakukan dengan secukupnya, tanpa inisiatif lebih dan keterbukaan terhadap informasi KP yang penting | G108: komunikasi horisontal antar penanggung jawab gilir kerja/shift dilakukan dengan baik, telah terdapat keterbukaan terhadap infromasi KP yang penting | H108: antar penanggung jawab shift kerja berkomunikasi dengan efekftif: pesan tersampaikan dengan benar dan tepat, hal-hal yang memiliki dampak terhadap KP seluruhnya terinformasikan dengan baik | I108: kuesioner wawancara | J108: 5
C109: =Penilaian!C113 -> 2.6.11 Kehandalan Fasilitas dan Media Penunjang Komunikasi KP | D109: fasilitas dan media penunjang komunikasi KP belum disediakan | E109: fasilitas dan media penunjang komunikasi KP telah tersedia namun dengan kondisi buruk dan tidak cukup | F109: fasilitas dan media penunjang komunikasi KP telah tersedia namun dengan jumlah yang cukup namun kondisi tidak seluruhnya memadai | G109: fasilitas penunjang dan media komunikasi KP disediakan sesuai dengan kebutuhan maupun pertimbangan risiko dan priortas, namun kondisi tidak seluruhnya memadai | H109: fasilitas penunjang dan media komunikasi KP disediakan sesuai dengan kebutuhan maupun pertimbangan risiko dan prioritas, dengan kondisi yang memadai | I109: tinjauan dokumen observasi | J109: 5
C110: =Penilaian!C114 -> 2.6.12 Jumlah Mentoring, Coaching, dan Councelling untuk Pekerja dari Pimpinan Tim Kerja | D110: mentoring, coaching, dan coucelling tidak diberikan oleh pimpinan untuk pekerja | E110: realisasi mentoring, coaching, dan couselling untuk pekerja sebesar <70% dari target | F110: realisasi mentoring, coaching, dan couselling untuk pekerja sebesar 70-79% dari target | G110: realisasi mentoring, coaching, dan couselling untuk pekerja sebesar 80-99% dari target | H110: realisasi mentoring, coaching, dan couselling untuk pekerja sebesar 100% dari target | I110: tinjauan dokumen | J110: 5
... C116: =Penilaian!C120 -> 2.6.18 Efektivitas Komunikasi KP | D116: nilai rata-rata hasil audit sub elemen III.11 dalam 2 tahun terakhir sebesar 0/4 | E116: nilai rata-rata hasil audit sub elemen III.11 dalam 2 tahun terakhir sebesar 0.1/4 s.d 2/4 | F116: nilai rata-rata hasil audit sub elemen III.11 dalam 2 tahun terakhir sebesar 2.1/4 s.d 3/4 | G116: nilai rata-rata hasil audit sub elemen III.11 dalam 2 tahun terakhir sebesar 3.1/4 s.d. 3.9/4 | H116: nilai rata-rata hasil audit sub elemen III.11 dalam 2 tahun terakhir sebesar 4/4 | I116: tinjauan dokumen | J116: 5
B117: =Penilaian!B121 -> G. Pengendalian Mutu KP dalam Kegiatan Operasional
C118: =Penilaian!C122 -> 2.7.1 Jumlah Penetapan Tata Cara Kerja Baku untuk Operasi Kerja | D118: tidak terdapat tata cara baku untuk operasi kerja | E118: jumlah tata cara kerja baku untuk operasi kerja sebesar <70% dari total kegiatan operasional pertambangan | F118: jumlah tata cara kerja baku untuk operasi kerja sebesar 70-79% dari total kegiatan operasional pertambangan | G118: jumlah tata cara kerja baku untuk operasi kerja sebesar 80-99% dari total kegiatan operasional pertambangan | H118: jumlah tata cara kerja baku untuk operasi kerja sebesar 1000% dari total kegiatan operasional pertambangan | I118: tinjauan dokumen | J118: 5
C119: =Penilaian!C123 -> 2.7.2 Efektivitas Tata Cara Kerja Baku untuk Operasi Kerja | D119: tidak terdapat tata cara baku untuk operasi kerja | E119: terdapat tata cara kerja baku untuk operasi kerja namun tidak dapat diterapkan sepenuhnya pada kegiatan operasional pertambangan, belum sepenuhnya sesuai kebutuhan dan kondisi operasional | F119: terdapat tata cara kerja baku untuk operasi kerja yang dapat diterapkan sepenuhnya pada kegiatan operasional pertambangan | G119: tata cara kerja baku untuk operasi kerja mampu menunjang keberhasilan pengelolaan aspek KP | H119: tata cara kerja baku untuk operasi kerja mampu menunjang terwujudnya seluruh aspek kaidah teknisk pertambangan yang baik | I119: observasi wawancara | J119: 5
C120: =Penilaian!C124 -> 2.7.3 Kesesuaian Penerapan Pemeriksaan Kesiapan Operasional Harian | D120: tidak terdapat rencana kerja operasional harian | E120: rencana kerja operasional harian dibuat oleh unit pelaksana/pemilik risiko tanpa mempertimbangkan aspek KP | F120: rencana kerja operasional harian dibuat dengan mempertimbangkan persyaratan aspek KP oleh unit pelaksana/pemilik risiko, namun tidak ada meknaisme verifikasi dari bagian K3 KO | G120: rencana kreja operasional harian dibuat dan diverifikasi oleh pekerja yang memiliki kompetensi dan telah memenuhi persyaratan aspek KP, merupakan produk yang dibuat bersama oleh unit pelaksana/pemilik risiko dan bagian K3 KO | H120: rencana kerja operasional harian telah memenuhi persyaratan seuruh aspek kaidah teknik pertambangan yang baik | I120: tinjauan dokumen wawancara | J120: 5
C121: =Penilaian!C125 -> 2.7.4 Kesesuaian Penetapan Rencana Kerja Operasional Harian | D121: sebagian besar pengawas operasional tidak melakukan pemeriksaaan atas P2H peralatan yang dilakukan oleh operator, tidak melakukan verifikasi terhadap kesiapan psikologis dan fisiologis anggota, tidak memastikan pemahaman anggota terhadap rencana kerja operasional harian (daily operation plan) pada awal gilir kerja | E121: sebagian besar pengawas operasional melakukan pemeriksaan atas P2H peralatan yang dilakukan oleh operator, melakukan verifikasi terhadap kesiapan psikologis dan fisiologis anggota, memastikan pemahaman anggota terhadap rencana kerja operasional harian pada awal gilir kerja, namun dilakukan secara tidak konsisten | F121: sebagian besar pengawas operasional menandatangani P2H peralatan yang dilakukan oleh operator, menandatangani formulir deklarasi kesiapan psikologis dan fisiologis anggota, memastikan pemahaman anggota terhadap rencana kerja operasional harian pada awal gilir kerja, namun dilakukan untuk pemenuhan administrasi, belum melakukan verifikasi dengan akurat | G121: sebagian besar pengawas operasional melakukan pemeriksaan dan penandatanganan P2H peralatan yang dilakukan oleh operator, melakukan verifikasi terhadap kesiapan psikologis dan fisiologis anggota, memastikan pemahaman anggota terhadap rencana kerja operasional harian pada awal gilir kerja, dan melakukan verifikasi secara akurat | H121: sebagian besar pengawas operasonal melakukan pemeriksaan kesiapan operasional sebelum memulai (startu-up) atau memulai kembali (restart) dengan akurat dan tepat untuk memastikan proses dapat dimulai dengan sehat selamat dan dilakukan dengan konsisten | I121: tinjauan dokumen observasi | J121: 5
C122: =Penilaian!C126 -> 2.7.5 Kesesuaian Pemberian izin Masuk Lokasi Pertambangan | D122: tidak ada mekanisme pemberian izin masuk lokasi pertambangan | E122: pemberian izin masuk lokasi pertambangan telah diterapkan bagi pekerja tambang (mine permit) dan setiap orang yang akan memasuki wilayah IUP, namun tidak konsisten dan tidak valid | F122: pemberian izin masuk lokasi pertambangan telah diterapkan bagi pekerja tambang dan setiap orang yang akan memasuki wilayah IUP, namun masih bersifat umum, belum terdapat izin khusus untuk memasuki area tertentu yang terbatas / restricted | G122: pemberian izin masuk lokasi pertambangan telah ditetapkan bagi pekerja tambang dan setiap orang yang akan memasuki wilayah IUP, termasuk untuk memasuki area terbatas, namun penetapan area terbatas belum adaptif dengan perkembangan risiko operasional perusahaan | H122: pemberian izin masuk lokasi pertambangan telah diterapkan bagi pekerja tambang dan setiap orang yang akan memasuki wilayah IUP, termasuk untuk memasuki area terbatas, dan penetapan area terbatas telah adaptif dengan perkembangan risiko operasional perusahaan | I122: tinjauan dokumen wawancara | J122: 5
C123: =Penilaian!C127 -> 2.7.6 Kesesuaian Pemberian Lisensi dan Surat Izin Pengoperasian Peralatan | D123: tidak ada mekanisme pemberian lisensi dan surat izin pengoperasian peralatan | E123: pemberian lisensi dan surat izin pengoperasian peralatan bagi pekerja tambang, namun mekanismenya belum memadai dan belum menyeluruh, masih terdapat yang tidak valid | F123: pemberian lisensi dan surat izin pengoperasina telah ditetapkan bagi pekerja tambang dengan mekanisme sesuai dengan persyaratan perundangan, namun belum konsitent diterapkan | G123: pemberian lisensi dan surat izin pengoperasian peralatan telah diterapkan bagi pekerja tambang dengan mekanisme sesuai dengan perundangan secara konsisten | H123: pemberian lisensi dan surat izin pengoperasian peralatan telah ditetapkan bagi pekerja tambang sesuai dengan persyaratan perundangan, dan terdapat rencana antisipasi terhadap potensi perubahan atau pergantian pekerja | I123: tinjauan dokumen wawancara | J123: 5
C124: =Penilaian!C128 -> 2.7.7 Kesesuaian Pemberian Izin Kerja Khusus | D124: nilai rata-rata hasil audit sub sub elemen V.1.2 dalam 2 tahun terakhir sebesar 0/4 | E124: nilai rata-rata hasil audit sub sub elemen V.1.2 dalam 2 tahun terakhir sebesar 0.1/4 s.d 2/4 | F124: nilai rata-rata hasil audit sub sub elemen V.1.2 dalam 2 tahun terakhir sebesar 2.1/4 s.d. 3/4 | G124: nilai rata-rata hasil audit sub sub elemen V.1.2 dalam 2 tahun terakhir sebesar 3.1/4 s.d. 3.9/4 | H124: nilai rata-rata hasil audit sub sub elemen V.1.2 dalam 2 tahun terakhir sebesar 4/4 | I124: tinjauan dokumen | J124: 5
C125: =Penilaian!C129 -> 2.7.8 Kesesuaian Penetapan Area, Aktivitas, dan Kontrol Kritis dalam aspek KP | D125: tidak terdapat informasi mengenai area dan aktivitas kritis yang memerlukan pengawasan yang lebih ketat, serta kontrol kritis yang harus dilaksanakan untuk pelaksanaan pekerjaan | E125: area dan aktivitas kritis yang memerlukan pengawasan yang lebih ketat, ditetapkan ketika telah terjadi kasus KP saja, kontrol kritis yang harus dilaksanakan untuk pelaksanaan pekerjaan terbatas pada hasil investigasi terhadap kasus KP spesifik | F125: area dan aktivitas kritis yang memerlukan pengawasan yang lebih ketat serta kontrol kritis yang harus dilaksanakan untuk pelaksanaan pekerjaan merupakan masukan dari bagian K3 dan KO, namun masih berdasarkan hasil evaluasi terhadap risiko terhadap model operasional saat ini | G125: area dan aktivitas kritis yang memerlukan pengawasan yang lebih ketat serta kontrol kritis yang harus dilaksanakan untuk pelaksanaan pekerjaan telah ditetapkan secara kolaboratif oleh unit pemilik risiko dan bagian K3 dan KO | H125: area dan aktivitas kritis yang memerlukan pengawasan yang lebih ketat serta kontrol kritis yang harus dilaksanakan untuk pelaksanaanpekerjaan telah ditetapkan secara kolaboratif oleh unit pemilik risiko dan bagian K3 Ko dengan terus menerus mencari kemungkinan terjadinya risiko | I125: tinjauan dokumen FGD | J125: 5
C126: =Penilaian!C130 -> 2.7.9 Kesuaian Penetapan Distribusi dan Komposisi Area Pengawasan | D126: tidak ada perencanaan pengawasan KP | E126: pengawasan KP difokuskan untuk pekerjaan yang telah pernah terjadi kasus KP di masa lampau | F126: pengawasan KP dilakukan pada setiap area dan/atau kegiatan operasional yang dilakukan, namun belum terdapat kebutuhan pengawas | G126: pengawasan KP dilakukan secara berjenjang sesuai tingkatan pengawas pada setiap area dan/atau kegiatan operasional yang dilakukan | H126: jumlah pengawasa dan layer pengawasan KP telah ditentukan dengan mempertimbangkan jumlah dan jenis aktivitas yang diawasi, lingkup area dan obyek yang diawasi, jumlah entitas (perusahaan) yang diawasi, shift kerja, dan frekuensi pelaksanaan | I126: tinjauan dokumen FGD | J126: 5
C127: =Penilaian!C131 -> 2.7.10 Jumlah Inspeksi, Pemeriksaan, Pengujian oleh Pengawas Operasional Langsung | D127: pengawas tidak melakukan inspeksi, pemeriksaan, dan pengujian secara terencana dan tidak terencana | E127: realisasi inspeksi, pemeriksaan, pengujian oleh pengawas sebesar < 70% dari target | F127: realisasi inspeksi, pemeriksaan, pengujian oleh pengawas sebesar 70-79% dari target | G127: realisasi inspeksi, pemeriksaan, pengujian oleh pengawas sebesar 80-99% dari target | H127: realisasi inspeksi, pemeriksaan, pengujian oleh pengawas sebesar 100% dari target | I127: tinjauan dokumen | J127: 5
C128: =Penilaian!C132 -> 2.7.11 Kesuaian dan Kehandalan Hasil Inspeksi, Pemeriksaan, Pengujian oleh Pengawas Operasional Langsung | D128: pengawas tidak melakukan inspeksi , pemeriksaan, dan pengujian secara terencana maupun tidak terencana | E128: sebagian besar hasil inspeksi, pemeriksaan, dan pengujian hanya untuk kondisi tidak aman dan tindakan tidak aman kategori minor, serta masih ditemukan hasil inspeksi, pemeriksaan, dan pengujian yang tidak valid | F128: sebagian besar hasil inspeksi, pemeriksaan, dan pengujian merupakan kondisi tidak aman dan tindakan tidak aman, namun masih ditemukan bahaya di tempat kerja yang tidak terdeteksi melalui inspeksi, pemeriksaan dan pengujian | G128: hasil inspeksi, pemeriksaan, dan pengujian mencakup kondisi tidak aman dan tindakan tidak aman, termasuk hal kritikal, serta deviasi dari sistem operasi yang menjadi kondisi laten penyebab terjadinya kerugian | H128: seluruh hasil inspeksi , pemeriksaan, dan pengujian adalah valid dan merepresentasikan kondisi nyata pada kegiatan operasional. Pengawas operasional mampu mengamati elemen penting dari apa yang dilakukan, kemudian memahami makna (comprehend), dan selanjutnya mampu memproyeksikan (projection) hal tersebut ke masa mendatang agar kita mampu membuat keputusan (decision) untuk bertindak (action). seluruhnya mampu didokumentasikan pada hasil inspeksi. Tidak hanya mendeteksi bahay a dan risiko namun juga sudah mendeteksi peluang peningkatan kinerja KP | I128: tinjauan dokumen wawancara | J128: 5
C129: =Penilaian!C133 -> 2.7.12 Jumlah Inspeksi, Pemeriksaan, Pengujian oleh Pengawas Operasional Jenjang Menengah | D129: pengawas operasional jenjang menengah tidak melakukan inspeksi, pemeriksaan, dan pengujian secara terencana maupun tidak terencana. Tidak ditetapkan target yagn menjadi bagian dari akuntabilitas dari pengawas operasional jenjang menengah | E129: realisasi inspeksi, pemeriksaan, pengujian oleh pengawas operasional jenjang menengah sebesar < 70% dari target | F129: realisasi inspeksi, pemeriksaan, pengujian oleh pengawas operasional jenjang menengah sebesar 70-79% dari target | G129: realisasi inspeksi, pemeriksaan, pengujian oleh pengawas operasional jenjang menengah sebesar 80-99% dari target | H129: realisasi inspeksi, pemeriksaan, pengujian oleh pengawas operasional jenjang menengah sebesar 1000% dari target | I129: tinjauan dokumen | J129: 5
... C133: =Penilaian!C137 -> 2.7.16 Efektivitas Inspeksi KP | D133: nilai rata-rata hasil audit sub elemen V.2 dalam 2 tahun terakhir sebesar 0/4 | E133: nilai rata-rata hasil audit sub elemen V.2 dalam 2 tahun terakhir sebesar 0.1/4 s.d 2/4 | F133: nilai rata-rata hasil audit sub elemen V.2 dalam 2 tahun terakhir sebesar 2.1/4 s.d 3/4 | G133: nilai rata-rata hasil audit sub elemen V.2 dalam 2 tahun terakhir sebesar 3.1/4 s.d. 3.9/4 | H133: nilai rata-rata hasil audit sub elemen V.2 dalam 2 tahun terakhir sebesar 4/4 | I133: tinjauan dokumen | J133: 5
B134: =Penilaian!B138 -> H. Penjaminan Mutu KP melalui Audit internal SMKP
C135: =Penilaian!C139 -> 2.8.1 Dasar Pelaksanaan Audit Internal SMKP | D135: audit internal SMKP dilakukan secara insidental (tanpa perencanaan), setelah adanya teguran/peringatan dari KaIT | E135: audit internal SMKP dilakukan secara insidental (tanpa perencanaan) dan fokus untuk menyelesaikan pemenuhan kewajiban persyaratan perundangan | F135: audit internal SMKP dilakukan sesuai dengan waktu pelaksanaan yang direncanakan, namun perencanaan tersebut belum mempertimbangkan analisis risiko dan peluang KP | G135: audit internal SMKP dilakukan berdasarkan analisis kebutuhan dan untuk kepentingan perbaikan dan perbaikan dan peningkatan kinerja KP | H135: audit internal SMKP didasarkan pada hasil penillaian risiko dan peluang aspek KP serta evaluasi kinerja KP sebelumnya, untuk mencapai beyond compliance | I135: tinjauan dokumen analisis | J135: 5
C136: =Penilaian!C140 -> 2.8.2 Kesesuaian Metodologi Audit Internal SMKP | D136: audit internal SMKP tidak dilakukan dengan perencanaan audit yang mencakup penetapan metodologi | E136: audit internal SMKP dilakukan dengan perencanaan metodologi audit yang sepenuhnya tidak sesuai dengan tujuan audit | F136: audit internal SMKP dilakukan seluruhnya dengan pengambilan bukti secara sekunder, tidak ada verifikasi untuk meningkatkan reliabilitas hasil audit | G136: audit internal SMKP telah dilakukan dengan metode pengambilan data sekunder dan primer yang beragam, serta penetapan jumlah dan jenis sampel yang memadai | H136: metodologi audit yang ditetapkan telah sesuai sehingga berhasil digunakan utnuk mencapai keseluruhan tujuan audit | I136: tinjauan dokumen analisis | J136: 5
C137: =Penilaian!C141 -> 2.8.3 Keberhasilan Pencapaian Tujuan Audit Internal SMKP | D137: tujuan audit internal SMKP tidak tercapai | E137: hanya 1 tujuan audit internal SMKP yang tercapai | F137: hanya 2 tujuan audit internal SMKP yang tercapai | G137: hanya 3 tujuan audit internal SMKP yang tercapai | H137: seluruh tujuan audit internal SMKP tercapai | I137: tinjauan dokumen analisis | J137: 5
C138: =Penilaian!C142 -> 2.8.4 Jumlah Opportunity for Improvement dari Hasil Audit Internal SMKP | D138: auditor belum mengidentifikasi OFI | E138: auditor mengidentifikasi OFI sebesar < 70% dari total kesesuaian | F138: auditor mengidentifikasi OFI sebesar 70-79% dari total kesesuaian | G138: auditor mengidentifikasi OFI sebesar 80-99% dari total kesesuaian | H138: auditor mengidentifikasi OFI sebesar 1000% dari total kesesuaian | I138: tinjauan dokumen | J138: 5
...

Sheet Kuesioner
A2: Indikator | C2: Parameter | D2: 1 | E2: 2 | F2: 3 | G2: 4 | H2: 5
A3: =Penilaian!A6 -> Partisipasi Pekerja Tambang | B3: =Penilaian!B6 -> A. Kepedulian dan Perilaku Individu terhadap Risiko KP
C4: =Penilaian!C8 -> 1.1.2 Komitmen dan Inisiatif Pekerja dalam Pengelolaan KP | D4: =Rubrik!D5 -> pekerja bersikap apatis dalam pengelolaan KP dan mengupayakan keselamatan individu dengan naluri, melaksanakan KP karena terpaksa namun tidak mengetahui manfaatnya | E4: =Rubrik!E5 -> pekerja melaksanakan KP sudah mengetahui manfaat pengelolaan KP, namun sepenuhnya bergantung pada perusahaan tempat mereka bekerja untuk menjaga mereka tetap selamat | F4: =Rubrik!F5 -> pekerja menjaga kesealamatan dan kesehatan diri mereka secara mandiri untuk komitmen kepatuhan terhadap norma | G4: =Rubrik!G5 -> pekerja berkontribusi pada keselamatan dan kesehatan orang lain (interdependent) dalam tim kerja dengan komitmen berkelanjutan | H4: =Rubrik!H5 -> pekerja berkontribusi pada keselamatan dan kesehatan orang lain dalam skala organisasi, menjalankannya bagian dari gaya hidup, memiliki ikatan emosional yang melekat untuk melibatkan diri untuk peningkatan pengelolaan KP organisasi (komitmen afektif)
B5: =Penilaian!B12 -> B. Keterlibatan Pekerja dalam Pengelolaan KP
C6: =Penilaian!C15 -> 1.2.3 Peran Pekerja dalam Kegiatan KP | D6: =Rubrik!D12 -> sebagian besar pekerja hanya menghadiri kegiatan KP yang menjadi kewajibannya | E6: =Rubrik!E12 -> sebagian besar pekerja terlibat dan hanya berkontribusi dalam kegiatan KP apabila ada isue dengan pekerjaannya atau ketika diminta oleh pimpinan unit kerja | F6: =Rubrik!F12 -> sebagian besar pekerja berpartisipasi dalam kegiatan KP lingkup unit kerjanya sesuai dengan tanggung jawab yang ditetapkan | G6: =Rubrik!G12 -> sebagian besar pekerja berperan aktif memberikan input konstruktif, umpan balik, informasi dan/atau dukungan dalam kegiatan KP untuk lingkup unit kerjanya dan unit lain yang terkait dalam departemen | H6: =Rubrik!H12 -> sebagian besar pekerja berpartisipasi secara aktif dalam kegiatan KP lingkup organisasi, dan mampu berkolaborasi untuk mencapai tujuan KP
C7: =Penilaian!C17 -> 1.2.5 Peran Perwakilan Departemen/Bagian/Seksi dalam Tim Manajemen Risiko KP | D7: =Rubrik!D14 -> sebagian besar perwakilan departemen/bagian/seksi tidak berperan dalam tim manajemen risiko KP | E7: =Rubrik!E14 -> sebagian besar perwakilan departemen/bagian/seksi yang dipilih melaksanakan tanggung jawabnya dalam tim manajemen risiko KP hanya apabila ada isue dengan pekerjaannya atau ketika diminta oleh KTT/PJO | F7: =Rubrik!F14 -> sebagian besar perwakilan departemen/bagian/seksi yang dipilih melaksanakan tanggung jawabnya dalam tim manajemen risiko KP sesuai dengan tanggung jawab yang ditetapkan | G7: =Rubrik!G14 -> sebagian besar perwakilan departemen/bagian/seksi yang dipilih berperan aktif memberikan input konsruktif, umpan balik, informasi dan/atau dikungan yang dibutuhan dalam kegiatan tim manajemen risiko KP | H7: =Rubrik!H14 -> seluruh perwakilan departemen/bagian/seksi yang dipilih mampu untuk saling menyelaraskan pemahaman, melakukan pertukaran informasi yang tepat, dan mampu berkolaborasi dalam tim untuk mencapai tujuan manajemen risiko KP lingkup organisasi
A8: =Penilaian!A38 -> Tanggung Jawab Pimpinan Unit Kerja | B8: =Penilaian!B38 -> A. Implementasi Kebijakan KP
C9: =Penilaian!C42 -> 2.1.4 Persepsi Pekerja terhadap Komitmen Manajemen dalam Penerapan Kebijakan KP | D9: =Rubrik!D38 -> sebagian besar pekerja memiliki persepsi bahwa manajemen tidak mendukung penerapan kebijakan KP. Kebijakan KP sering dikompromikan untuk kepentingan lainnya dalam kondisi tertentu | E9: =Rubrik!E38 -> sebagian besar pekera memiliki persepsi bahwa manajemen berkomitmen untuk menerapkan kebijakan KP ketika sudah terjadi kecelakaan dan kerugian | F9: =Rubrik!F38 -> sebagian besar pekerja memiliki persepsi bahwa manajemen telah berkomitmen untuk menerapkan kebijakan dan tanpa harus terjadi kecelakaan dan kerugian terlebih dahulu, melalui program KP terencana | G9: =Rubrik!G38 -> sebagian besar pekerja memiliki persepsi bahwa manajemen telah berkomitmen untuk menerapkan kebijakan dan uapay-upaya KP dan apabila terjadi konflik kepentingan, maajemen memiliki inisiatif untuk mengevaluasi analisis risiko dan mengutamakan aspek KP tetap terpenuhi | H9: =Rubrik!H38 -> sebagian besar pekerja memiliki persepsi bahwa manajemen telah menerapkan kebijakan dan upaya-upaya KP, mengutamakan aspek KP saat terjadi konflik kepentingan, dan telah menjadi panutan/teladan yang baik bagi pekerja dalam penerapan KP
B10: =Penilaian!B43 -> B. Kepemimpinan dan Komitmen KP
C11: =Penilaian!C45 -> 2.2.2 Persepsi Pekerja terhadap Kepemimpinan dan Komitmen Manajemen | D11: =Rubrik!D41 -> sebagian besar pekerja memiliki persepsi bahwa komitmen manajemen puncak dalam KP sangat kurang | E11: =Rubrik!E41 -> sebagian besar pekerja memiliki persepsi bahwa komitmen manajemen puncak dalam KP terbatas untuk sekedar penyelesaian permasalahan kasus KP yang telah terjadi | F11: =Rubrik!F41 -> sebagian besar pekerja memiliki persepsi bahwa komitmen manajemen puncak dalam KP untuk pemenuhan minimum kewajiban hukum dan pencapaian target kinerja lagging indicator | G11: =Rubrik!G41 -> sebagian besar pekerja memiliki persepsi bahwa manajemen puncak memiiki komitmen pengelolaan KP untuk menunjang sistem produsi dan mencapai target leading dan lagging indicator | H11: =Rubrik!H41 -> sebagaian besar pekerja memiliki persepsi bahwa manajemen puncak memiliki komitmen tinggi dalam KP agar dapat menunjang kinerja operasional yang konsisten handal di berbagai kondisi. Manajemen telah menjadi role model bagi pekerja, telah memberikan dukungan yang memadai dan dorongan untuk inovasi dan perbaikan berkelanjutan
C12: =Penilaian!C48 -> 2.2.5 Kecepatan Manajemen Puncak dalam Merespon Isu KP | D12: =Rubrik!D44 -> manajemen puncak apatis dan tidak memiliki atensi dalam merespon isu KP | E12: =Rubrik!E44 -> manajemen puncak menunda melakukan perbaikan isu KP dan baru mulai menindaklanjuit ketika telah terjadi kerugian | F12: =Rubrik!F44 -> manajemen pncak melakukan perbaikan atas isu KP sesuai dengan birokrasi yang ditetapkan, dengan fokus kepada isu KP yang mempengaruhi keberlanjutan operasional | G12: =Rubrik!G44 -> manajemen puncak mampu mengambil keputusan dan melakukan perbaikan atas isu KP dengan cepat terhadap isu KP yang telah terjadi, baik isu KP yang bersifat minor, mayor, maupun yang signifikan mempengaruhi keberlanjutan operasional | H12: =Rubrik!H44 -> manajemen puncak mampu mengambil keputusan dan melakukan perbaikan atas seluruh isu KP dengan cepat, baik kepada isu KP yang telah terjadi, maupun melaukan antisipasi yang tepat untuk isu KP yang berpotensi akan terjadi di masa mendatang
C13: =Penilaian!C58 -> 2.2.15 Persepsi Pekerja terhadap Kepemimpinan dan Komitmen dari KTT/PJO | D13: =Rubrik!D54 -> sebagian besar pekerja memiliki persepsi bahwa komitmen KTT/PJO dalam pengelolaan KP sangat kurang | E13: =Rubrik!E54 -> sebagian besar pekerja memiliki persepsi bahwa komitmen KTT/PJO dalam pengelolaan KP terbatas untuk sekedar penyelesaian permasalahan kasus KP yang telah terjadi | F13: =Rubrik!F54 -> sebagian besar pekerja memiliki persepsi bahwa komitmen KTT/PJO dalam pengelolaan KP untuk pemenuhan minimum kewajiban hukum dan pencapaian target kinerja lagging indicator | G13: =Rubrik!G54 -> sebagian besar pekerja memiliki persepsi bahwa KTT/PJO memiliki komitmen dalam pengelolaan KP terbatas untuk menunjang sistem produksi dan mencapai target leading dan lagging indicator | H13: =Rubrik!H54 -> sebagian besar pekerja memiliki persepsi bahwa KTT/PJO memiliki komitmen yang tinggi dalam KP agar dapat menunjang kinerja operasional yang konsisten handal di berbagai kondisi. KTT/PJO telah menjadi role model bagi pekerja dalam hal pengelolaan KP
C14: =Penilaian!C60 -> 2.2.17 Peran KTT/PJO dalam Kegiatan KP | D14: =Rubrik!D56 -> KTT/PJO tidak terlibat/berperan dalam kegiatan KP | E14: =Rubrik!E56 -> KTT/PJO memberikan informasi satu arah, tidak memberikan ruang partisipasi dan kesempatan kepada anggota untuk merespon kepada pekerja | F14: =Rubrik!F56 -> KTT/PJO memberikan kesempatan untuk diskusi dan konsultasi serta mendelegasikan keapda pimpinan unit kerja untuk memimpin kegiatan KP | G14: =Rubrik!G56 -> KTT/PJO memimpin langsung, membuka ruang kerjasama yang besar dan proses diskusi dua arah, menjadikan pekerja sebagai partner untuk kolaborasi | H14: =Rubrik!H56 -> KTT/PJO mampu memberdayakan pekerja untuk berpartisipasi aktif, memberi solusi, melakkan pertukaran nformasi yang tepat, serta mampu memimpin pengambilan keputusan, penetapan kesimpulan/mufakat didasarkan hasil konsensus bersama yang melalui proses rasional dan partisipasi tulus dari pekerja
C15: =Penilaian!C61 -> 2.2.18 Peran KTT/PJO dalam Penyusunan dan Tinjauan Kebijakan KP | D15: =Rubrik!D57 -> KTT/PJO tidak terlibat/berperan dalam penyusunan tinjauan kebijakan KP | E15: =Rubrik!E57 -> KTT/PJO hanya sekedar hadir dalam kegiatan penyusunan/tinjauan kebijakan KP namun tidak berperan signifikan, mendelagasikan kepada pimpinan bagian K3 dan KO untuk memimpin diskusi dan membuat keputusan dalam kegiatan penyusunan/tinjauan kebijakan KP | F15: =Rubrik!F57 -> KTT/PJO berpartisipasi dalam penyusunan/tinjauan kebijakan KP sesuai dengan tanggung jawab yang ditetapkan secara terencana, terlibat dalam pembahasan seluruh substansi namun menetapkan keputusan secara terpimpin | G15: =Rubrik!G57 -> KTT/PJO memimpin langsung pelaksanaan kegiatan penyusunan/tinjauan kebijakan KP dan terlibat dalam pembahasan seluruh substansi dan memberikan masukan konstruktif dan valid, umpan balik, informasi dan/atau dukungan yang dibutuhkan, untuk setiap substansi pembahasan | H15: =Rubrik!H57 -> KTT/PJO mampu memberdayakan seluruh peserta untuk berkolaborasi dalam memberikan masukan seluruh substansi pembahasan, dan mampu memimpn pengambilan keputusan dan penetapan kesimpulan melalui prsoes yang inklusif dan tepat, didaarkan hasil konsensus bersama untuk mencapai tujuan penyusuan/tinjauan kebijakan KP
C16: =Penilaian!C62 -> 2.2.19 Peran KTT/PJO dalam Manajemen Risiko KP | D16: =Rubrik!D58 -> KTT/PJO tidak terlibat/berperan dalam manajemen risiko KP | E16: =Rubrik!E58 -> KTT/PJO tidak berperan signifikan dalam manajemen risiko KP | F16: =Rubrik!F58 -> KTT/PJO ikut berperan dalam tahap perencanaan manajemen risiko KP | G16: =Rubrik!G58 -> KTT/PJO ikut berperan dalam tahap perencanaan, komunikasi dan konsultasi, pelaksanaan, dan secara proaktif melakukan pemantauan dan peninjauan manajemen risiko KP | H16: =Rubrik!H58 -> KTT/PJO ikut berperan dalam tahap perencanaan, komunikasi dan konsultasi, pelaksanaan, dan pemantauan, dan peninjauan manajemen risiko KP, serta menindaklanjuti hasil evaluasi untuk peningkatan berkelanjutan
C17: =Penilaian!C63 -> 2.2.20 Persepsi Pimpinan Departemen/Bagian/Seksi terhadap peran KP | D17: =Rubrik!D59 -> pimpinan departemen/bagaian/seksi memiliki persepsi bahwa pengelolaan KP harus dilakukan agar tidak terkena sanksi dari pemerintah dan/atau klien serta untuk kepentingan sertifikasi/pengakuan dari eksternal | E17: =Rubrik!E59 -> pimpinan departemen/bagian/seksi memiliki persepsi bahwa pengelolaan KP harus untuk mencegah kerugian berulang (loss control), dengan fokus kepada penyelesaian masalah/kejadian | F17: =Rubrik!F59 -> pimpinan departemen/bagian/seksi memiliki persepsi bahwa pengelolaan KP harus dilakukan sebagai upaya kepatuhan adminstratif yang bertujuan fokus untuk mencegah dan menurunkan angka kecelakaan, kejadian berbahaya, KAPTK, dan PAK sesuai target kinerja | G17: =Rubrik!G59 -> pimpinan departemen/bagian/seksi memiliki persepsi bahwa pengelolaan KP adalah pendukung kelancaran operasional pertambangan dan harus dikelola dengan sistem manajemen yang terintegrasi dengan seluruh fungsi di dalam perusahaan | H17: =Rubrik!H59 -> pimpinan departemen/bagian/seksi memiliki persepsi bahwa pengelolaan KP merupakan pendukung kelancaran operasional pertambangan dan investasi yang baik bagi perusahaan serta bagian dari budaya perusahaan yang harus terus diimplementasikan dan ditingkatkan secara berkelanjutan
C18: =Penilaian!C64 -> 2.2.21 Persepsi Pekerja terhadap Kepemimpinan dan Komitmen dari Pimpinan Departemen/Bagian/Seksi | D18: =Rubrik!D60 -> sebagian besar pekerja memiliki persepsi bahwa komitmen pimpinan departemen/bagian/seksi dalam pengelolaan KP sangat kurang | E18: =Rubrik!E60 -> sebagian besar pekerja memiliki persepsi bahwa komitmen pimpinan departemen/bagian/seski dalam pengelolaan KP terbatas untuk sekedar penyelesaian permasalahan kasus KP yang telah terjadi | F18: =Rubrik!F60 -> sebagian besar pekerja memiliki persepsi bahwa komitmen pimpinan departemen/bagian/seksi dalam pengelolaan KP untuk pemenuhan minimum kewajiban hukum dan pencapaian target kinerja lagging indicator | G18: =Rubrik!G60 -> sebagian besar pekerja memiliki persepsi bahwa pimpinan departemen/bagian/seksi memiliki komitmen pengelolaan KP untuk menunjang sistem produksi dan mencapai target leading dan lagging indicator | H18: =Rubrik!H60 -> sebagian besar pekerja memiliki persepsi bahwa pimpinan departemen/bagian/seksi memiliki komitmen yang tinggi dalam KP agar dapat menunjang kinerja operasional yang konsisten handal di berbagai kondisi. Pimpinan departemen/bagian teah menjadi role model bagi anggotanya dalam hal pengelolaan KP
C19: =Penilaian!C66 -> 2.2.23 Peran Pimpinan Departemen/Bagian dalam Penyusunan dan Tinjauan Kebijakan KP | D19: =Rubrik!D62 -> pimpinan departemen/bagian tidak terlibat/berperan dalam penyusunan / tinjauan kebijakan KP | E19: =Rubrik!E62 -> sebagian besar pimpinan departemen/bagian hanya sekedar hadir dalam kegiatan penyusunan / tinjauan kebijaan KP namun tidak berperan aktif dalam kegiatan penyusunan/ tinjauan kebijakan KP, hanya berperan aktif ketika diminta diminta oleh KTT/PJO | F19: =Rubrik!F62 -> sebagian besar pimpinan departemen/bagian berpartisipasi dalam penyusunan / tinjauan kebijakan KP sesuai dengan tanggung jawab yang ditetapkan secara terencana | G19: =Rubrik!G62 -> sebagian besar pimpinan departemen/bagian berperan aktif memberikan input konstruktif dalam penyusunan / tinjauan kebijakan KP | H19: =Rubrik!H62 -> seluruh pimpinan departemen / bagian mampu memberikan informasi dan dukungan yang tepat, mentransfer pemahaman dan/atau mampu berkolaborasi untuk mencapai tujuan penyusunan/tinjauan kebijakan KP
C20: =Penilaian!C68 -> 2.2.25 Peran Pimpinan Departemen/Bagian/Seksi dalam Kegiatan KP | D20: =Rubrik!D64 -> pimpinan departemen / bagian hanya menghadiri kegiatan KP yang menjadi kewajibannya | E20: =Rubrik!E64 -> sebagian besar pimpinan departemen/bagian terlibat dan hanya berkontribusi dalam kegiatan KP apabila ada isu dengan pekerjaannya atau ketika diminta oleh KTT/PJO | F20: =Rubrik!F64 -> sebagian besar pimpinan departemen/bagian berpartisipasi dalam kegiatan KP sesuai dengan tanggung jawab yang ditetapkan secara terencana | G20: =Rubrik!G64 -> sebagian besar pimpinan departemen/bagian berperan aktif memberikan input konstruktif dalam kegiatan KP | H20: =Rubrik!H64 -> seluruh pimpinan departemen/bagian mampu mentrasnfer pemahaman dan/atau mampu berkolaborasi untuk mencapai tujuan kegiatan KP lingkup organisasi
C21: =Penilaian!C70 -> 2.2.27 Peran Pimpinan Departemen/Bagian/Sekai dalam Manajemen Risiko KP | D21: =Rubrik!D66 -> pimpinan departemen /bagian/seksi tidak beperan dalam manajemen risiko KP | E21: =Rubrik!E66 -> sebagian besar pimpinan departemen/bagian/seksi melaksanakan tanggung jawbanya dalam tim manajemen risiko KP, apabila ada isue dengan pekerjaaanya atau ketika diminta oleh KTT/PJO | F21: =Rubrik!F66 -> sebagian besar pimpinan departemen/bagian/seksi berpartisipasi dalam tim manajemen risiko KP sesuai dengan tanggung jawab yang ditetapkan | G21: =Rubrik!G66 -> sebagian besar pimpinan departemen/bagian/seksi beperan aktif memberikan input konstruktif, umpan balik, informasi dan/atau dukungan yang dibutuhkan dalam kegiatan tim manajemen risiko KP | H21: =Rubrik!H66 -> seluruh pimpinan departemen/bagian/seksi mampu memberikan informasi dan dukungan yang tepat, saling mentransfer dan mnyelaraskan pemahaman dan mampu berkolaborasi dalam tim untuk mencapai tujuan manajemen risiko KP lingkup organisasi
C22: =Penilaian!C72 -> 2.2.29 Peran Pengawas Operasional/Teknis dalam Pertemuan KP Kelompok Kerja | D22: =Rubrik!D68 -> pengawas operasional tidak terlibat/berperan dalam pertemuan KP kelompok kerja | E22: =Rubrik!E68 -> pengawas operasional memberikan informasi satu arah, tidak memberikan ruang partisipasi dan kesempatan merespon kepada anggotanya dalam pertemuan KP kelompok kerja | F22: =Rubrik!F68 -> pengawas operasional memberikan kesempatan untu kdiskusi dan konsultasi dan mendelegasikan kepada anggota yang dipilih untuk memimpin pertemuan KP kelompok kerja | G22: =Rubrik!G68 -> pengawas operasional memimpin langsung pertemuan KP kelompok kerja, membuka ruang kerjasama yang besar dan proses diskusi dua arah, menjadikan anggota sebagai partner untuk kolaborasi | H22: =Rubrik!H68 -> pengawas operasional mampu memberdayakan anggotanya untuk berpartisipasi aktif dan melakukan pertukaran informasi yang tepat, serta mampu memimpin pengambilan keputusan, penetapan kesimpulan//mufakat melalui proses rasional dan partisipasi tulus dari anggota
C23: =Penilaian!C74 -> 2.2.31 Peran Pengawas Operasional/Teknis dalam Manajemen Risiko KP | D23: =Rubrik!D70 -> pengawas operasional tidak berperan/berkontribusi dalam manajemen risiko KP | E23: =Rubrik!E70 -> sebagian besar pengawas operasional melaksanakan tanggung jawabanya dalam tim manajemen risiko KP, apabila ada isu dengan pekerjaannya atau ketika diminta oleh pimpinan unit kerjanya | F23: =Rubrik!F70 -> sebagian besar pengawas operasional berpartisipasi dalam tim manajemen risiko KP sesuai dengan tanggung jawab yang ditetapkan | G23: =Rubrik!G70 -> sebagian besar pengawas operasional dipilih berperan aktif memberikan input konstruktif, umpan balik, informasi dan/atau dukungan yang dibutuhkan dalam kegiatan tim manajemen risiko KP | H23: =Rubrik!H70 -> seluruh pengawas operasonal mampu memberikan informasi dan duungan yang tepat, saling mentrasfer dan menyelaraskan pemahaman dan mampu berkolaborasi dalam tim untuk mencapai tujuan manajemen risiko KP lingkup organisasi
B24: =Penilaian!B84 -> D. Penetapan Peran, Tanggung Jawab dan Kewenangan dalam KP
C25: =Penilaian!C94 -> 2.4.10 Pemberian Dukungan dan Kewenangan kepada Pekerja untuk Menyatakan Keberatan Bekerja jika Syarat KP Diragukan | D25: =Rubrik!D90 -> tidak ada mekanisme untuk menyatakan keberatan bekerja jika persyaratan KP diragukan. Pekerja wajib melaksanakan work order dalam setiap kondisi | E25: =Rubrik!E90 -> hanya pimpinan departemen/bagian/seksi yang diberikan kewenangan untuk mewakili pekerja yang menyatakan keberatan bekerja jika persyaratan KP diragukan | F25: =Rubrik!F90 -> hanya pimpinan departemen/bagian/seksi dan pengawas operasional dari tiap pekerjaan diberikan keweangan untuk mewakili pekerja yang menyatakan keberatan bekerja jika persyaratan KP diragukan | G25: =Rubrik!G90 -> seluruh pekerja telah diberikan kesempatan untuk menyatakan keberatan bekerja jika persyaratan KP diragukan, namun pada prakteknya masih terdapat permasalahan ketidakadilan sosial di tempat kreja akibat ketidaksejajaran kekuasanaan/otoritas, sehingga pekerja tidak berani untuk menyatakan keberatan bekerja | H25: =Rubrik!H90 -> setiap pekerja dari setiap jenang pekerja diberikan dukungan secara adil untuk menyatakan keberatan bekerja jika persyaratan KP diragukan, dan telah terdapat mekanisme verifikasi yang adil dan trasnsparan
C26: =Penilaian!C95 -> 2.4.11 Penerapan Mekanisme Pemilihan Perwakilan Pekerja pada Komite KP | D26: =Rubrik!D91 -> pemilihan perwakilan pekerja pada komite KP tanpa ada pertimbangan apapun oleh manajemen puncak, sercara otoriter | E26: =Rubrik!E91 -> pemilihan perwakilan pekerja pada komite KP dilakukan melalui proses diskusi sepihak antara manajemen dan KTT/PJO | F26: =Rubrik!F91 -> pemilihan perwakilan pekerja pada komite KP sesuai dengan tingkat jabatan | G26: =Rubrik!G91 -> pemilihan perwakilan pekerja pada komite KP dilakukan dengan melibatkan pemangku kepentingan internal, namun belum ada pertimbangan komptensi dan komposisi | H26: =Rubrik!H91 -> pemilihan perwakilan pekerja pada komite KP dilakukan melalui mekanisme yang aspiratif dan demokratis, dengan mempertimbangkan kompetensi dan komposisi
C27: =Penilaian!C96 -> 2.4.12 Persepsi Manajemen terhadap Pengelolaan Pekerja | D27: =Rubrik!D92 -> manajemen memandang pekerja sebagai bagian sementara dari perusahaan yang harus diambil manfaat sebesar-besarnya dan akan mudah digantikan | E27: =Rubrik!E92 -> manajemen memandang pekerja sebagai lilabilitas, menjadi beban yang harus dikendalikan agar tidak menimbulkan kerugian bagi perusahaan | F27: =Rubrik!F92 -> manajemen memandang pekerja sebagai sumberdaya positif yang harus dimaksimalkan dalam perannya unuk mengendalikan risiko | G27: =Rubrik!G92 -> manajemen memandang pekerja sebagai aset perushaan yang harus dikembangkan valuenya sehingga dapat berkontribusi secara progresif untuk peningkatan kinerja KP | H27: =Rubrik!H92 -> manajemen memandang pekerja sebagai mitra strategis yang diberikan sumberdaya penunjang yang memadai untuk mencapai tujuan bersama dalam pengelolaan KP
B28: =Penilaian!B102 -> F. Informasi, Komunikasi, Pendampingan, Konsultasi KP
C29: =Penilaian!C107 -> 2.6.5 Efektivitas Kampanye KP | D29: =Rubrik!D103 -> kampanye KP sudah berjalan, namun tidak menarik dan tidak menggugah kesadaran pekerja terhadap KP | E29: =Rubrik!E103 -> kampanye KP menarik perhatian dari pekerja dan telah berhasil membangun kesadaran pekerja terhadap KP | F29: =Rubrik!F103 -> kampanye KP telah berhasil membangun kesadaran pekerja terhadap KP dan menumbuhkan ketertarikan pekerja untuk berpatisipasi dalam pengelolaan KP | G29: =Rubrik!G103 -> kampanye KP telah berhasil menumbuhkan keinginan dan kemauan pekerja untuk berpartisipasi dalam pengelolaan KP secara konkrit | H29: =Rubrik!H103 -> kampanye KP telah berhasil menggerakkan pekerja untuk bekerja secara aman dan berpartisipasi secara konktrit dalam pengelolaan KP
C30: =Penilaian!C108 -> 2.6.6 Efektivitas Komunikasi KP Eksternal dengan Mitra Kerja (Customer, Kontrator, Sub Kontraktor, dll) | D30: =Rubrik!D104 -> dalama pelaksanaan pekerjaan, tidak dilakukan koordinasi dan komunikasi KP dengan mitra kerja | E30: =Rubrik!E104 -> dalam pelaksanaan pekerjaan, dilakukan koordinasi dan komunikasi KP dengan mitra kerja secara insidenti (tidak terencana) | F30: =Rubrik!F104 -> dalam pelaksanaan pekerjaan, dilakukan koordinasi dan komunikasi KP dengan mitra kerja secara terencana dan sistematis | G30: =Rubrik!G104 -> koordinasi dan komunikasi KP dengan mitra kerja dilaukan secara kontinu (tidak dibatasi oleh proses formal) dan telah terdapat keterbukaan infomasi KP yang penting | H30: =Rubrik!H104 -> koordinasi dan komunikasi KP dengan mitra kerja dilakukan dengan efketif pesan tersampaikan dengan benar dan tepat, hal-hal yang memiliki dampak terhadap KP seluruhnya terinformasikan dengan baik
C31: =Penilaian!C109 -> 2.6.7 Efektivitas Komunikasi Vertikal antara Pimpinan Unit Kerja dengan Anggota | D31: =Rubrik!D105 -> pimpinan unit kerja tidak memberikan arahan kepada anggota terkait pelaksanaan pekerjaan yang aman dan selamat, anggota kerja diberikan kebebasan untuk menyelesaikan pekerjaan | E31: =Rubrik!E105 -> pimpinan unit kerja memberikan arahan kepada anggota kerja hanya terkait kejadian yang menjadi isu organisasi, tidak terencana | F31: =Rubrik!F105 -> pimpinan unit kerja memberikan arahan kepada anggota kerja sebelum pekerjaan dimulai, terkait pelaksanaan pekerjaan yang aman dan selamat | G31: =Rubrik!G105 -> pimpinan unit kerja dan anggota kerja berdiskusi sebelum pekerjaan dimulai, berkoordinasi selama pekerjaan dilaksanakan, secara verbal dan/atau nonverbal, terkait pelaksanaan pekerjaan yang aman dan selamat | H31: =Rubrik!H105 -> pimpinan unit kerja dan anggota kerja mampu melakukan komunikasi secara efektif (pesan tersampaikan dengan baik), sebelum pekerjaan dimulai, pada saat pekerjaan dilaksanakan, dan setelah pekerjaan, dan mampu bersinergi positif
C32: =Penilaian!C110 -> 2.6.8 Efektivitas Komunikasi Horisontal antar Rekan Kerja | D32: =Rubrik!D106 -> sesama anggota tim kerja bekerja secara individualis tanpa berkoordinasi | E32: =Rubrik!E106 -> komunikasi horisontal antar rekan kerja dilakukan dengan buruk | F32: =Rubrik!F106 -> komunikasi horisontal antar rekan kerja dilakukan dengan secukupnya, tanpa inisiatif lebih dan keterbukaan terhadap informasi KP yang penting | G32: =Rubrik!G106 -> komunikasi horisontal antar rekan kerja dilakukan dengan baik, telah terdapat keterbukaan terhadap informasi KP yang penting | H32: =Rubrik!H106 -> sesama anggota tim kerja berkomunikasi dengan efektif; pesan tersampaiakn dengan benar dan tepat, hal-hal yang memiliki dampak terhadap KP seluruhnya terinformasikan dengan baik
C33: =Penilaian!C111 -> 2.6.9 Efektivitas Komunikasi antar Ketua Kelompok Kerja | D33: =Rubrik!D107 -> antar ketua kelompok kerja (Group Leader) yang memiliki keterkaitan dalam pekerjaan bekerja secara independen tanpa berkoordinasi | E33: =Rubrik!E107 -> komunikasi horisontal antar ketua kelompok kerja dilakukan dengan buruk | F33: =Rubrik!F107 -> komunikasi horisontal antar ketua kelompok kerja dilakukan dengan secukupnya, tanpa inisiaitf lebih dan keterbukaan terhadap informasi KP yang penting | G33: =Rubrik!G107 -> komunikasi horisontal antar ketua kelompok kerja dilakukan dengan baik, telah terdapat keterbukaan terhadap informasi KP yang penting | H33: =Rubrik!H107 -> antar ketua kelompok kerja yang memiliki keterkaitan dalam pekerjaan berkomunikasi dengan efektif: pesan tersampaikan dengan benar dan tepat, hal-hal yang memiliki dampak terhadap KP seluruhnya terinformasikan dengan baik
C34: =Penilaian!C112 -> 2.6.10 Efektivitas Komunikasi antar Penanggung Jawab Gilir Kerja/Shift | D34: =Rubrik!D108 -> penanggung jawab antar shift kerja bekerja secara independen tanpa berkoordinasi | E34: =Rubrik!E108 -> komunikasi horisontal antar penanggung jawab gilir kerja/shift dilakukan dengan buruk | F34: =Rubrik!F108 -> komunikasi horisontal antar penanggung jawab gilir kerja/shift dilakukan dengan secukupnya, tanpa inisiatif lebih dan keterbukaan terhadap informasi KP yang penting | G34: =Rubrik!G108 -> komunikasi horisontal antar penanggung jawab gilir kerja/shift dilakukan dengan baik, telah terdapat keterbukaan terhadap infromasi KP yang penting | H34: =Rubrik!H108 -> antar penanggung jawab shift kerja berkomunikasi dengan efekftif: pesan tersampaikan dengan benar dan tepat, hal-hal yang memiliki dampak terhadap KP seluruhnya terinformasikan dengan baik
C35: =Penilaian!C115 -> 2.6.13 Efektivitas Mentoring, Coaching, dan Coucelling untuk Pekerja dari Pimpinan Tim Kerja | D35: =Rubrik!D111 -> sebagian besar pekerja tambang tidak merasakan manfaat dari mentoring, coaching, dan councelling yang diberikan | E35: =Rubrik!E111 -> sebagian besar pekerja tambang menyatakan mentoring, coaching, dan councelling yang diberikan telah berhasil memberikan pekerja kemampuan dan petunjuk penyelesaian permasalahan KP yang dihadapi | F35: =Rubrik!F111 -> sebagian besar pekerja tambang menyatakan mentoring, coaching, dan councelling yang diberikan telah berhasil memberikan pekerja kemampuan dan petunjuk untuk menciptakan pengelolaan KP yang lebih baik di tempat kerja sesuai best practice yang ada | G35: =Rubrik!G111 -> sebagian besar pekerja tambang menyatakan mentoring, coaching, dan councelling yang diberikan telah berhasil memberikan pekerja kemampuan dan petunjuk untuk mengidentifikasi gagasan solusi yang lebih kreatif dan efisien pengelolaan KP yang lebih baik di tempat kerja | H35: =Rubrik!H111 -> sebagian besar pekerja tambang menyatakan mentoring, coaching, dan councelling yang diberikan telah berhasil memberikan pekerja kemampuan dan petunjuk untuk mengubah permasalahan KP di tempat kerja menjadi peluang
C36: =Penilaian!C116 -> 2.6.14 Ketersediaan Ruang dan Akses Informasi KP untuk Pekerja | D36: =Rubrik!D112 -> informasi KP seluruhnya bersifat confidential dan eksklusif: tidak disosialisasikan kepada pekerja. Pekerja tambang tidak memiliki ruang untuk menyampaikan infromasi KP (hanya satu arah) | E36: =Rubrik!E112 -> informasi KP bersifat top-down: informasi KP disosiaslisasikan oleh pimpinan, namun setiap pekerja tidak memiliki kesempatan dan hak yang sama untuk mendapatkan akses informasi KP. Pekerja tambang memiliki ruang terbatas untuk menyampaikan informasi KP | F36: =Rubrik!F112 -> informasi KP diserbarluaskan secara terstruktur melalui komite KP: mekanisme distribusi informasi dan ruang partisipasi masukan dari pekerja tambang telah dilakukan secara formal dan sistematis melalui komite KP | G36: =Rubrik!G112 -> informasi KP disebarluaskan secara terstruktur melalui komite KP yang dilanjutkan dengan peran pengawas operasional di masing-masing area kerja | H36: =Rubrik!H112 -> informasi KP bersifat inklusif namun tetap terkontrol: diseminasi informasi kepada seluruh pekerja melalui komite KP dan pengawas operasional berjalan baik, seluruh pekerja dengan cepat mendapatkan informasi aspek KP. Setiap pekerja tambang memiliki kesempatan dan hak yang sama untuk mendapatkan dan menyampaikan informasi KP
C37: =Penilaian!C117 -> 2.6.15 Proteksi Pelapor dan Mekanisme Penanganan Pelaporan dalam Pengaduan Pelanggaran KP (Whisltelowing system) | D37: =Rubrik!D113 -> manajemen belum menetapkan mekanisme pengaduan pelanggaran KP (whistleblowing system) dalam pengelolaan KP | E37: =Rubrik!E113 -> manajemen telah menetapkan whistelblowing system namun tidak memberikan jaminan perlindungan kepada pelapor | F37: =Rubrik!F113 -> manajemen telah menetapkan whistleblowing system, memberikan jaminan perlindungan kepada pelapor / menjaga anonimitas identitas pelapor namun belum menindaklanjuti pelaporan. Setiap laporan pelanggaran yang diterima akan ditindaklanjuti dengan melakukan investigasi dan pengumpulan alat bukti | G37: =Rubrik!G113 -> manajemen menindaklanjuti setiap laporan pelanggaran yang diterima dari whistleblowing system dengan melakukan investigasi dan pengumpulan bukti | H37: =Rubrik!H113 -> manajemen menindaklanjuit setiap laporan pelanggaran yang diterima dari whistleblowing system denga melakukan investigasi dan pengumpulan bukti, serta melakukan perbaikan dan pencegahan yang tepat dan cepat
A38: =Penilaian!A168 -> Upaya-Upaya Pengendalian yang Dilakukan | B38: =Penilaian!B198 -> F. Manajemen Kehandalan Pekerja dalam Pengelolaan KP
C39: =Penilaian!C209 -> 4.6.11 Penyataan Pekerja terkait Kepuasan Kerja (Job Satisfaction) dan Kesejahteraan Mental (Mental Well-being) dalam Bekerja | D39: =Rubrik!D203 -> sebagian besar pekerja menyatakan tidak puas dan tidak nyaman dalam melaksanakan pekerjaan yang ditugaskan kepadanya, sehingga menghambat kinerjanya dalam penerapan KP | E39: =Rubrik!E203 -> sebagian besar pekerja menyatakan kurang cukup puas dan kurang cukup nyaman dalam melaksanakan pekerjaan yang ditugaskan kepadanya, sehingga menghambat kinerjanya dalam penerapan KP | F39: =Rubrik!F203 -> sebagian besar pekerja menyatakan cukup puas dan nyaman dalam melaksanakan pekerjaan yang ditugaskan kepadanya. Pekerja menyatakan kesesuaian antara nilai balas jasa kerja pekerja yang diberikan dengan tingkat nilai balas jasa yang diharapkan pekerja (finasial maupun non finansial) | G39: =Rubrik!G203 -> sebagian besar pekerja menyatakan puas, nyaman, dan sejahtera dalam melaksanakan pekerjaan yang ditugaskan kepadanya | H39: =Rubrik!H203 -> sebagian besar pekerja menyatakan sangat puas, nyaman, dan sejahtera dalam melaksanakan pekerjaaan yang ditugaskan kepadanya, telah mendukung kinerja yang baik dalam KP

Sheet Jumlah Sample
A1: Kalkulator Perhitungan Jumlah Sampel Minimal (Slovin Formula)
A3: Nama Perusahaan/Divisi
B5: Confidence Level | C5: Z Scores | D5: MoE
B6: 0.95 | C6: =IF(B6=90%,1.65,IF(B6=95%,1.96,IF(B6=99%,2.576,0))) -> 1.96 | D6: 0.05
A9: Tingkat Struktural | B9: Keterangan | C9: Populasi | D9: Sampel Minimal | E9: Pemenuhan Responden | F9: Persentase Pemenuhan Responden | G9: Persentase yang Belum Dikumpulkan
A10: Staff Level 4-6 | C10: 20 | D10: =ROUNDUP((C10/$C$15)*$D$15,0) -> 15 | F10: =IFERROR(E10/D10,) -> 0 | G10: =1-F10 -> 1
A11: Staff Level 1-3 | C11: 100 | D11: =ROUNDUP((C11/$C$15)*$D$15,0) -> 72 | F11: =IFERROR(E11/D11,) -> 0 | G11: =1-F11 -> 1
A12: Pratama/Non-Staff | C12: 40 | D12: =ROUNDUP((C12/$C$15)*$D$15,0) -> 29 | F12: =IFERROR(E12/D12,) -> 0 | G12: =1-F12 -> 1
A13: Kontraktor | C13: 30 | D13: =ROUNDUP((C13/$C$15)*$D$15,0) -> 22 | F13: =IFERROR(E13/D13,) -> 0 | G13: =1-F13 -> 1
B15: Total | C15: =SUM(C10:C12) -> 160 | D15: =ROUNDUP(C15/(1+(C15*0.0025)),0) -> 115 | E15: =SUM(E10:E13) -> 0 | F15: =AVERAGE(F10:F13) -> 0 | G15: =1-F15 -> 1
B24: Total | C24: =SUM('[1](5) Pivot Pool'!BS97:BS100) -> 11541 | D24: =SUM('[1](5) Pivot Pool'!BT97:BT100) -> 1050 | E24: =SUM('[1](5) Pivot Pool'!BU97:BU101) -> 1407 | F24: =IFERROR(E24/D24,) -> 1.34 | G24: =1-F24 -> -0.34

Sheet Program
A1: PERTIMBANGAN PENYUSUNAN PROGRAM KESELAMATAN PERTAMBANGAN (KP)
A2: Nama Perusahaan / Divisi | H2: Tanggal Pembuatan
A3: Periode Program | H3: Tim Pembuat
A5: Indikator | C5: Parameter | D5: Nilai Maksimum | E5: Nilai Capaian | F5: Item Pengukuran Lain yang terkait | G5: Opsi Program Peningkatan Kinerja | H5: Rencana Durasi Pelaksanaan | I5: Sasaran Program Peningkatan Kinerja (Perusahaan/Departemen/Bagian/Seksi/Kelompok Kerja) | J5: Target Peningkatan Capaian | K5: Keterangan
A6: =Penilaian!A6 -> Partisipasi Pekerja Tambang | B6: =Penilaian!B6 -> A. Kepedulian dan Perilaku Individu terhadap Risiko KP | D6: =Penilaian!E6 -> 0.05 | E6: =Penilaian!F6 -> 0.05
B7: =Penilaian!B12 -> B. Keterlibatan Pekerja dalam Pengelolaan KP | D7: =Penilaian!E12 -> 0.1 | E7: =Penilaian!F12 -> 0.1
A9: =Penilaian!A38 -> Tanggung Jawab Pimpinan Unit Kerja | B9: =Penilaian!B38 -> A. Implementasi Kebijakan KP | D9: =Penilaian!E38 -> 0.05 | E9: =Penilaian!F38 -> 0.05
B10: =Penilaian!B43 -> B. Kepemimpinan dan Komitmen KP | D10: =Penilaian!E43 -> 0.05 | E10: =Penilaian!F43 -> 0.05
B11: =Penilaian!B75 -> C. Kepatuhan dan Penegakan Peraturan KP | D11: =Penilaian!E75 -> 0.05 | E11: =Penilaian!F75 -> 0.05
B12: =Penilaian!B84 -> D. Penetapan Peran, Tanggung Jawab dan Kewenangan dalam KP | D12: =Penilaian!E84 -> 0.04 | E12: =Penilaian!F84 -> 0.04
B13: =Penilaian!B97 -> E. Manajemen Strategi dan Operasi KP | D13: =Penilaian!E97 -> 0.04 | E13: =Penilaian!F97 -> 0.04
B14: =Penilaian!B102 -> F. Informasi, Komunikasi, Pendampingan, Konsultasi KP | D14: =Penilaian!E102 -> 0.04 | E14: =Penilaian!F102 -> 0.04
B15: =Penilaian!B121 -> G. Pengendalian Mutu KP dalam Kegiatan Operasional | D15: =Penilaian!E121 -> 0.04 | E15: =Penilaian!F121 -> 0.04
B16: =Penilaian!B138 -> H. Penjaminan Mutu KP melalui Audit internal SMKP | D16: =Penilaian!E138 -> 0.04 | E16: =Penilaian!F138 -> 0.04
A18: =Penilaian!A145 -> Analisis dan Statistik Kecelakaan Kerja, PAK, KAPTK, dan Kejadian Berbahaya | B18: =Penilaian!B145 -> A. Analisis Terhadap Data Kasus KP | D18: =Penilaian!E145 -> 0.05 | E18: =Penilaian!F145 -> 0.05
B19: =Penilaian!B149 -> B. Investigasi Kasus KP | D19: =Penilaian!E149 -> 0.05 | E19: =Penilaian!F149 -> 0.05
B20: =Penilaian!B157 -> C. Statistik Kinerja KP Berdasakan Indikator Tertinggal | D20: =Penilaian!E157 -> 0.05 | E20: =Penilaian!F157 -> 0.05
B21: =Penilaian!B164 -> D. Pembelajaran Organisasi | D21: =Penilaian!E164 -> 0.05 | E21: =Penilaian!F164 -> 0.05
A23: =Penilaian!A168 -> Upaya-Upaya Pengendalian yang Dilakukan | B23: =Penilaian!B168 -> A. Pengendalian Risiko KP Berbasis Tata Kelola | D23: =Penilaian!E168 -> 0.04 | E23: =Penilaian!F168 -> 0.04
B24: =Penilaian!B173 -> B. Manajemen Kesehatan Kerja Pertambangan | D24: =Penilaian!E173 -> 0.03 | E24: =Penilaian!F173 -> 0.03
B25: =Penilaian!B177 -> C. Manajemen Lingkungan Kerja Pertambangan | D25: =Penilaian!E177 -> 0.03 | E25: =Penilaian!F177 -> 0.03
B26: =Penilaian!B181 -> D. Manajemen Rekayasa & Desain Proses | D26: =Penilaian!E181 -> 0.04 | E26: =Penilaian!F181 -> 0.04
B27: =Penilaian!B187 -> E. Manajemen Aset KP | D27: =Penilaian!E187 -> 0.04 | E27: =Penilaian!F187 -> 0.04
B28: =Penilaian!B198 -> F. Manajemen Kehandalan Pekerja dalam Pengelolaan KP | D28: =Penilaian!E198 -> 0.03 | E28: =Penilaian!F198 -> 0.03
B29: =Penilaian!B210 -> G. Manajemen Perubahan | D29: =Penilaian!E210 -> 0.04 | E29: =Penilaian!F210 -> 0.04
B30: =Penilaian!B216 -> H. Manajemen Keadaan Darurat | D30: =Penilaian!E216 -> 0.03 | E30: =Penilaian!F216 -> 0.03
B31: =Penilaian!B219 -> I. Manajemen Perusahaan Jasa Pertambangan | D31: =Penilaian!E219 -> 0.01 | E31: =Penilaian!F219 -> 0.01
B32: =Penilaian!B223 -> J. Manajemen Dokumen & Rekaman KP | D32: =Penilaian!E223 -> 0.01 | E32: =Penilaian!F223 -> 0.01
