Workbook

Sheet Penilaian
A1: PENILAIAN TINGKAT PENCAPAIAN KINERJA KESELAMATAN PERTAMBANGAN (KP)
A2: Nama Perusahaan / Divisi | D2: Tanggal Penilaian
A3: Periode Penilaian | D3: Tim Penilai
A5: Indikator | C5: Parameter | D5: Nilai Item | E5: Nilai Maksimum | F5: Nilai Capaian Parameter | G5: Nilai Capaian Indikator | H5: Tingkat Pencapaian
A6: Partisipasi Pekerja Tambang | B6: A. Kepedulian dan Perilaku Individu terhadap Risiko KP | E6: 0.05 | F6: =(SUM(D7:D11)/(5*COUNTIF(D7:D11,"<>NA"))*E6) -> 0.05
C7: 1.1.1 Kesadaran Pekerja terhadap Risiko KP | D7: =Rubrik!J4 -> 5
C8: 1.1.2 Komitmen dan Inisiatif Pekerja dalam Pengelolaan KP | D8: =Rubrik!J5 -> 5
C9: 1.1.3 Kedisiplinan Pekerja di Dalam Pekerjaan dan di Luar Pekerjaan | D9: =Rubrik!J6 -> 5
C10: 1.1.4 Aktualisasi Nilai-Nilai inti Perusahaan (Core Values) oleh Pekerja | D10: =Rubrik!J7 -> 5
C11: 1.1.5 Aktualisasi Aturan Emas KP (Golden Rules) Perusahaan oleh Pekerja | D11: =Rubrik!J8 -> 5
B12: B. Keterlibatan Pekerja dalam Pengelolaan KP | E12: 0.1 | F12: =(SUM(D13:D36)/(5*COUNTIF(D13:D36,"<>NA"))*E12) -> 0.1
C13: 1.2.1 Kehadiran Pekerja dalam Pekerjaan di Hari Kerja | D13: =Rubrik!J10 -> 5
C14: 1.2.2 Kehadiran Pekerja dalam Kegiatan KP | D14: =Rubrik!J11 -> 5
C15: 1.2.3 Peran Pekerja dalam Kegiatan KP | D15: =Rubrik!J12 -> 5
C16: 1.2.4 Keterlibatan Perwakilan Departemen/Bagian/Seksi dalam Tim Manajemen Risiko KP | D16: =Rubrik!J13 -> 5
C17: 1.2.5 Peran Perwakilan Departemen/Bagian/Seksi dalam Tim Manajemen Risiko KP | D17: =Rubrik!J14 -> 5
C18: 1.2.6 Keterlibatan Pekerja Non Pengawas dalam Manajemen Risiko KP | D18: =Rubrik!J15 -> 5
C19: 1.2.7 Peran Pekerja Non Pengawas dalam Manajemen Risiko KP | D19: =Rubrik!J16 -> 5
C20: 1.2.8 Keterlibatan Komite KP dalam Penyusunan TSP KP | D20: =Rubrik!J17 -> 5
C21: 1.2.9 Peran Anggota Komite KP dalam Penyusunan TSP KP | D21: =Rubrik!J18 -> 5
C22: 1.2.10 Peran Komite KP dalam Pemantauan Pelaksanaan dan Perkembangan TSP KP | D22: =Rubrik!J19 -> 5
C23: 1.2.11 Kehadiran dan Keterlibatan Ketua Komite KP dalam Rapat Komite KP | D23: =Rubrik!J20 -> 5
C24: 1.2.12 Peran Ketua Komite KP dalam Rapat Komite KP | D24: =Rubrik!J21 -> 5
... C36: 1.2.24 Efektivitas Partisipasi Pekerja | D36: =Rubrik!J33 -> 5
A37: Total Nilai Indikator Partisipasi Pekerja Tambang | E37: =SUM(E6,E12) -> 0.15 | G37: =SUM(F6,F12) -> 0.15 | H37: =IF(G37<0.07,"Tingkat Dasar",IF(G37<0.1,"Tingkat Reaktif",IF(G37<0.12,"Tingkat Terencana",IF(G37<0.14,"Tingkat Proaktif","Tingkat Resilient")))) -> Tingkat Resilient
A38: Tanggung Jawab Pimpinan Unit Kerja | B38: A. Implementasi Kebijakan KP | E38: 0.05 | F38: =(SUM(D39:D42)/(5*COUNTIF(D39:D42,"<>NA"))*E38) -> 0.05
C39: 2.1.1 Upaya Internalisasi Nilai-Nilai Inti (Core Values) Perusahaan oleh Manajemen | D39: =Rubrik!J35 -> 5
C40: 2.1.2 Upaya Internalisasi Aturan Emas KP (Golden Rules) Perusahaan oleh Manajemen | D40: =Rubrik!J36 -> 5
C41: 2.1.3 Efektivitas Kebijakan KP | D41: =Rubrik!J37 -> 5
C42: 2.1.4 Persepsi Pekerja terhadap Komitmen Manajemen dalam Penerapan Kebijakan KP | D42: =Rubrik!J38 -> 5
B43: B. Kepemimpinan dan Komitmen KP | E43: 0.05 | F43: =(SUM(D44:D74)/(5*COUNTIF(D44:D74,"<>NA"))*E43) -> 0.05
C44: 2.2.1 Persepsi Manajemen Puncak terhadap Peran KP | D44: =Rubrik!J40 -> 5
C45: 2.2.2 Persepsi Pekerja terhadap Kepemimpinan dan Komitmen Manajemen | D45: =Rubrik!J41 -> 5
C46: 2.2.3 Ketersediaan Angggaran KP dalam RKAB | D46: =Rubrik!J42 -> 5
C47: 2.2.4 Realisasi Anggaran KP dalam RKAB | D47: =Rubrik!J43 -> 5
C48: 2.2.5 Kecepatan Manajemen Puncak dalam Merespon Isu KP | D48: =Rubrik!J44 -> 5
C49: 2.2.6 Jumlah Kehadiran Manajemen Puncak pada Site | D49: =Rubrik!J45 -> 5
C50: 2.2.7 Peran Manajemen Puncak dalam kunjungan Site | D50: =Rubrik!J46 -> 5
C51: 2.2.8 Efektivitas Rapat Tinjauan Manajemen | D51: =Rubrik!J47 -> 5
C52: 2.2.9 Peran Pimpinan Tertinggi pada Rapat Tinjauan Manajemen | D52: =Rubrik!J48 -> 5
...

Sheet Rubrik
A2: Indikator | C2: Parameter | D2: 1 | E2: 2 | F2: 3 | G2: 4 | H2: 5 | I2: Metode Pengukuran | J2: Nilai Item | K2: Keterangan | L2: Dokumen Bukti
A3: =Penilaian!A6 -> Partisipasi Pekerja Tambang | B3: =Penilaian!B6 -> A. Kepedulian dan Perilaku Individu terhadap Risiko KP
C4: =Penilaian!C7 -> 1.1.1 Kesadaran Pekerja terhadap Risiko KP | D4: Pekerja tidak memahami bahaya dan risiko KP serta pengendaliannya di wilayah kerjanya | E4: pekerja memahami sebagian bahaya dan risiko KP serta pengendaliannya di wilayah kerjanya | F4: pekerja memahami seluruh bahaya dan risiko KP serta pengendaliannya di wilayah kerjanya | G4: pekerja memahami seluruh bahaya dan risiko KP serta pengendaliannya di wilayah kerjanya dan konsisten dalam bekerja secara aman | H4: pekerja memahami seluruh bahaya dan risiko KP serta pengendaliannya di wilayah kerjanya dan telah memiliki kemampuan kewaspadaan situasi kerja, serta konsisten dalam bekerja secara aman dan beperan aktif dalam perbaikan dan peningkatan upaya pengendalian bahaya dan risiko | I4: tinjauan dokumen pengujian observasi | J4: 5
C5: =Penilaian!C8 -> 1.1.2 Komitmen dan Inisiatif Pekerja dalam Pengelolaan KP | D5: pekerja bersikap apatis dalam pengelolaan KP dan mengupayakan keselamatan individu dengan naluri, melaksanakan KP karena terpaksa namun tidak mengetahui manfaatnya | E5: pekerja melaksanakan KP sudah mengetahui manfaat pengelolaan KP, namun sepenuhnya bergantung pada perusahaan tempat mereka bekerja untuk menjaga mereka tetap selamat | F5: pekerja menjaga kesealamatan dan kesehatan diri mereka secara mandiri untuk komitmen kepatuhan terhadap norma | G5: pekerja berkontribusi pada keselamatan dan kesehatan orang lain (interdependent) dalam tim kerja dengan komitmen berkelanjutan | H5: pekerja berkontribusi pada keselamatan dan kesehatan orang lain dalam skala organisasi, menjalankannya bagian dari gaya hidup, memiliki ikatan emosional yang melekat untuk melibatkan diri untuk peningkatan pengelolaan KP organisasi (komitmen afektif) | I5: tinjauan dokumen kuesioner observasi | J5: 5
C6: =Penilaian!C9 -> 1.1.3 Kedisiplinan Pekerja di Dalam Pekerjaan dan di Luar Pekerjaan | D6: pekerja menjadi disiplin hanya pada saat ada pengawasan bergantung pada perintah | E6: pekerja menjadi disiplin dalam penerapan KP jika sudah terjadi kasus KP, tidak konsisten | F6: pekerja disiplin mengikuti peraturan perusahaaan ketika bekerja di dalam tim kerja, di area kerja dan/atau proyek, dan di jam kerja. Tidak konsisten disiplin ketika bekerja secara individu | G6: pekerja disiplin mengikuti peraturan perusahaan termasuk ketika memasuki area kerja di area kerjanya. Kedisiplinan telah dilakukan secara individu, komunal, maupun kolektif, namun masih ditemukan pelanggaran minor | H6: tidak ditemukan pelangggaran atas norma / prosedur / standar / peraturan perusahaan. Pekerja juga disiplin menjaga keselamatan dan kesehatan kerja di luar jam kerja dan wilayah kerja | I6: tinjauan dokumen observasi FGD | J6: 5
C7: =Penilaian!C10 -> 1.1.4 Aktualisasi Nilai-Nilai inti Perusahaan (Core Values) oleh Pekerja | D7: pekerja tidak memahami nilai-nilai inti perusahaan | E7: belum seluruh pekerja memahami nilai-nilai inti perusahaan | F7: seluruh pekerja memahami nilai-nilai inti perusahaan | G7: seluruh pekerja memahami nilai-nilai inti perusahaan namun belum seluruh pekerja mampu mengaktualisasikannya dalam pekerjaannya | H7: seluruh pekerja memahami nilai-nilai inti perusahaan dan mampu mengakutalisasikannya dalam pekerjaannya | I7: tinjauan dokumen wawancara/FGD | J7: 5
C8: =Penilaian!C11 -> 1.1.5 Aktualisasi Aturan Emas KP (Golden Rules) Perusahaan oleh Pekerja | D8: pekerja tidak memahami aturan emas KP Perusahaan | E8: belum seluruh pekerja memahami aturanemas KP perusahaan | F8: seluruh pekerja memahami aturan emas KP Perusahaan | G8: seluruh pekerja memahami aturan emas KP namun belum seluruh pekerja mampu mengaktualisasikannya dalam pekerjaannya | H8: seluruh pekerja memahami aturan emas KP dan mampu mengakutalisasikannya dalam pekerjaannya | I8: tinjauan dokumen wawancara/FGD | J8: 5
B9: =Penilaian!B12 -> B. Keterlibatan Pekerja dalam Pengelolaan KP
C10: =Penilaian!C13 -> 1.2.1 Kehadiran Pekerja dalam Pekerjaan di Hari Kerja | D10: kehadiran pekerja dalam pekerjaan di hari kerja (masuk kerja) 2 tahun terakhir rata-rata < 50% dari jumlah pekerja yang seharusnya masuk | E10: kehadiran pekerja dalam pekerjaan di hari kerja (masuk kerja) 2 tahun terakhir rata-rata 50-69% dari jumlah pekerja yang seharusnya masuk | F10: kehadiran pekerja dalam pekerjaan di hari kerja (masuk kerja) 2 tahun terakhir rata-rata 70-79% dari jumlah pekerja yang seharusnya masuk | G10: kehadiran pekerja dalam pekerjaan di hari kerja (masuk kerja) 2 tahun terakhir rata-rata <80-94% dari jumlah pekerja yang seharusnya masuk | H10: kehadiran pekerja dalam pekerjaan di hari kerja (masuk kerja) 2 tahun terakhir rata-rata 95-100% dari jumlah pekerja yang seharusnya masuk | I10: tinjauan dokumen | J10: 5
C11: =Penilaian!C14 -> 1.2.2 Kehadiran Pekerja dalam Kegiatan KP | D11: tingkat kehadiran pekerja rata-rata < 50% dari target/jumlah yang seharusnya hadir | E11: tingkat kehadiran pekerja rata-rata 50-69% dari target/jumlah yang seharusnya hadir | F11: tingkat kehadiran pekerja rata-rata 70-79% dari target/jumlah yang seharusnya hadir | G11: tingkat kehadiran pekerja rata-rata 80-99% dari target/jumlah yang seharusnya hadir | H11: tingkat kehadiran pekerja rata-rata 100% dari target/jumlah yang seharusnya hadir | I11: tinjauan dokumen | J11: 5
C12: =Penilaian!C15 -> 1.2.3 Peran Pekerja dalam Kegiatan KP | D12: sebagian besar pekerja hanya menghadiri kegiatan KP yang menjadi kewajibannya | E12: sebagian besar pekerja terlibat dan hanya berkontribusi dalam kegiatan KP apabila ada isue dengan pekerjaannya atau ketika diminta oleh pimpinan unit kerja | F12: sebagian besar pekerja berpartisipasi dalam kegiatan KP lingkup unit kerjanya sesuai dengan tanggung jawab yang ditetapkan | G12: sebagian besar pekerja berperan aktif memberikan input konstruktif, umpan balik, informasi dan/atau dukungan dalam kegiatan KP untuk lingkup unit kerjanya dan unit lain yang terkait dalam departemen | H12: sebagian besar pekerja berpartisipasi secara aktif dalam kegiatan KP lingkup organisasi, dan mampu berkolaborasi untuk mencapai tujuan KP | I12: kuesioner wawancara/FGD | J12: 5
C13: =Penilaian!C16 -> 1.2.4 Keterlibatan Perwakilan Departemen/Bagian/Seksi dalam Tim Manajemen Risiko KP | D13: tidak terdapat tim manajemen risiko KP yang ditunjuk secara formal oleh perusahaan | E13: tim manajemen risiko KP beranggotakan bagian K3 dan bagian KO | F13: tim manajemen risiko KP beranggotakan bagian K3 dan bagian KO serta perwakilan bagian operasional sebesar <80% dari total jumlah bagian operasional | G13: tim manajemen risiko KP beranggotakan bagian K3 dan bagian KO serta perwakilan bagian operasional sebesar 80-99% dari total jumlah bagian operasional | H13: tim manajemen risiko KP beranggotakan bagian K3 dan bagian KO serta perwakilan seluruh bagian operasional | I13: tinjauan dokumen | J13: 5
C14: =Penilaian!C17 -> 1.2.5 Peran Perwakilan Departemen/Bagian/Seksi dalam Tim Manajemen Risiko KP | D14: sebagian besar perwakilan departemen/bagian/seksi tidak berperan dalam tim manajemen risiko KP | E14: sebagian besar perwakilan departemen/bagian/seksi yang dipilih melaksanakan tanggung jawabnya dalam tim manajemen risiko KP hanya apabila ada isue dengan pekerjaannya atau ketika diminta oleh KTT/PJO | F14: sebagian besar perwakilan departemen/bagian/seksi yang dipilih melaksanakan tanggung jawabnya dalam tim manajemen risiko KP sesuai dengan tanggung jawab yang ditetapkan | G14: sebagian besar perwakilan departemen/bagian/seksi yang dipilih berperan aktif memberikan input konsruktif, umpan balik, informasi dan/atau dikungan yang dibutuhan dalam kegiatan tim manajemen risiko KP | H14: seluruh perwakilan departemen/bagian/seksi yang dipilih mampu untuk saling menyelaraskan pemahaman, melakukan pertukaran informasi yang tepat, dan mampu berkolaborasi dalam tim untuk mencapai tujuan manajemen risiko KP lingkup organisasi | I14: kuesioner wawancara/FGD | J14: 5
C15: =Penilaian!C18 -> 1.2.6 Keterlibatan Pekerja Non Pengawas dalam Manajemen Risiko KP | D15: pekerja non pengawas tidak terlibat dalam manajemen risiko. Seluruhnya dilakukan oleh Pengawas Operasional | E15: pengawas hanya melibatkan <70% dari total anggotanya dalam proses manajemen risiko aktivitas yang menjadi tanggung jawabnya | F15: pengawas melibatkan 70-79% dari total anggotanya dalam proses manajemen risiko aktivitas yang menjadi tanggung jawabnya | G15: pengawas melibatkan 80-99% dari total anggotanya dalam proses manajemen risiko aktivitas yang menjadi tanggung jawabnya | H15: pengawas melibatkan seluruh anggota dalam proses manajemen risiko aktivitas yang menjadi tanggung jawabnya | I15: wawancara FGD | J15: 5
C16: =Penilaian!C19 -> 1.2.7 Peran Pekerja Non Pengawas dalam Manajemen Risiko KP | D16: pekerja non pengawas tidak berperan/berkontribusi dalam manajemen risiko KP | E16: sebagian besar pekerja non pengawas melaksanakan tanggung jawabnya dalam manajemen risiko KP apabila ada isu dengan pekerjaannya atau ketika diminta oleh pimpinan unit/tim kerjanya | F16: sebagian besar pekerja non pengawas berpartisipasi dalam manajemen risiko KP sesuai dengan tanggung jawabnya | G16: sebagian besar pekerja non pengawas berperan aktif memberikan input konstruktif, umpan balik, informasi dan/atau dukungan yang dibutuhkan dalam peningkatan kinerja manajemen risiko KP | H16: seluruh pekerja non pengawas mampu memberikan informasi dan dukungan yang tepat, berkolaborasi dalam tim untuk mencapai tujuan manajemen risiko KP lingkup organisasi | I16: wawancara FGD | J16: 5
C17: =Penilaian!C20 -> 1.2.8 Keterlibatan Komite KP dalam Penyusunan TSP KP | D17: komite KP tidak terlibat dalam penyusunan TSP KP | E17: hanya ketua komite KP yang terlibat dalam penyusunan TSP KP | F17: ketua dan sekretaris komite KP terlibat dalam penyusunan TSP KP | G17: ketua, sekretaris, dan beberapa perwakilan departemen/bagian dalam komite KP terlibat dalam penyusunan TSP KP | H17: ketua, sekretaris, dan seluruh perwakilan departemen/bagian dalam komite KP terlibat dalam penyusunan TSP KP | I17: tinjauan dokumen | J17: 5
C18: =Penilaian!C21 -> 1.2.9 Peran Anggota Komite KP dalam Penyusunan TSP KP | D18: sebagian besar anggota komite KP tidak berperan/berkontribusi dalam penyusunan TSP KP | E18: sebagian besar anggota komite KP hanay sekedar hadir dalam rapat/diskusi penyusunan TSP KP namaun tidak berkontribusi / berpartisipasi aktif | F18: sebagian besar anggota komite KP berpartisipasi dalam rapat/diskusi penyusunan TSP KP sesuai dengan tanggung jawab yang ditetapkan | G18: sebagian besar anggota komite KP berperan aktif memberikan input konstruktif dalam rapat/diskusi penyusunan TSP KP | H18: seluruh anggota komite KP saling menyelaraskan pemahaman, menyepakati trade-off, dan mampu berkolaborasi dalam rapat/diskusi penyusunan TSP KP untuk mencapai tujuan yang diharapkan | I18: wawancara FGD | J18: 5
C19: =Penilaian!C22 -> 1.2.10 Peran Komite KP dalam Pemantauan Pelaksanaan dan Perkembangan TSP KP | D19: komite KP tidak berperan/berkontribusi dalam pemantauan dan evaluasi pelaksanaan dan perkembangan TSP KP | E19: komite KP ikut terlibat dalam pemantauan dan evaluasi pelaksanaan dan perkembangan TSP KP hanya ketiak terjadi permasalahan atau kasus KP | F19: komite KP terlibat dalam pemantauan dan evaluasi pelaksanaan dan perkembangan TSP KP secara kontinu dan terencana | G19: komite KP mampu menindaklanjuti pelaksanaan dan perkembangan TSP KP yang belum sesuai berdasarkan hsail pemantauan dan evaluasi | H19: komite KP mampu menindaklanjuti pelaksanaan dan perkembangan TSP KP yang belum sesuai dan yang telah sesuai berdasarkan hasil pemantauan dan evaluasi , secara tepat dan pada waktu yang tepat | I19: wawancara FGD | J19: 5
C20: =Penilaian!C23 -> 1.2.11 Kehadiran dan Keterlibatan Ketua Komite KP dalam Rapat Komite KP | D20: ketua komite KP tidak pernah hadir dalam rapat komite KP selama periode satu tahun | E20: ketua komite KP hadir <70% dari total rapat komite KP selama periode satu tahun | F20: ketua komite KP hadir 70-79% dari total rapat komite KP selama periode satu tahun | G20: ketua komite KP hadir 80-99% dari total rapat komite KP selama periode satu tahun | H20: ketua komite KP hadir 100% dalam rapat komite KP selama periode satu tahun | I20: tinjauan dokumen | J20: 5
C21: =Penilaian!C24 -> 1.2.12 Peran Ketua Komite KP dalam Rapat Komite KP | D21: ketua komite KP tidak mengambil peran dalam rapat komite KP | E21: ketua komite KP menghadiri rapat komite KP namun tidak berperan signifikan, mendelegasikan kepada wakil atau sekretaris komite KP untuk memimpin diskusi dan membuat keputusan | F21: ketua komite KP memimpin langsung pelaksanaan rapat komite KP dan terlibat dalam pembahasan seluruh substansi namun menetapkan sebagian besar keputusan secara terpimpin | G21: ketua komite KP memimpin langsung pelaksanaan rapat komite KP dan terlibat dalam pembahasan seluruh substansi dan memberikan masukan konstruktif dan valid, umpan balik, informasi dan/atau dukungan yang dibutuhkan untuk setiap substansi pembahasan | H21: ketua komite KP memimpin langsung pelaksanaan rapat komite KP, mampu memberdayakan seluruh peserta untuk berkolaborasi dalam memberikan masukan seluruh substandi pembahasan, dan mampu memimpin pengambilan keputusan dan penetapan kesimpulan melalu prsoes yang inklusif dan tepat, didasarkan hasil konsensus bersama | I21: wawancara FGD | J21: 5
... C33: =Penilaian!C36 -> 1.2.24 Efektivitas Partisipasi Pekerja | D33: nilai rata-rata hasil audit sub elemen III.13 dalam 2 tahun terakhir sebesar 0/3 | E33: nilai rata-rata hasil audit sub elemen III.13 dalam 2 tahun terakhir sebesar 0.1/3 s.d. 2/3 | F33: nilai rata-rata hasil audit sub elemen III.13 dalam 2 tahun terakhir sebesar 2.1/3 s.d. 2.4/3 | G33: nilai rata-rata hasil audit sub elemen III.13 dalam 2 tahun terakhir sebesar 2.5/3 s.d. 2.9/3 | H33: nilai rata-rata hasil audit sub elemen III.13 dalam 2 tahun terakhir sebesar 3/3 | I33: tinjauan dokumen wawancara | J33: 5
A34: =Penilaian!A38 -> Tanggung Jawab Pimpinan Unit Kerja | B34: =Penilaian!B38 -> A. Implementasi Kebijakan KP
C35: =Penilaian!C39 -> 2.1.1 Upaya Internalisasi Nilai-Nilai Inti (Core Values) Perusahaan oleh Manajemen | D35: manajemen tidak melakukan upaya untuk internalisasi nilai-nilai inti perusahaan kepada pekerja | E35: manajemen melakukan upaya untuk internalisasi nilai-nilai inti perusahaan hanya kepada sebagian kelompok pekerja | F35: manajemen telah melakukan upaya untuk internalisasi nilai-nilai inti perusahaan kepada seluruh pekerja | G35: manajemen telah melakukan upaya untuk internalisasi nilai-nilai inti perusahaan dan memasukkan kepada target kinerja pekerja | H35: manajemen telah memberikan contoh nyata aktualisasi nilai-nilai inti perusahaan kepada pekerja | I35: tinjauan dokumen FGD | J35: 5
C36: =Penilaian!C40 -> 2.1.2 Upaya Internalisasi Aturan Emas KP (Golden Rules) Perusahaan oleh Manajemen | D36: manajemen tidak melakukan upaya untuk internalisasi aturan emas KP (Golden Rules) perusahaan kepada pekerja | E36: manajemen melakukan upaya untuk internalisasi aturan emas KP (Golden rules) perusahaan hanya kepada sebagian kelompok pekerja | F36: manajemen telah melakukan upaya untuk internalisasi aturan emas KP (Golden Rules) perusahaan kepada seluruh pekerja | G36: manajemen telah melakukan upaya untuk internalisasi aturan emas KP (Golden Rules) perusahaan dan memasukkan kepada target kinerja pekerja | H36: manajemen telah memberikan contoh nyata aktualisasi aturan emas KP (Golden Rules) perusahaan kepada pekerja | I36: tinjauan dokumen FGD | J36: 5
C37: =Penilaian!C41 -> 2.1.3 Efektivitas Kebijakan KP | D37: nilai rata-rata hasil audit sub elemen I dalam 2 tahun terakhir sebesar 0% | E37: nilai rata-rata hasil audit sub elemen I dalam 2 tahun terakhir sebesar 0.1 - 5.0% | F37: nilai rata-rata hasil audit sub elemen I dalam 2 tahun terakhir sebesar 5.1-8% | G37: nilai rata-rata hasil audit sub elemen I dalam 2 tahun terakhir sebesar 8.1-9.9% | H37: nilai rata-rata hasil audit sub elemen I dalam 2 tahun terakhir sebesar 10% | I37: tinjauan dokumen | J37: 5
C38: =Penilaian!C42 -> 2.1.4 Persepsi Pekerja terhadap Komitmen Manajemen dalam Penerapan Kebijakan KP | D38: sebagian besar pekerja memiliki persepsi bahwa manajemen tidak mendukung penerapan kebijakan KP. Kebijakan KP sering dikompromikan untuk kepentingan lainnya dalam kondisi tertentu | E38: sebagian besar pekera memiliki persepsi bahwa manajemen berkomitmen untuk menerapkan kebijakan KP ketika sudah terjadi kecelakaan dan kerugian | F38: sebagian besar pekerja memiliki persepsi bahwa manajemen telah berkomitmen untuk menerapkan kebijakan dan tanpa harus terjadi kecelakaan dan kerugian terlebih dahulu, melalui program KP terencana | G38: sebagian besar pekerja memiliki persepsi bahwa manajemen telah berkomitmen untuk menerapkan kebijakan dan uapay-upaya KP dan apabila terjadi konflik kepentingan, maajemen memiliki inisiatif untuk mengevaluasi analisis risiko dan mengutamakan aspek KP tetap terpenuhi | H38: sebagian besar pekerja memiliki persepsi bahwa manajemen telah menerapkan kebijakan dan upaya-upaya KP, mengutamakan aspek KP saat terjadi konflik kepentingan, dan telah menjadi panutan/teladan yang baik bagi pekerja dalam penerapan KP | I38: kuesioner wawancara | J38: 5
B39: =Penilaian!B43 -> B. Kepemimpinan dan Komitmen KP
C40: =Penilaian!C44 -> 2.2.1 Persepsi Manajemen Puncak terhadap Peran KP | D40: manajemen puncak memiliki persepsi bahwa pengelolaan KP harus dilakukan agar tidak terkena sanksi dari pemerintah dan/atau klien serta untuk kepentingan sertifikasi/pengakuan dari eksternal | E40: manajemen punck memiliki persepsi bahwa pengelolaan KP harus dilakukan untuk mencegah kerugian berulang, dengan fokus kepada penyelesaian masalah/kejadian/kasus KP | F40: manajemen puncak memiliki persepsi bahwa pengelolaan KP harus dilakukan sebagai upaya kepatuhan administratif yang bertujuan fokus untuk mencegah dan menurunkan kecelakaan, kejadian berbahaya, kejadian akibat penyakit tenaga kerja, dan PAK sesuai terget kinerja | G40: manajemen puncak memiliki persepsi bahwa pengelolaan KP adalah pendukung kelancaran operasional pertambangan dan harus dikelola dengan sistem manajemen yang terintegrasi dengan seluruh fungsi di dalam perusahaan | H40: manajemen puncak memiliki persepsi bahwa pengeloalan KP merupakan pendukung kelancaran operasional pertambangan dan investasi yang baik bagi perusahaan serta bagian dari budaya perusahaan yang harus terus diimplementasikan dan ditingkatkan secara berkelanjutan | I40: wawancara | J40: 5
C41: =Penilaian!C45 -> 2.2.2 Persepsi Pekerja terhadap Kepemimpinan dan Komitmen Manajemen | D41: sebagian besar pekerja memiliki persepsi bahwa komitmen manajemen puncak dalam KP sangat kurang | E41: sebagian besar pekerja memiliki persepsi bahwa komitmen manajemen puncak dalam KP terbatas untuk sekedar penyelesaian permasalahan kasus KP yang telah terjadi | F41: sebagian besar pekerja memiliki persepsi bahwa komitmen manajemen puncak dalam KP untuk pemenuhan minimum kewajiban hukum dan pencapaian target kinerja lagging indicator | G41: sebagian besar pekerja memiliki persepsi bahwa manajemen puncak memiiki komitmen pengelolaan KP untuk menunjang sistem produsi dan mencapai target leading dan lagging indicator | H41: sebagaian besar pekerja memiliki persepsi bahwa manajemen puncak memiliki komitmen tinggi dalam KP agar dapat menunjang kinerja operasional yang konsisten handal di berbagai kondisi. Manajemen telah menjadi role model bagi pekerja, telah memberikan dukungan yang memadai dan dorongan untuk inovasi dan perbaikan berkelanjutan | I41: kuesioner wawancara | J41: 5
C42: =Penilaian!C46 -> 2.2.3 Ketersediaan Angggaran KP dalam RKAB | D42: tidak ada alokasi anggaran KP yang disediakan oleh manajemen puncak | E42: anggaran KP yang disediakan oleh manajemen puncak tidak cukup memadai untuk mendukung keberhasilan rencana kerja tahunan | F42: anggaran KP yang disediakan oleh manajemen puncak cukup memadai untuk mendukung keberhasilan rencana kerja tahunan | G42: anggaran KP yang disediakan oleh manajemen puncak telah memadai untuk mendukung keberhasilan rencana kerja tahunan dan rencana contigency | H42: anggaran KP yang disediakan oleh manajemen puncak telah ditetapkan secara cost-efficient untuk mendukung keberhasilan rencana kerja tahunan, rencana cadangan/alternatif/darurat (contigency), dan pencapaian visi misi tujuan dan komitmen KP yang tertuang dalam kebijakan, serta untuk peningkatan berkelanjutan | I42: tinjauan dokumen wawancara | J42: 5
C43: =Penilaian!C47 -> 2.2.4 Realisasi Anggaran KP dalam RKAB | D43: anggaran KP pada RKAB tidak terealisasi | E43: realisasi anggaran KP pada RKAB dalam 2 tahun terakhir sebesar < 70% dari target | F43: realisasi anggaran KP pada RKAB dalam 2 tahun terakhir sebesar 70-79% dari target | G43: realisasi anggaran KP pada RKAB dalam 2 tahun terakhir sebesar 80-99% dari target | H43: realisasi anggaran KP pada RKAB dalam 2 tahun terakhir sebesar 1000% dari target | I43: tinjauan dokumen | J43: 5
C44: =Penilaian!C48 -> 2.2.5 Kecepatan Manajemen Puncak dalam Merespon Isu KP | D44: manajemen puncak apatis dan tidak memiliki atensi dalam merespon isu KP | E44: manajemen puncak menunda melakukan perbaikan isu KP dan baru mulai menindaklanjuit ketika telah terjadi kerugian | F44: manajemen pncak melakukan perbaikan atas isu KP sesuai dengan birokrasi yang ditetapkan, dengan fokus kepada isu KP yang mempengaruhi keberlanjutan operasional | G44: manajemen puncak mampu mengambil keputusan dan melakukan perbaikan atas isu KP dengan cepat terhadap isu KP yang telah terjadi, baik isu KP yang bersifat minor, mayor, maupun yang signifikan mempengaruhi keberlanjutan operasional | H44: manajemen puncak mampu mengambil keputusan dan melakukan perbaikan atas seluruh isu KP dengan cepat, baik kepada isu KP yang telah terjadi, maupun melaukan antisipasi yang tepat untuk isu KP yang berpotensi akan terjadi di masa mendatang | I44: kuesioner FGD | J44: 5
C45: =Penilaian!C49 -> 2.2.6 Jumlah Kehadiran Manajemen Puncak pada Site | D45: tidak ada kegiatan kunjungan lapangan pimpinan perusahaan (safety management walk trhough) baik secara terencana maupun insidentil | E45: kegiatan kunjungan lapangan pimpinan perusahaan dilakukan secara insidentil | F45: kegiatan kunjungan lapangan pimpinan perushaan dilakukan secara formal dan terencana, 1 kali dalam 1 tahun | G45: kegiatan kunjungan lapangan pimpinan perusahaan dilakukan secara formal dan terencana dan insidentil, > 1 kali dalam 1 tahun | H45: kegiatan kunjungan lapangan pimpinan perushaan dilakukan secara formal dan terencana, > 2 kali dalam 1 tahun dan dilakukan secara insidentil sesuai analisis kondisi perkembangan kegiatan operasional | I45: tinjauan dokumen | J45: 5
C46: =Penilaian!C50 -> 2.2.7 Peran Manajemen Puncak dalam kunjungan Site | D46: manajemen puncak tidak meninjau implementasi pengelolaan KP secara langsung pada kegiatan operasional pertambangan | E46: manajemen puncak hanya fokus meninjau pengelolaan KP pada kegiatan/area yang secara historis telah terjadi kasus KP | F46: manajemen puncak meninjau pengelolaan KP pada seluruh kegiatan oeprasional pertambangan dan memberi perhatian secara detail, melakukan interaksi langsung dengan perwakilan pekerja | G46: manajemen puncak memberikan masukan masukan konstruktif, umpan balik, informasi dan/atau dukungan yang dibutuhkan, serta solusi untuk perbaikan dan pengelolaan KP untuk seluruh kegiatan operasional pertambangan | H46: manajemen puncak hadir memerikan contoh dan keteladanan secara konkrit dalam hal pengelolaan KP | I46: wawancara FGD | J46: 5
C47: =Penilaian!C51 -> 2.2.8 Efektivitas Rapat Tinjauan Manajemen | D47: nilai rata-rata hasil audit SMKP elemen VII dalam 2 tahun terakhir 0% | E47: nilai rata-rata hasil audit SMKP elemen VII dalam 2 tahun terakhir 0.1 - 2.0 % | F47: nilai rata-rata hasil audit SMKP elemen VII dalam 2 tahun terakhir 2.1 - 4.0% | G47: nilai rata-rata hasil audit SMKP elemen VII dalam 2 tahun terakhir 4.1-4.9% | H47: nilai rata-rata hasil audit SMKP elemen VII dalam 2 tahun terakhir 5% | I47: tinjauan dokumen | J47: 5
C48: =Penilaian!C52 -> 2.2.9 Peran Pimpinan Tertinggi pada Rapat Tinjauan Manajemen | D48: manajemen puncak tidak berperan dalam rapat tinjauan manajemen | E48: manajemen puncak menghadiri rapat tinjauan manajemen namun tidak berperan signifikan, mendelegasikan kepada managemen representative untuk memimpin diskusi dan membuat keputusan | F48: manajemen puncak memimpin langsung pelaksanaan rapat tinjauan manajemen dan terlibat dalam pembahasan seluruh substansi namun menetapkan keputusan secara terpimpin | G48: manajemen puncak memimpin langsung pelaksanaan rapat tinjauan manajemen dan terlibat dalam pembahasan seluruh substansi dan memberikan msaukan konstruktif dan valid, umpan balik, informasi dan/atau dukngan yang dibutuhan, untuk setiap substansi pembahasan | H48: manajemen puncak memimpin rapat tinjauan manajemen, mampu memberdayakan seluruh peserta untuk berkolaborasi dalam memberikan masukan seluruh substansi pembahasan, dan mampu memimpin pengambilan keputusan dan penetapan kesimpulan melalui proses yang inklusif dan teap, didasarkan hasil konsensus bersama | I48: wawancara FGD | J48: 5
C49: =Penilaian!C53 -> 2.2.10 Dukungan Manajemen untuk Inovasi dan Peningkatan Kinerja KP | D49: manajemen puncak tidak menyediakan sumberdaya yang memadai untuk pelaksanaan inovasi penerapan KP | E49: manajemen puncak menyediakan sumberdaya terbatas untuk pelaksanaan invoasi penerapan KP, dengan focus hanya kepada perbaikan atas isu KP yang telah terjadi melalui tim kerja sementara yang dibentuk secara ad-hoc | F49: manajemen puncak menyediakan sumberdaya untuk pelaksanaan inovasi penerapan KP untuk dilakukan secara terencana dan sistematis oleh bagian K3 dan KO atau departemen/bagian lainnya yang ditunjuk , dengan fokus untuk peningkatan kinerja aspek penerapan KP yang kurang baik | G49: manajemen pncak menyediakan sumberdaya untuk pelaksanaan inovasi penerapan KP untuk dilakukan secara terencana dan sistmatis oleh bagian K3 dan KO atau departemen/bagian lainnya yang ditunjuk, dengan fokus untuk peningktana kinerja yang kurang baik maupun untuk mempertahnakan kinerja ang sudah baik | H49: manajemen puncak menyediakan sumberdaya yang emmadai dan telah berhasil mencipatkan iklim inovasi di seluruh departemen/bagian dari pekerja, dengan fokus untuk peningkatan kinerja yang kurang baik maupun untuk mempertahankan kinerja yang sudah baik | I49: wawancara FGD | J49: 5
C50: =Penilaian!C54 -> 2.2.11 Pemberian Penghargaan atas Kinerja KP dari Pekerja | D50: manajemen tidak memberikan penghargaan/apresiasi kepada pekerja / unit kerja yang memiliki prestasi dalam pengelolaan KP | E50: pengahargaan/apreasiasi kepada pekerja / unit kerja yang memiliki prestasi baik dalam pengelolaan KP dilakukan secara informal dan insidentil, tanpa mekanisme yang berdasarkan prinsip keadilan, transparansi, dan akuntabilitas | F50: penghargaan/apresiasi kepada pekerja/unti kerja yang memiliki prestasi baik dalam pengelolaan KP dilakukan melalui mekanisme formal berdasarkan hasil penilaian kinerja | G50: manajemen telah memberikan kesempatan kepada pekerja / unit kerja yang memiliki prestasi baik dalam pengelolaan KP untuk membagikan pembelajaran kepada pekerja / unit kerja lainnya | H50: manajemen memberikan dukungan lanjut kepada pekerja / unit kerja yang memiliki prestasi baik dalam pengelolaan KP untuk mempertahankan dan meningkatkan kinerja | I50: tinjauan dokumen wawancara | J50: 5
C51: =Penilaian!C55 -> 2.2.12 Pemberian Sanksi atas Pelanggaran KP dari Pekerja | D51: manajemen tidak memerikan sanksi/penegakan disiplin kepada pekerja/unti kerja yang melanggar peraturan KP | E51: manajemen mulai memberikan sanksi/penegakan disiplin keapda pekerja/unit kerja yang melanggara peraturan KP secara informal dan insidentil, tanpa meanisme yang berdasaran prinsip keadilan, transparansi, dan akuntabilitas | F51: manajemen memberikan sanksi secara proporsional jika ada kinerja yang tidak dapat diterima, kelalalian, perilaku berisiko, dan kesalahan yang tidak disengaja, berdasarkan analisis manajemen | G51: manajemen melibatkan semua pihak yang terlibat untuk menjelaskan jenis pelanggaran, mendiskusikan bagaiaman situasi yang memicu pelanggarana, menjelaskan akbiat, menyimpulkan pembelajaran, dan memutuskan apa yang harus meereka lakukan untuk memperbaiki kerusakan yang telah terjadi | H51: manajemen memberikan dukungan lanjut kepada pekerja / unit kerja yang telah diberikan sanksi untuk memperbaiki dan meingkatkan kinerja | I51: tinjauan dokumen wawancara | J51: 5
... C70: =Penilaian!C74 -> 2.2.31 Peran Pengawas Operasional/Teknis dalam Manajemen Risiko KP | D70: pengawas operasional tidak berperan/berkontribusi dalam manajemen risiko KP | E70: sebagian besar pengawas operasional melaksanakan tanggung jawabanya dalam tim manajemen risiko KP, apabila ada isu dengan pekerjaannya atau ketika diminta oleh pimpinan unit kerjanya | F70: sebagian besar pengawas operasional berpartisipasi dalam tim manajemen risiko KP sesuai dengan tanggung jawab yang ditetapkan | G70: sebagian besar pengawas operasional dipilih berperan aktif memberikan input konstruktif, umpan balik, informasi dan/atau dukungan yang dibutuhkan dalam kegiatan tim manajemen risiko KP | H70: seluruh pengawas operasonal mampu memberikan informasi dan duungan yang tepat, saling mentrasfer dan menyelaraskan pemahaman dan mampu berkolaborasi dalam tim untuk mencapai tujuan manajemen risiko KP lingkup organisasi | I70: kuesioner FGD | J70: 5
...

Sheet Kuesioner
A2: Indikator | C2: Parameter | D2: 1 | E2: 2 | F2: 3 | G2: 4 | H2: 5
A3: =Penilaian!A6 -> Partisipasi Pekerja Tambang | B3: =Penilaian!B6 -> A. Kepedulian dan Perilaku Individu terhadap Risiko KP
C4: =Penilaian!C8 -> 1.1.2 Komitmen dan Inisiatif Pekerja dalam Pengelolaan KP | D4: =Rubrik!D5 -> pekerja bersikap apatis dalam pengelolaan KP dan mengupayakan keselamatan individu dengan naluri, melaksanakan KP karena terpaksa namun tidak mengetahui manfaatnya | E4: =Rubrik!E5 -> pekerja melaksanakan KP sudah mengetahui manfaat pengelolaan KP, namun sepenuhnya bergantung pada perusahaan tempat mereka bekerja untuk menjaga mereka tetap selamat | F4: =Rubrik!F5 -> pekerja menjaga kesealamatan dan kesehatan diri mereka secara mandiri untuk komitmen kepatuhan terhadap norma | G4: =Rubrik!G5 -> pekerja berkontribusi pada keselamatan dan kesehatan orang lain (interdependent) dalam tim kerja dengan komitmen berkelanjutan | H4: =Rubrik!H5 -> pekerja berkontribusi pada keselamatan dan kesehatan orang lain dalam skala organisasi, menjalankannya bagian dari gaya hidup, memiliki ikatan emosional yang melekat untuk melibatkan diri untuk peningkatan pengelolaan KP organisasi (komitmen afektif)
B5: =Penilaian!B12 -> B. Keterlibatan Pekerja dalam Pengelolaan KP
C6: =Penilaian!C15 -> 1.2.3 Peran Pekerja dalam Kegiatan KP | D6: =Rubrik!D12 -> sebagian besar pekerja hanya menghadiri kegiatan KP yang menjadi kewajibannya | E6: =Rubrik!E12 -> sebagian besar pekerja terlibat dan hanya berkontribusi dalam kegiatan KP apabila ada isue dengan pekerjaannya atau ketika diminta oleh pimpinan unit kerja | F6: =Rubrik!F12 -> sebagian besar pekerja berpartisipasi dalam kegiatan KP lingkup unit kerjanya sesuai dengan tanggung jawab yang ditetapkan | G6: =Rubrik!G12 -> sebagian besar pekerja berperan aktif memberikan input konstruktif, umpan balik, informasi dan/atau dukungan dalam kegiatan KP untuk lingkup unit kerjanya dan unit lain yang terkait dalam departemen | H6: =Rubrik!H12 -> sebagian besar pekerja berpartisipasi secara aktif dalam kegiatan KP lingkup organisasi, dan mampu berkolaborasi untuk mencapai tujuan KP
C7: =Penilaian!C17 -> 1.2.5 Peran Perwakilan Departemen/Bagian/Seksi dalam Tim Manajemen Risiko KP | D7: =Rubrik!D14 -> sebagian besar perwakilan departemen/bagian/seksi tidak berperan dalam tim manajemen risiko KP | E7: =Rubrik!E14 -> sebagian besar perwakilan departemen/bagian/seksi yang dipilih melaksanakan tanggung jawabnya dalam tim manajemen risiko KP hanya apabila ada isue dengan pekerjaannya atau ketika diminta oleh KTT/PJO | F7: =Rubrik!F14 -> sebagian besar perwakilan departemen/bagian/seksi yang dipilih melaksanakan tanggung jawabnya dalam tim manajemen risiko KP sesuai dengan tanggung jawab yang ditetapkan | G7: =Rubrik!G14 -> sebagian besar perwakilan departemen/bagian/seksi yang dipilih berperan aktif memberikan input konsruktif, umpan balik, informasi dan/atau dikungan yang dibutuhan dalam kegiatan tim manajemen risiko KP | H7: =Rubrik!H14 -> seluruh perwakilan departemen/bagian/seksi yang dipilih mampu untuk saling menyelaraskan pemahaman, melakukan pertukaran informasi yang tepat, dan mampu berkolaborasi dalam tim untuk mencapai tujuan manajemen risiko KP lingkup organisasi
A8: =Penilaian!A38 -> Tanggung Jawab Pimpinan Unit Kerja | B8: =Penilaian!B38 -> A. Implementasi Kebijakan KP
C9: =Penilaian!C42 -> 2.1.4 Persepsi Pekerja terhadap Komitmen Manajemen dalam Penerapan Kebijakan KP | D9: =Rubrik!D38 -> sebagian besar pekerja memiliki persepsi bahwa manajemen tidak mendukung penerapan kebijakan KP. Kebijakan KP sering dikompromikan untuk kepentingan lainnya dalam kondisi tertentu | E9: =Rubrik!E38 -> sebagian besar pekera memiliki persepsi bahwa manajemen berkomitmen untuk menerapkan kebijakan KP ketika sudah terjadi kecelakaan dan kerugian | F9: =Rubrik!F38 -> sebagian besar pekerja memiliki persepsi bahwa manajemen telah berkomitmen untuk menerapkan kebijakan dan tanpa harus terjadi kecelakaan dan kerugian terlebih dahulu, melalui program KP terencana | G9: =Rubrik!G38 -> sebagian besar pekerja memiliki persepsi bahwa manajemen telah berkomitmen untuk menerapkan kebijakan dan uapay-upaya KP dan apabila terjadi konflik kepentingan, maajemen memiliki inisiatif untuk mengevaluasi analisis risiko dan mengutamakan aspek KP tetap terpenuhi | H9: =Rubrik!H38 -> sebagian besar pekerja memiliki persepsi bahwa manajemen telah menerapkan kebijakan dan upaya-upaya KP, mengutamakan aspek KP saat terjadi konflik kepentingan, dan telah menjadi panutan/teladan yang baik bagi pekerja dalam penerapan KP
B10: =Penilaian!B43 -> B. Kepemimpinan dan Komitmen KP
C11: =Penilaian!C45 -> 2.2.2 Persepsi Pekerja terhadap Kepemimpinan dan Komitmen Manajemen | D11: =Rubrik!D41 -> sebagian besar pekerja memiliki persepsi bahwa komitmen manajemen puncak dalam KP sangat kurang | E11: =Rubrik!E41 -> sebagian besar pekerja memiliki persepsi bahwa komitmen manajemen puncak dalam KP terbatas untuk sekedar penyelesaian permasalahan kasus KP yang telah terjadi | F11: =Rubrik!F41 -> sebagian besar pekerja memiliki persepsi bahwa komitmen manajemen puncak dalam KP untuk pemenuhan minimum kewajiban hukum dan pencapaian target kinerja lagging indicator | G11: =Rubrik!G41 -> sebagian besar pekerja memiliki persepsi bahwa manajemen puncak memiiki komitmen pengelolaan KP untuk menunjang sistem produsi dan mencapai target leading dan lagging indicator | H11: =Rubrik!H41 -> sebagaian besar pekerja memiliki persepsi bahwa manajemen puncak memiliki komitmen tinggi dalam KP agar dapat menunjang kinerja operasional yang konsisten handal di berbagai kondisi. Manajemen telah menjadi role model bagi pekerja, telah memberikan dukungan yang memadai dan dorongan untuk inovasi dan perbaikan berkelanjutan
C12: =Penilaian!C48 -> 2.2.5 Kecepatan Manajemen Puncak dalam Merespon Isu KP | D12: =Rubrik!D44 -> manajemen puncak apatis dan tidak memiliki atensi dalam merespon isu KP | E12: =Rubrik!E44 -> manajemen puncak menunda melakukan perbaikan isu KP dan baru mulai menindaklanjuit ketika telah terjadi kerugian | F12: =Rubrik!F44 -> manajemen pncak melakukan perbaikan atas isu KP sesuai dengan birokrasi yang ditetapkan, dengan fokus kepada isu KP yang mempengaruhi keberlanjutan operasional | G12: =Rubrik!G44 -> manajemen puncak mampu mengambil keputusan dan melakukan perbaikan atas isu KP dengan cepat terhadap isu KP yang telah terjadi, baik isu KP yang bersifat minor, mayor, maupun yang signifikan mempengaruhi keberlanjutan operasional | H12: =Rubrik!H44 -> manajemen puncak mampu mengambil keputusan dan melakukan perbaikan atas seluruh isu KP dengan cepat, baik kepada isu KP yang telah terjadi, maupun melaukan antisipasi yang tepat untuk isu KP yang berpotensi akan terjadi di masa mendatang
C13: =Penilaian!C58 -> 2.2.15 Persepsi Pekerja terhadap Kepemimpinan dan Komitmen dari KTT/PJO | D13: =Rubrik!D54 -> sebagian besar pekerja memiliki persepsi bahwa komitmen KTT/PJO dalam pengelolaan KP sangat kurang | E13: =Rubrik!E54 -> sebagian besar pekerja memiliki persepsi bahwa komitmen KTT/PJO dalam pengelolaan KP terbatas untuk sekedar penyelesaian permasalahan kasus KP yang telah terjadi | F13: =Rubrik!F54 -> sebagian besar pekerja memiliki persepsi bahwa komitmen KTT/PJO dalam pengelolaan KP untuk pemenuhan minimum kewajiban hukum dan pencapaian target kinerja lagging indicator | G13: =Rubrik!G54 -> sebagian besar pekerja memiliki persepsi bahwa KTT/PJO memiliki komitmen dalam pengelolaan KP terbatas untuk menunjang sistem produksi dan mencapai target leading dan lagging indicator | H13: =Rubrik!H54 -> sebagian besar pekerja memiliki persepsi bahwa KTT/PJO memiliki komitmen yang tinggi dalam KP agar dapat menunjang kinerja operasional yang konsisten handal di berbagai kondisi. KTT/PJO telah menjadi role model bagi pekerja dalam hal pengelolaan KP
C14: =Penilaian!C60 -> 2.2.17 Peran KTT/PJO dalam Kegiatan KP | D14: =Rubrik!D56 -> KTT/PJO tidak terlibat/berperan dalam kegiatan KP | E14: =Rubrik!E56 -> KTT/PJO memberikan informasi satu arah, tidak memberikan ruang partisipasi dan kesempatan kepada anggota untuk merespon kepada pekerja | F14: =Rubrik!F56 -> KTT/PJO memberikan kesempatan untuk diskusi dan konsultasi serta mendelegasikan keapda pimpinan unit kerja untuk memimpin kegiatan KP | G14: =Rubrik!G56 -> KTT/PJO memimpin langsung, membuka ruang kerjasama yang besar dan proses diskusi dua arah, menjadikan pekerja sebagai partner untuk kolaborasi | H14: =Rubrik!H56 -> KTT/PJO mampu memberdayakan pekerja untuk berpartisipasi aktif, memberi solusi, melakkan pertukaran nformasi yang tepat, serta mampu memimpin pengambilan keputusan, penetapan kesimpulan/mufakat didasarkan hasil konsensus bersama yang melalui proses rasional dan partisipasi tulus dari pekerja
C15: =Penilaian!C61 -> 2.2.18 Peran KTT/PJO dalam Penyusunan dan Tinjauan Kebijakan KP | D15: =Rubrik!D57 -> KTT/PJO tidak terlibat/berperan dalam penyusunan tinjauan kebijakan KP | E15: =Rubrik!E57 -> KTT/PJO hanya sekedar hadir dalam kegiatan penyusunan/tinjauan kebijakan KP namun tidak berperan signifikan, mendelagasikan kepada pimpinan bagian K3 dan KO untuk memimpin diskusi dan membuat keputusan dalam kegiatan penyusunan/tinjauan kebijakan KP | F15: =Rubrik!F57 -> KTT/PJO berpartisipasi dalam penyusunan/tinjauan kebijakan KP sesuai dengan tanggung jawab yang ditetapkan secara terencana, terlibat dalam pembahasan seluruh substansi namun menetapkan keputusan secara terpimpin | G15: =Rubrik!G57 -> KTT/PJO memimpin langsung pelaksanaan kegiatan penyusunan/tinjauan kebijakan KP dan terlibat dalam pembahasan seluruh substansi dan memberikan masukan konstruktif dan valid, umpan balik, informasi dan/atau dukungan yang dibutuhkan, untuk setiap substansi pembahasan | H15: =Rubrik!H57 -> KTT/PJO mampu memberdayakan seluruh peserta untuk berkolaborasi dalam memberikan masukan seluruh substansi pembahasan, dan mampu memimpn pengambilan keputusan dan penetapan kesimpulan melalui prsoes yang inklusif dan tepat, didaarkan hasil konsensus bersama untuk mencapai tujuan penyusuan/tinjauan kebijakan KP
C16: =Penilaian!C62 -> 2.2.19 Peran KTT/PJO dalam Manajemen Risiko KP | D16: =Rubrik!D58 -> KTT/PJO tidak terlibat/berperan dalam manajemen risiko KP | E16: =Rubrik!E58 -> KTT/PJO tidak berperan signifikan dalam manajemen risiko KP | F16: =Rubrik!F58 -> KTT/PJO ikut berperan dalam tahap perencanaan manajemen risiko KP | G16: =Rubrik!G58 -> KTT/PJO ikut berperan dalam tahap perencanaan, komunikasi dan konsultasi, pelaksanaan, dan secara proaktif melakukan pemantauan dan peninjauan manajemen risiko KP | H16: =Rubrik!H58 -> KTT/PJO ikut berperan dalam tahap perencanaan, komunikasi dan konsultasi, pelaksanaan, dan pemantauan, dan peninjauan manajemen risiko KP, serta menindaklanjuti hasil evaluasi untuk peningkatan berkelanjutan
C17: =Penilaian!C63 -> 2.2.20 Persepsi Pimpinan Departemen/Bagian/Seksi terhadap peran KP | D17: =Rubrik!D59 -> pimpinan departemen/bagaian/seksi memiliki persepsi bahwa pengelolaan KP harus dilakukan agar tidak terkena sanksi dari pemerintah dan/atau klien serta untuk kepentingan sertifikasi/pengakuan dari eksternal | E17: =Rubrik!E59 -> pimpinan departemen/bagian/seksi memiliki persepsi bahwa pengelolaan KP harus untuk mencegah kerugian berulang (loss control), dengan fokus kepada penyelesaian masalah/kejadian | F17: =Rubrik!F59 -> pimpinan departemen/bagian/seksi memiliki persepsi bahwa pengelolaan KP harus dilakukan sebagai upaya kepatuhan adminstratif yang bertujuan fokus untuk mencegah dan menurunkan angka kecelakaan, kejadian berbahaya, KAPTK, dan PAK sesuai target kinerja | G17: =Rubrik!G59 -> pimpinan departemen/bagian/seksi memiliki persepsi bahwa pengelolaan KP adalah pendukung kelancaran operasional pertambangan dan harus dikelola dengan sistem manajemen yang terintegrasi dengan seluruh fungsi di dalam perusahaan | H17: =Rubrik!H59 -> pimpinan departemen/bagian/seksi memiliki persepsi bahwa pengelolaan KP merupakan pendukung kelancaran operasional pertambangan dan investasi yang baik bagi perusahaan serta bagian dari budaya perusahaan yang harus terus diimplementasikan dan ditingkatkan secara berkelanjutan
C18: =Penilaian!C64 -> 2.2.21 Persepsi Pekerja terhadap Kepemimpinan dan Komitmen dari Pimpinan Departemen/Bagian/Seksi | D18: =Rubrik!D60 -> sebagian besar pekerja memiliki persepsi bahwa komitmen pimpinan departemen/bagian/seksi dalam pengelolaan KP sangat kurang | E18: =Rubrik!E60 -> sebagian besar pekerja memiliki persepsi bahwa komitmen pimpinan departemen/bagian/seski dalam pengelolaan KP terbatas untuk sekedar penyelesaian permasalahan kasus KP yang telah terjadi | F18: =Rubrik!F60 -> sebagian besar pekerja memiliki persepsi bahwa komitmen pimpinan departemen/bagian/seksi dalam pengelolaan KP untuk pemenuhan minimum kewajiban hukum dan pencapaian target kinerja lagging indicator | G18: =Rubrik!G60 -> sebagian besar pekerja memiliki persepsi bahwa pimpinan departemen/bagian/seksi memiliki komitmen pengelolaan KP untuk menunjang sistem produksi dan mencapai target leading dan lagging indicator | H18: =Rubrik!H60 -> sebagian besar pekerja memiliki persepsi bahwa pimpinan departemen/bagian/seksi memiliki komitmen yang tinggi dalam KP agar dapat menunjang kinerja operasional yang konsisten handal di berbagai kondisi. Pimpinan departemen/bagian teah menjadi role model bagi anggotanya dalam hal pengelolaan KP
C19: =Penilaian!C66 -> 2.2.23 Peran Pimpinan Departemen/Bagian dalam Penyusunan dan Tinjauan Kebijakan KP | D19: =Rubrik!D62 -> pimpinan departemen/bagian tidak terlibat/berperan dalam penyusunan / tinjauan kebijakan KP | E19: =Rubrik!E62 -> sebagian besar pimpinan departemen/bagian hanya sekedar hadir dalam kegiatan penyusunan / tinjauan kebijaan KP namun tidak berperan aktif dalam kegiatan penyusunan/ tinjauan kebijakan KP, hanya berperan aktif ketika diminta diminta oleh KTT/PJO | F19: =Rubrik!F62 -> sebagian besar pimpinan departemen/bagian berpartisipasi dalam penyusunan / tinjauan kebijakan KP sesuai dengan tanggung jawab yang ditetapkan secara terencana | G19: =Rubrik!G62 -> sebagian besar pimpinan departemen/bagian berperan aktif memberikan input konstruktif dalam penyusunan / tinjauan kebijakan KP | H19: =Rubrik!H62 -> seluruh pimpinan departemen / bagian mampu memberikan informasi dan dukungan yang tepat, mentransfer pemahaman dan/atau mampu berkolaborasi untuk mencapai tujuan penyusunan/tinjauan kebijakan KP
C20: =Penilaian!C68 -> 2.2.25 Peran Pimpinan Departemen/Bagian/Seksi dalam Kegiatan KP | D20: =Rubrik!D64 -> pimpinan departemen / bagian hanya menghadiri kegiatan KP yang menjadi kewajibannya | E20: =Rubrik!E64 -> sebagian besar pimpinan departemen/bagian terlibat dan hanya berkontribusi dalam kegiatan KP apabila ada isu dengan pekerjaannya atau ketika diminta oleh KTT/PJO | F20: =Rubrik!F64 -> sebagian besar pimpinan departemen/bagian berpartisipasi dalam kegiatan KP sesuai dengan tanggung jawab yang ditetapkan secara terencana | G20: =Rubrik!G64 -> sebagian besar pimpinan departemen/bagian berperan aktif memberikan input konstruktif dalam kegiatan KP | H20: =Rubrik!H64 -> seluruh pimpinan departemen/bagian mampu mentrasnfer pemahaman dan/atau mampu berkolaborasi untuk mencapai tujuan kegiatan KP lingkup organisasi
C21: =Penilaian!C70 -> 2.2.27 Peran Pimpinan Departemen/Bagian/Sekai dalam Manajemen Risiko KP | D21: =Rubrik!D66 -> pimpinan departemen /bagian/seksi tidak beperan dalam manajemen risiko KP | E21: =Rubrik!E66 -> sebagian besar pimpinan departemen/bagian/seksi melaksanakan tanggung jawbanya dalam tim manajemen risiko KP, apabila ada isue dengan pekerjaaanya atau ketika diminta oleh KTT/PJO | F21: =Rubrik!F66 -> sebagian besar pimpinan departemen/bagian/seksi berpartisipasi dalam tim manajemen risiko KP sesuai dengan tanggung jawab yang ditetapkan | G21: =Rubrik!G66 -> sebagian besar pimpinan departemen/bagian/seksi beperan aktif memberikan input konstruktif, umpan balik, informasi dan/atau dukungan yang dibutuhkan dalam kegiatan tim manajemen risiko KP | H21: =Rubrik!H66 -> seluruh pimpinan departemen/bagian/seksi mampu memberikan informasi dan dukungan yang tepat, saling mentransfer dan mnyelaraskan pemahaman dan mampu berkolaborasi dalam tim untuk mencapai tujuan manajemen risiko KP lingkup organisasi
C22: =Penilaian!C72 -> 2.2.29 Peran Pengawas Operasional/Teknis dalam Pertemuan KP Kelompok Kerja | D22: =Rubrik!D68 -> pengawas operasional tidak terlibat/berperan dalam pertemuan KP kelompok kerja | E22: =Rubrik!E68 -> pengawas operasional memberikan informasi satu arah, tidak memberikan ruang partisipasi dan kesempatan merespon kepada anggotanya dalam pertemuan KP kelompok kerja | F22: =Rubrik!F68 -> pengawas operasional memberikan kesempatan untu kdiskusi dan konsultasi dan mendelegasikan kepada anggota yang dipilih untuk memimpin pertemuan KP kelompok kerja | G22: =Rubrik!G68 -> pengawas operasional memimpin langsung pertemuan KP kelompok kerja, membuka ruang kerjasama yang besar dan proses diskusi dua arah, menjadikan anggota sebagai partner untuk kolaborasi | H22: =Rubrik!H68 -> pengawas operasional mampu memberdayakan anggotanya untuk berpartisipasi aktif dan melakukan pertukaran informasi yang tepat, serta mampu memimpin pengambilan keputusan, penetapan kesimpulan//mufakat melalui proses rasional dan partisipasi tulus dari anggota
C23: =Penilaian!C74 -> 2.2.31 Peran Pengawas Operasional/Teknis dalam Manajemen Risiko KP | D23: =Rubrik!D70 -> pengawas operasional tidak berperan/berkontribusi dalam manajemen risiko KP | E23: =Rubrik!E70 -> sebagian besar pengawas operasional melaksanakan tanggung jawabanya dalam tim manajemen risiko KP, apabila ada isu dengan pekerjaannya atau ketika diminta oleh pimpinan unit kerjanya | F23: =Rubrik!F70 -> sebagian besar pengawas operasional berpartisipasi dalam tim manajemen risiko KP sesuai dengan tanggung jawab yang ditetapkan | G23: =Rubrik!G70 -> sebagian besar pengawas operasional dipilih berperan aktif memberikan input konstruktif, umpan balik, informasi dan/atau dukungan yang dibutuhkan dalam kegiatan tim manajemen risiko KP | H23: =Rubrik!H70 -> seluruh pengawas operasonal mampu memberikan informasi dan duungan yang tepat, saling mentrasfer dan menyelaraskan pemahaman dan mampu berkolaborasi dalam tim untuk mencapai tujuan manajemen risiko KP lingkup organisasi
B24: =Penilaian!B84 -> D. Penetapan Peran, Tanggung Jawab dan Kewenangan dalam KP
C25: =Penilaian!C94 -> 2.4.10 Pemberian Dukungan dan Kewenangan kepada Pekerja untuk Menyatakan Keberatan Bekerja jika Syarat KP Diragukan | D25: =Rubrik!D90 -> tidak ada mekanisme untuk menyatakan keberatan bekerja jika persyaratan KP diragukan. Pekerja wajib melaksanakan work order dalam setiap kondisi | E25: =Rubrik!E90 -> hanya pimpinan departemen/bagian/seksi yang diberikan kewenangan untuk mewakili pekerja yang menyatakan keberatan bekerja jika persyaratan KP diragukan | F25: =Rubrik!F90 -> hanya pimpinan departemen/bagian/seksi dan pengawas operasional dari tiap pekerjaan diberikan keweangan untuk mewakili pekerja yang menyatakan keberatan bekerja jika persyaratan KP diragukan | G25: =Rubrik!G90 -> seluruh pekerja telah diberikan kesempatan untuk menyatakan keberatan bekerja jika persyaratan KP diragukan, namun pada prakteknya masih terdapat permasalahan ketidakadilan sosial di tempat kreja akibat ketidaksejajaran kekuasanaan/otoritas, sehingga pekerja tidak berani untuk menyatakan keberatan bekerja | H25: =Rubrik!H90 -> setiap pekerja dari setiap jenang pekerja diberikan dukungan secara adil untuk menyatakan keberatan bekerja jika persyaratan KP diragukan, dan telah terdapat mekanisme verifikasi yang adil dan trasnsparan
C26: =Penilaian!C95 -> 2.4.11 Penerapan Mekanisme Pemilihan Perwakilan Pekerja pada Komite KP | D26: =Rubrik!D91 -> pemilihan perwakilan pekerja pada komite KP tanpa ada pertimbangan apapun oleh manajemen puncak, sercara otoriter | E26: =Rubrik!E91 -> pemilihan perwakilan pekerja pada komite KP dilakukan melalui proses diskusi sepihak antara manajemen dan KTT/PJO | F26: =Rubrik!F91 -> pemilihan perwakilan pekerja pada komite KP sesuai dengan tingkat jabatan | G26: =Rubrik!G91 -> pemilihan perwakilan pekerja pada komite KP dilakukan dengan melibatkan pemangku kepentingan internal, namun belum ada pertimbangan komptensi dan komposisi | H26: =Rubrik!H91 -> pemilihan perwakilan pekerja pada komite KP dilakukan melalui mekanisme yang aspiratif dan demokratis, dengan mempertimbangkan kompetensi dan komposisi
C27: =Penilaian!C96 -> 2.4.12 Persepsi Manajemen terhadap Pengelolaan Pekerja | D27: =Rubrik!D92 -> manajemen memandang pekerja sebagai bagian sementara dari perusahaan yang harus diambil manfaat sebesar-besarnya dan akan mudah digantikan | E27: =Rubrik!E92 -> manajemen memandang pekerja sebagai lilabilitas, menjadi beban yang harus dikendalikan agar tidak menimbulkan kerugian bagi perusahaan | F27: =Rubrik!F92 -> manajemen memandang pekerja sebagai sumberdaya positif yang harus dimaksimalkan dalam perannya unuk mengendalikan risiko | G27: =Rubrik!G92 -> manajemen memandang pekerja sebagai aset perushaan yang harus dikembangkan valuenya sehingga dapat berkontribusi secara progresif untuk peningkatan kinerja KP | H27: =Rubrik!H92 -> manajemen memandang pekerja sebagai mitra strategis yang diberikan sumberdaya penunjang yang memadai untuk mencapai tujuan bersama dalam pengelolaan KP
B28: =Penilaian!B102 -> F. Informasi, Komunikasi, Pendampingan, Konsultasi KP
C29: =Penilaian!C107 -> 2.6.5 Efektivitas Kampanye KP | D29: =Rubrik!D103 -> kampanye KP sudah berjalan, namun tidak menarik dan tidak menggugah kesadaran pekerja terhadap KP | E29: =Rubrik!E103 -> kampanye KP menarik perhatian dari pekerja dan telah berhasil membangun kesadaran pekerja terhadap KP | F29: =Rubrik!F103 -> kampanye KP telah berhasil membangun kesadaran pekerja terhadap KP dan menumbuhkan ketertarikan pekerja untuk berpatisipasi dalam pengelolaan KP | G29: =Rubrik!G103 -> kampanye KP telah berhasil menumbuhkan keinginan dan kemauan pekerja untuk berpartisipasi dalam pengelolaan KP secara konkrit | H29: =Rubrik!H103 -> kampanye KP telah berhasil menggerakkan pekerja untuk bekerja secara aman dan berpartisipasi secara konktrit dalam pengelolaan KP
C30: =Penilaian!C108 -> 2.6.6 Efektivitas Komunikasi KP Eksternal dengan Mitra Kerja (Customer, Kontrator, Sub Kontraktor, dll) | D30: =Rubrik!D104 -> dalama pelaksanaan pekerjaan, tidak dilakukan koordinasi dan komunikasi KP dengan mitra kerja | E30: =Rubrik!E104 -> dalam pelaksanaan pekerjaan, dilakukan koordinasi dan komunikasi KP dengan mitra kerja secara insidenti (tidak terencana) | F30: =Rubrik!F104 -> dalam pelaksanaan pekerjaan, dilakukan koordinasi dan komunikasi KP dengan mitra kerja secara terencana dan sistematis | G30: =Rubrik!G104 -> koordinasi dan komunikasi KP dengan mitra kerja dilaukan secara kontinu (tidak dibatasi oleh proses formal) dan telah terdapat keterbukaan infomasi KP yang penting | H30: =Rubrik!H104 -> koordinasi dan komunikasi KP dengan mitra kerja dilakukan dengan efketif pesan tersampaikan dengan benar dan tepat, hal-hal yang memiliki dampak terhadap KP seluruhnya terinformasikan dengan baik
C31: =Penilaian!C109 -> 2.6.7 Efektivitas Komunikasi Vertikal antara Pimpinan Unit Kerja dengan Anggota | D31: =Rubrik!D105 -> pimpinan unit kerja tidak memberikan arahan kepada anggota terkait pelaksanaan pekerjaan yang aman dan selamat, anggota kerja diberikan kebebasan untuk menyelesaikan pekerjaan | E31: =Rubrik!E105 -> pimpinan unit kerja memberikan arahan kepada anggota kerja hanya terkait kejadian yang menjadi isu organisasi, tidak terencana | F31: =Rubrik!F105 -> pimpinan unit kerja memberikan arahan kepada anggota kerja sebelum pekerjaan dimulai, terkait pelaksanaan pekerjaan yang aman dan selamat | G31: =Rubrik!G105 -> pimpinan unit kerja dan anggota kerja berdiskusi sebelum pekerjaan dimulai, berkoordinasi selama pekerjaan dilaksanakan, secara verbal dan/atau nonverbal, terkait pelaksanaan pekerjaan yang aman dan selamat | H31: =Rubrik!H105 -> pimpinan unit kerja dan anggota kerja mampu melakukan komunikasi secara efektif (pesan tersampaikan dengan baik), sebelum pekerjaan dimulai, pada saat pekerjaan dilaksanakan, dan setelah pekerjaan, dan mampu bersinergi positif
C32: =Penilaian!C110 -> 2.6.8 Efektivitas Komunikasi Horisontal antar Rekan Kerja | D32: =Rubrik!D106 -> sesama anggota tim kerja bekerja secara individualis tanpa berkoordinasi | E32: =Rubrik!E106 -> komunikasi horisontal antar rekan kerja dilakukan dengan buruk | F32: =Rubrik!F106 -> komunikasi horisontal antar rekan kerja dilakukan dengan secukupnya, tanpa inisiatif lebih dan keterbukaan terhadap informasi KP yang penting | G32: =Rubrik!G106 -> komunikasi horisontal antar rekan kerja dilakukan dengan baik, telah terdapat keterbukaan terhadap informasi KP yang penting | H32: =Rubrik!H106 -> sesama anggota tim kerja berkomunikasi dengan efektif; pesan tersampaiakn dengan benar dan tepat, hal-hal yang memiliki dampak terhadap KP seluruhnya terinformasikan dengan baik
C33: =Penilaian!C111 -> 2.6.9 Efektivitas Komunikasi antar Ketua Kelompok Kerja | D33: =Rubrik!D107 -> antar ketua kelompok kerja (Group Leader) yang memiliki keterkaitan dalam pekerjaan bekerja secara independen tanpa berkoordinasi | E33: =Rubrik!E107 -> komunikasi horisontal antar ketua kelompok kerja dilakukan dengan buruk | F33: =Rubrik!F107 -> komunikasi horisontal antar ketua kelompok kerja dilakukan dengan secukupnya, tanpa inisiaitf lebih dan keterbukaan terhadap informasi KP yang penting | G33: =Rubrik!G107 -> komunikasi horisontal antar ketua kelompok kerja dilakukan dengan baik, telah terdapat keterbukaan terhadap informasi KP yang penting | H33: =Rubrik!H107 -> antar ketua kelompok kerja yang memiliki keterkaitan dalam pekerjaan berkomunikasi dengan efektif: pesan tersampaikan dengan benar dan tepat, hal-hal yang memiliki dampak terhadap KP seluruhnya terinformasikan dengan baik
