Workbook

Sheet KriteriaTemuan
B1: Kriteria Temuan
B3: Kriteria Temuan
B4: Temuan | C4: Definisi
B5: Comply | C5: sesuai dengan persyaratan atau persyaratan tidak berlaku
B6: OFI | C6: Perbaikan diperlukan
B7: Not Comply | C7: tidak sesuai dengan persyaratan
B10: Kriteria Temuan
B11: Temuan | C11: Definisi | D11: Deskripsi
B12: Comply | C12: sesuai dengan persyaratan atau persyaratan tidak berlaku | D12: perusahaan memiliki bukti pelaksanaan dan terdokumentasi
B13: OFI | C13: perbaikan diperlukan | D13: perusahaan memiliki bukti pelaksanaan tetapi tidak terdokumentasi
D14: perusahaan memiliki bukti pelaksanaan tetapi dokumentasi perlu perbaikan
B15: Not Comply | C15: tidak sesuai dengan persyaratan | D15: perusahaan tidak memiliki bukti pelaksanaan dan tidak terdokumentasi

Sheet GapAnalysisChecklist
A1: Gap Analysis Checklist
A3: No | B3: Sub Elemen | C3: Elemen | D3: Persyaratan | E3: Temuan | F3: Bukti Pelaksanaan (Jika Comply) | G3: Deskripsi Temuan (Jika OFI atau Not Comply)
A4: 1 | B4: I.1_Penyusunan Kebijakan | C4: I. Kebijakan | D4: apakah tinjauan awal kondisi KP telah dilakukan, 3 syarat penyusunan dipenuhi, seluruh departemen/bagian dilibatkan, dan penyusunan kebijakan dievaluasi ? | E4: Comply | F4: kebijakan telah tersedia
A5: 2 | B5: I.2_lsi Kebijakan | C5: I. Kebijakan | D5: apakah visi, misi, tujuan, dan komitmen dalam melaksanakan KP telah dimiliki serta diturunkan menjadi program KP ? | E5: Not Comply | G5: program KP belum diturunkan dari kebijakan
A6: 3 | B6: I.3_Penetapan Kebijakan | C6: I. Kebijakan | D6: apakah kebijakan secara tertulis telah ditetapkan, disahkan oleh pimpinan tertinggi, dan bersifat dinamis ? | E6: OFI | G6: telah disahkan oleh pimpinan tertinggi tapi belum bersifat dinamis
A7: 4 | B7: I.4_Komunikasi Kebijakan | C7: I. Kebijakan | D7: apakah bahasa yang mudah dipahami oleh pekerja telah digunakan, beberapa media komunikasi digunakan, dan evaluasi ketersampaian informasi dilakukan kepada seluruh departemen/bagian ? | E7: Comply
A8: 5 | B8: I.5_Tinjauan Kebijakan | C8: I. Kebijakan | D8: apakah tinjauan kebijakan secara berkala telah dilakukan dan seluruh hasilnya ditindaklanjuti sebagai masukan dalam penyusunan kebijakan baru ? | E8: Comply
A9: 6 | B9: II.1_Penelaahan Awal | C9: II. Perencanaan | D9: apakah penelaahan awal untuk menentukan tingkat pencapaian kinerja KP telah dilakukan dan disinkronkan dengan program KP yang ditetapkan ? | E9: Comply
A10: 7 | B10: II.2.1_Komunikasi dan Konsultasi Risiko | C10: II. Perencanaan | D10: apakah komunikasi dan konsultasi risiko dengan seluruh pemangku kepentingan telah dilakukan serta seluruh hasilnya dijadikan bahan pertimbangan dalam manajemen risiko ? | E10: Comply
A11: 8 | B11: II.2.2_Penetapan Konteks Risiko | C11: II. Perencanaan | D11: apakah konteks risiko yang mencakup seluruh faktor internal dan eksternal telah ditetapkan ? | E11: Comply
A12: 9 | B12: II.2.3_Identifikasi Bahaya | C12: II. Perencanaan | D12: apakah seluruh bahaya telah diidentifikasi ? | E12: Comply
A13: 10 | B13: II.2.4_Penilaian dan Pengendalian Risiko | C13: II. Perencanaan | D13: apakah risiko sesuai hirarki pengendalian telah dikendalikan dan diimplementasikan secara memadai ? | E13: Comply
A14: 11 | B14: II.2.5_Pemantauan dan Peninjauan | C14: II. Perencanaan | D14: apakah risiko telah dipantau dan ditinjau secara periodik atau khusus apabila ada insiden serta hasilnya telah memadai ? | E14: Comply
A15: 12 | B15: II.3_Identifikasi dan Kepatuhan Terhadap Ketentuan Peraturan Perundang-undangan dan Persyaratan Lainnya yang Terkait | C15: II. Perencanaan | D15: apakah seluruh ketentuan peraturan perundang-undangan dan persyaratan lainnya telah diidentifikasi, dipantau, dan dipatuhi sepenuhnya ? | E15: Comply
A16: 13 | B16: II.4_Penetapan Tujuan, Sasaran, dan Program | C16: II. Perencanaan | D16: apakah TSP telah ditetapkan dan disahkan oleh Komite KP, diselaraskan dengan kebijakan dan terukur, serta seluruh ketentuan penyusunan telah dipertimbangkan ? | E16: Comply
A17: 14 | B17: II.5_Rencana Kerja dan Anggaran Keselamatan Pertambangan | C17: II. Perencanaan | D17: apakah RKAB aspek KP telah ditetapkan dan didapatkan persetujuan dari ESDM ? | E17: Comply
A18: 15 | B18: III.1_Penyusunan dan Penetapan Struktur Organisasi | C18: III. Organisasi dan Personel | D18: apakah struktur organisasi yang menggambarkan posisi KTT, PJO, PO, PT, Pengelola KP, KTBT yang terintegrasi dalam struktur organisasi perusahaan telah dimiliki, disusun sesuai ketentuan yang dipersyaratkan, dan dikomunikasikan kepada pekerja dan pihak terkait ? | E18: Comply
... A102: 99 | B102: VII.6_Penggunaan Tinjauan Hasil dari Tindak Lanjut Rencana Perbaikan dalam Penentuan Kebijakan | C102: VII. Tinjauan Manajemen dan Peningkatan Kinerja | D102: apakah seluruh tinjauan hasil dari tindak lanjut perbaikan sebagai dasar dalam penentuan kebijakan atas proses peningkatan kinerja KP telah digunakan ? | E102: Comply

Sheet GapAnalysisImplementationPlan
A1: Gap Analysis Implementation Plan
A3: No | B3: Sub Elemen | C3: Elemen | D3: Temuan | E3: Deskripsi Temuan (Jika OFI atau Not Comply) | F3: Tindakan Koreksi | G3: Penanggung Jawab | H3: Tanggal Mulai | I3: Tanggal Selesai | J3: Progress | K3: Status | L3: Keterangan
A4: =GapAnalysisChecklist!A4 -> 1 | B4: =GapAnalysisChecklist!B4 -> I.1_Penyusunan Kebijakan | C4: =GapAnalysisChecklist!C4 -> I. Kebijakan | D4: =GapAnalysisChecklist!E4 -> Comply | E4: =GapAnalysisChecklist!G4 -> 0 | J4: =IF(D4="Comply",1,0) -> 1 | K4: =IF(J4=1,"Completed","On Track") -> Completed
A5: =GapAnalysisChecklist!A5 -> 2 | B5: =GapAnalysisChecklist!B5 -> I.2_lsi Kebijakan | C5: =GapAnalysisChecklist!C5 -> I. Kebijakan | D5: =GapAnalysisChecklist!E5 -> Not Comply | E5: =GapAnalysisChecklist!G5 -> program KP belum diturunkan dari kebijakan | J5: =IF(D5="Comply",1,0) -> 0 | K5: =IF(J5=1,"Completed","On Track") -> On Track
A6: =GapAnalysisChecklist!A6 -> 3 | B6: =GapAnalysisChecklist!B6 -> I.3_Penetapan Kebijakan | C6: =GapAnalysisChecklist!C6 -> I. Kebijakan | D6: =GapAnalysisChecklist!E6 -> OFI | E6: =GapAnalysisChecklist!G6 -> telah disahkan oleh pimpinan tertinggi tapi belum bersifat dinamis | J6: =IF(D6="Comply",1,0) -> 0 | K6: =IF(J6=1,"Completed","On Track") -> On Track
A7: =GapAnalysisChecklist!A7 -> 4 | B7: =GapAnalysisChecklist!B7 -> I.4_Komunikasi Kebijakan | C7: =GapAnalysisChecklist!C7 -> I. Kebijakan | D7: =GapAnalysisChecklist!E7 -> Comply | E7: =GapAnalysisChecklist!G7 -> 0 | J7: =IF(D7="Comply",1,0) -> 1 | K7: =IF(J7=1,"Completed","On Track") -> Completed
A8: =GapAnalysisChecklist!A8 -> 5 | B8: =GapAnalysisChecklist!B8 -> I.5_Tinjauan Kebijakan | C8: =GapAnalysisChecklist!C8 -> I. Kebijakan | D8: =GapAnalysisChecklist!E8 -> Comply | E8: =GapAnalysisChecklist!G8 -> 0 | J8: =IF(D8="Comply",1,0) -> 1 | K8: =IF(J8=1,"Completed","On Track") -> Completed
A9: =GapAnalysisChecklist!A9 -> 6 | B9: =GapAnalysisChecklist!B9 -> II.1_Penelaahan Awal | C9: =GapAnalysisChecklist!C9 -> II. Perencanaan | D9: =GapAnalysisChecklist!E9 -> Comply | E9: =GapAnalysisChecklist!G9 -> 0 | J9: =IF(D9="Comply",1,0) -> 1 | K9: =IF(J9=1,"Completed","On Track") -> Completed
A10: =GapAnalysisChecklist!A10 -> 7 | B10: =GapAnalysisChecklist!B10 -> II.2.1_Komunikasi dan Konsultasi Risiko | C10: =GapAnalysisChecklist!C10 -> II. Perencanaan | D10: =GapAnalysisChecklist!E10 -> Comply | E10: =GapAnalysisChecklist!G10 -> 0 | J10: =IF(D10="Comply",1,0) -> 1 | K10: =IF(J10=1,"Completed","On Track") -> Completed
A11: =GapAnalysisChecklist!A11 -> 8 | B11: =GapAnalysisChecklist!B11 -> II.2.2_Penetapan Konteks Risiko | C11: =GapAnalysisChecklist!C11 -> II. Perencanaan | D11: =GapAnalysisChecklist!E11 -> Comply | E11: =GapAnalysisChecklist!G11 -> 0 | J11: =IF(D11="Comply",1,0) -> 1 | K11: =IF(J11=1,"Completed","On Track") -> Completed
A12: =GapAnalysisChecklist!A12 -> 9 | B12: =GapAnalysisChecklist!B12 -> II.2.3_Identifikasi Bahaya | C12: =GapAnalysisChecklist!C12 -> II. Perencanaan | D12: =GapAnalysisChecklist!E12 -> Comply | E12: =GapAnalysisChecklist!G12 -> 0 | J12: =IF(D12="Comply",1,0) -> 1 | K12: =IF(J12=1,"Completed","On Track") -> Completed
A13: =GapAnalysisChecklist!A13 -> 10 | B13: =GapAnalysisChecklist!B13 -> II.2.4_Penilaian dan Pengendalian Risiko | C13: =GapAnalysisChecklist!C13 -> II. Perencanaan | D13: =GapAnalysisChecklist!E13 -> Comply | E13: =GapAnalysisChecklist!G13 -> 0 | J13: =IF(D13="Comply",1,0) -> 1 | K13: =IF(J13=1,"Completed","On Track") -> Completed
A14: =GapAnalysisChecklist!A14 -> 11 | B14: =GapAnalysisChecklist!B14 -> II.2.5_Pemantauan dan Peninjauan | C14: =GapAnalysisChecklist!C14 -> II. Perencanaan | D14: =GapAnalysisChecklist!E14 -> Comply | E14: =GapAnalysisChecklist!G14 -> 0 | J14: =IF(D14="Comply",1,0) -> 1 | K14: =IF(J14=1,"Completed","On Track") -> Completed
A15: =GapAnalysisChecklist!A15 -> 12 | B15: =GapAnalysisChecklist!B15 -> II.3_Identifikasi dan Kepatuhan Terhadap Ketentuan Peraturan Perundang-undangan dan Persyaratan Lainnya yang Terkait | C15: =GapAnalysisChecklist!C15 -> II. Perencanaan | D15: =GapAnalysisChecklist!E15 -> Comply | E15: =GapAnalysisChecklist!G15 -> 0 | J15: =IF(D15="Comply",1,0) -> 1 | K15: =IF(J15=1,"Completed","On Track") -> Completed
... A102: =GapAnalysisChecklist!A102 -> 99 | B102: =GapAnalysisChecklist!B102 -> VII.6_Penggunaan Tinjauan Hasil dari Tindak Lanjut Rencana Perbaikan dalam Penentuan Kebijakan | C102: =GapAnalysisChecklist!C102 -> VII. Tinjauan Manajemen dan Peningkatan Kinerja | D102: =GapAnalysisChecklist!E102 -> Comply | E102: =GapAnalysisChecklist!G102 -> 0 | J102: =IF(D102="Comply",1,0) -> 1 | K102: =IF(J102=1,"Completed","On Track") -> Completed

Sheet ImplementationProgress
B1: Implementation Progress by Elemen
B3: Row Labels | C3: Average of Progress
B4: I. Kebijakan | C4: 0.6
B5: II. Perencanaan | C5: 1
B6: III. Organisasi dan Personel | C6: 1
B7: IV. Implementasi | C7: 1
B8: V. Pemantauan, Evaluasi, dan Tindak Lanjut | C8: 1
B9: VI. Dokumentasi | C9: 1
B10: VII. Tinjauan Manajemen dan Peningkatan Kinerja | C10: 1
B11: Grand Total | C11: 0.97979798
B13: Implementation Progress by Sub Elemen
B15: Row Labels | C15: Average of Progress
B16: I.1_Penyusunan Kebijakan | C16: 1
B17: I.2_lsi Kebijakan | C17: 0
B18: I.3_Penetapan Kebijakan | C18: 0
B19: I.4_Komunikasi Kebijakan | C19: 1
B20: I.5_Tinjauan Kebijakan | C20: 1
B21: II.1_Penelaahan Awal | C21: 1
B22: II.2.1_Komunikasi dan Konsultasi Risiko | C22: 1
B23: II.2.2_Penetapan Konteks Risiko | C23: 1
B24: II.2.3_Identifikasi Bahaya | C24: 1
B25: II.2.4_Penilaian dan Pengendalian Risiko | C25: 1
B26: II.2.5_Pemantauan dan Peninjauan | C26: 1
B27: II.3_Identifikasi dan Kepatuhan Terhadap Ketentuan Peraturan Perundang-undangan dan Persyaratan Lainnya yang Terkait | C27: 1
... B115: Grand Total | C115: 0.97979798
